BEGIN:VCALENDAR
VERSION:2.0
PRODID:-//The Kerr County Lead - ECPv6.15.17.1//NONSGML v1.0//EN
CALSCALE:GREGORIAN
METHOD:PUBLISH
X-ORIGINAL-URL:https://kerrcountylead.com
X-WR-CALDESC:Events for The Kerr County Lead
REFRESH-INTERVAL;VALUE=DURATION:PT1H
X-Robots-Tag:noindex
X-PUBLISHED-TTL:PT1H
BEGIN:VTIMEZONE
TZID:America/Chicago
BEGIN:DAYLIGHT
TZOFFSETFROM:-0600
TZOFFSETTO:-0500
TZNAME:CDT
DTSTART:20230312T080000
END:DAYLIGHT
BEGIN:STANDARD
TZOFFSETFROM:-0500
TZOFFSETTO:-0600
TZNAME:CST
DTSTART:20231105T070000
END:STANDARD
BEGIN:DAYLIGHT
TZOFFSETFROM:-0600
TZOFFSETTO:-0500
TZNAME:CDT
DTSTART:20240310T080000
END:DAYLIGHT
BEGIN:STANDARD
TZOFFSETFROM:-0500
TZOFFSETTO:-0600
TZNAME:CST
DTSTART:20241103T070000
END:STANDARD
BEGIN:DAYLIGHT
TZOFFSETFROM:-0600
TZOFFSETTO:-0500
TZNAME:CDT
DTSTART:20250309T080000
END:DAYLIGHT
BEGIN:STANDARD
TZOFFSETFROM:-0500
TZOFFSETTO:-0600
TZNAME:CST
DTSTART:20251102T070000
END:STANDARD
END:VTIMEZONE
BEGIN:VEVENT
DTSTART;TZID=America/Chicago:20240425T080000
DTEND;TZID=America/Chicago:20240425T210000
DTSTAMP:20260424T053141
CREATED:20240401T234546Z
LAST-MODIFIED:20240401T234546Z
UID:49251-1714032000-1714078800@kerrcountylead.com
SUMMARY:Big Seed Exhibit: Artistic Synergy
DESCRIPTION:
URL:https://kerrcountylead.com/event/big-seed-exhibit-artistic-synergy-20/
LOCATION:Pint & Plow Brewing Co.\, 332 Clay St\, Kerrville\, Texas\, 78028
CATEGORIES:The arts
END:VEVENT
BEGIN:VEVENT
DTSTART;TZID=America/Chicago:20240425T090000
DTEND;TZID=America/Chicago:20240425T170000
DTSTAMP:20260424T053141
CREATED:20240420T180940Z
LAST-MODIFIED:20240420T180940Z
UID:50123-1714035600-1714064400@kerrcountylead.com
SUMMARY:Retirement Sale
DESCRIPTION:Keith Chatham is retiring\, and that means everything in the shop is on sale!
URL:https://kerrcountylead.com/event/retirement-sale-4/
LOCATION:PrecisionFit Golf\, 1450 Sidney Baker St\, Kerrville\, TX\, 78028
CATEGORIES:Shows and sales
END:VEVENT
BEGIN:VEVENT
DTSTART;TZID=America/Chicago:20240425T100000
DTEND;TZID=America/Chicago:20240425T160000
DTSTAMP:20260424T053141
CREATED:20240410T202528Z
LAST-MODIFIED:20240410T202528Z
UID:49725-1714039200-1714060800@kerrcountylead.com
SUMMARY:KACC Art Exhibits
DESCRIPTION:Derby Gallery – Carlos Moseley & Gerald Tobola\, Avery Gallery – Guadalupe Watercolor Group\, Cornels Gallery – SU Senior Graphic Arts Projects. 
URL:https://kerrcountylead.com/event/kacc-art-exhibits-202/
LOCATION:Kerr Arts & Cultural Center\, 228 Earl Garrett St.\, Kerrville\, Texas\, 78028
CATEGORIES:The arts
END:VEVENT
BEGIN:VEVENT
DTSTART;TZID=America/Chicago:20240425T100000
DTEND;TZID=America/Chicago:20240425T180000
DTSTAMP:20260424T053141
CREATED:20240401T225707Z
LAST-MODIFIED:20240401T225707Z
UID:49199-1714039200-1714068000@kerrcountylead.com
SUMMARY:Our Place in Space @ RNC
DESCRIPTION:Come see the constellations in our planetarium\, learn about conserving our night skies and about our place in space!
URL:https://kerrcountylead.com/event/our-place-in-space-rnc-21/
LOCATION:Riverside Nature Center\, 150 Francisco Lemos St\, Kerrville\, Texas\, 78028
CATEGORIES:Science and nature
END:VEVENT
BEGIN:VEVENT
DTSTART;TZID=America/Chicago:20240425T120000
DTEND;TZID=America/Chicago:20240425T130000
DTSTAMP:20260424T053141
CREATED:20240417T203436Z
LAST-MODIFIED:20240417T204035Z
UID:50044-1714046400-1714050000@kerrcountylead.com
SUMMARY:Talking Texas Book Club: Field Trip!
DESCRIPTION:The book club will meet on the SU campus for a tour of The Texas Center. 
URL:https://kerrcountylead.com/event/talking-texas-book-club-field-trip/
LOCATION:Schreiner University\, 2100 Memorial Blvd\, Kerrville\, Texas\, 78028
CATEGORIES:History,Library event
END:VEVENT
BEGIN:VEVENT
DTSTART;TZID=America/Chicago:20240425T120000
DTEND;TZID=America/Chicago:20240425T130000
DTSTAMP:20260424T053141
CREATED:20240420T181130Z
LAST-MODIFIED:20240420T181130Z
UID:50127-1714046400-1714050000@kerrcountylead.com
SUMMARY:Adult ADHD
DESCRIPTION:Two free educational sessions presented by Dr. Caroline Williams\, PhD. 
URL:https://kerrcountylead.com/event/adult-adhd/
LOCATION:Dietert Center\, 451 Guadalupe St #203\, Kerrville\, Texas\, 78028
CATEGORIES:Outreach groups
END:VEVENT
BEGIN:VEVENT
DTSTART;TZID=America/Chicago:20240425T170000
DTEND;TZID=America/Chicago:20240425T210000
DTSTAMP:20260424T053141
CREATED:20240417T203628Z
LAST-MODIFIED:20240417T203924Z
UID:50046-1714064400-1714078800@kerrcountylead.com
SUMMARY:Shim’s Be Blessed: Burger Night!
DESCRIPTION:Burger Night at Trailhead! Shim’s will be serving burgers: 2 for $20 and Trailhead will have $4 P&P pints.
URL:https://kerrcountylead.com/event/shims-be-blessed-burger-night-16/
LOCATION:Trailhead Beer Garden\, 2100 Memorial Blvd Bldg #11\, Kerrville\, TX\, 78028\, United States
CATEGORIES:Food truck 411
END:VEVENT
BEGIN:VEVENT
DTSTART;TZID=America/Chicago:20240425T170000
DTEND;TZID=America/Chicago:20240425T210000
DTSTAMP:20260424T053141
CREATED:20240423T215812Z
LAST-MODIFIED:20240423T215812Z
UID:50362-1714064400-1714078800@kerrcountylead.com
SUMMARY:Munchy Machine
DESCRIPTION:
URL:https://kerrcountylead.com/event/munchy-machine-46/
LOCATION:Basement Brewers of Texas\, 521 Clay St\, Kerrville\, TX\, 78028
CATEGORIES:Food truck 411
END:VEVENT
BEGIN:VEVENT
DTSTART;TZID=America/Chicago:20240425T173000
DTEND;TZID=America/Chicago:20240425T183000
DTSTAMP:20260424T053141
CREATED:20240420T181210Z
LAST-MODIFIED:20240420T181210Z
UID:50129-1714066200-1714069800@kerrcountylead.com
SUMMARY:Adult ADHD
DESCRIPTION:Two free educational sessions presented by Dr. Caroline Williams\, PhD. 
URL:https://kerrcountylead.com/event/adult-adhd-2/
LOCATION:Dietert Center\, 451 Guadalupe St #203\, Kerrville\, Texas\, 78028
CATEGORIES:Outreach groups
END:VEVENT
BEGIN:VEVENT
DTSTART;TZID=America/Chicago:20240425T180000
DTEND;TZID=America/Chicago:20240425T180000
DTSTAMP:20260424T053141
CREATED:20240417T203723Z
LAST-MODIFIED:20240417T203744Z
UID:50048-1714068000-1714068000@kerrcountylead.com
SUMMARY:Open Mic Night
DESCRIPTION:
URL:https://kerrcountylead.com/event/open-mic-night-42/
LOCATION:Gravity Check Saloon\, 3979 Bandera Hwy 173\, Kerrville\, TX\, 78028\, United States
CATEGORIES:Live music
END:VEVENT
BEGIN:VEVENT
DTSTART;TZID=America/Chicago:20240425T190000
DTEND;TZID=America/Chicago:20240425T190000
DTSTAMP:20260424T053141
CREATED:20240417T204310Z
LAST-MODIFIED:20240417T204310Z
UID:50050-1714071600-1714071600@kerrcountylead.com
SUMMARY:Symphony of the Hills: Larger Than Life
DESCRIPTION:Reception at 6 p.m.\, concert at 7 p.m. The final concert of the season will feature performances of Elgar – Enigma Variations\, Pachelbel – Canon in D\, and conclude with a solo by Dr. Don Crandall performing Tchaikovsky’s Piano Concerto No. 1. To purchase tickets online\, click here. 
URL:https://kerrcountylead.com/event/symphony-of-the-hills-larger-than-life/
LOCATION:Cailloux Theater\, 910 Main St.\, Kerrville\, Texas\, 78028
CATEGORIES:Performing arts
END:VEVENT
BEGIN:VEVENT
DTSTART;TZID=America/Chicago:20240425T193000
DTEND;TZID=America/Chicago:20240425T193000
DTSTAMP:20260424T053141
CREATED:20240421T153537Z
LAST-MODIFIED:20240421T153537Z
UID:50240-1714073400-1714073400@kerrcountylead.com
SUMMARY:Hill Country Micro School Presents: Peter Pan
DESCRIPTION:
URL:https://kerrcountylead.com/event/hill-country-micro-school-presents-peter-pan/
LOCATION:The Arcadia Live\, 717 Water St\, Kerrville\, TX\, 78028\, United States
CATEGORIES:Performing arts
END:VEVENT
END:VCALENDAR