BEGIN:VCALENDAR
VERSION:2.0
PRODID:-//The Kerr County Lead - ECPv6.15.17.1//NONSGML v1.0//EN
CALSCALE:GREGORIAN
METHOD:PUBLISH
X-WR-CALNAME:The Kerr County Lead
X-ORIGINAL-URL:https://kerrcountylead.com
X-WR-CALDESC:Events for The Kerr County Lead
REFRESH-INTERVAL;VALUE=DURATION:PT1H
X-Robots-Tag:noindex
X-PUBLISHED-TTL:PT1H
BEGIN:VTIMEZONE
TZID:America/Chicago
BEGIN:DAYLIGHT
TZOFFSETFROM:-0600
TZOFFSETTO:-0500
TZNAME:CDT
DTSTART:20230312T080000
END:DAYLIGHT
BEGIN:STANDARD
TZOFFSETFROM:-0500
TZOFFSETTO:-0600
TZNAME:CST
DTSTART:20231105T070000
END:STANDARD
BEGIN:DAYLIGHT
TZOFFSETFROM:-0600
TZOFFSETTO:-0500
TZNAME:CDT
DTSTART:20240310T080000
END:DAYLIGHT
BEGIN:STANDARD
TZOFFSETFROM:-0500
TZOFFSETTO:-0600
TZNAME:CST
DTSTART:20241103T070000
END:STANDARD
BEGIN:DAYLIGHT
TZOFFSETFROM:-0600
TZOFFSETTO:-0500
TZNAME:CDT
DTSTART:20250309T080000
END:DAYLIGHT
BEGIN:STANDARD
TZOFFSETFROM:-0500
TZOFFSETTO:-0600
TZNAME:CST
DTSTART:20251102T070000
END:STANDARD
END:VTIMEZONE
BEGIN:VEVENT
DTSTART;TZID=America/Chicago:20240619T100000
DTEND;TZID=America/Chicago:20240619T100000
DTSTAMP:20260421T090450
CREATED:20240615T192706Z
LAST-MODIFIED:20240615T192706Z
UID:53223-1718791200-1718791200@kerrcountylead.com
SUMMARY:The Astonishing Mr Pitts
DESCRIPTION:
URL:https://kerrcountylead.com/event/the-astonishing-mr-pitts/
LOCATION:Cailloux Theater\, 910 Main St.\, Kerrville\, Texas\, 78028
CATEGORIES:Library event
END:VEVENT
BEGIN:VEVENT
DTSTART;TZID=America/Chicago:20240619T100000
DTEND;TZID=America/Chicago:20240619T160000
DTSTAMP:20260421T090450
CREATED:20240530T223052Z
LAST-MODIFIED:20240530T223052Z
UID:52441-1718791200-1718812800@kerrcountylead.com
SUMMARY:Texas Watercolor Society Annual Show
DESCRIPTION:
URL:https://kerrcountylead.com/event/texas-watercolor-society-annual-show-41/
LOCATION:Hill Country Arts Foundation\, 120 Point Theatre Rd S\, Ingram\, Texas\, 78025
CATEGORIES:The arts
END:VEVENT
BEGIN:VEVENT
DTSTART;TZID=America/Chicago:20240619T100000
DTEND;TZID=America/Chicago:20240619T160000
DTSTAMP:20260421T090450
CREATED:20240530T225543Z
LAST-MODIFIED:20240530T225543Z
UID:52476-1718791200-1718812800@kerrcountylead.com
SUMMARY:Kerrville 101 @ KRHC
DESCRIPTION:A standing exhibit that provides an introduction to local history and stories.
URL:https://kerrcountylead.com/event/kerrville-101-krhc-147/
LOCATION:Kerr Regional History Center\, 425 Water St.\, Kerrville\, TX\, 78028\, United States
CATEGORIES:History
END:VEVENT
BEGIN:VEVENT
DTSTART;TZID=America/Chicago:20240619T100000
DTEND;TZID=America/Chicago:20240619T160000
DTSTAMP:20260421T090450
CREATED:20240531T000309Z
LAST-MODIFIED:20240531T000309Z
UID:52526-1718791200-1718812800@kerrcountylead.com
SUMMARY:KACC Art Exhibits
DESCRIPTION:Monday Artists\, Prima Facie/first impressions\, Southwest Gourd & Fiber Fine Art Show. Through June 29.
URL:https://kerrcountylead.com/event/kacc-art-exhibits-239/
LOCATION:Kerr Arts & Cultural Center\, 228 Earl Garrett St.\, Kerrville\, Texas\, 78028
CATEGORIES:The arts
END:VEVENT
BEGIN:VEVENT
DTSTART;TZID=America/Chicago:20240619T100000
DTEND;TZID=America/Chicago:20240619T180000
DTSTAMP:20260421T090450
CREATED:20240529T193432Z
LAST-MODIFIED:20240529T193432Z
UID:52372-1718791200-1718820000@kerrcountylead.com
SUMMARY:Our Place in Space
DESCRIPTION:Come see the constellations in our planetarium\, learn about conserving our night skies and about our place in space!
URL:https://kerrcountylead.com/event/our-place-in-space-50/
LOCATION:Riverside Nature Center\, 150 Francisco Lemos St\, Kerrville\, Texas\, 78028
CATEGORIES:Science and nature
END:VEVENT
BEGIN:VEVENT
DTSTART;TZID=America/Chicago:20240619T101500
DTEND;TZID=America/Chicago:20240619T101500
DTSTAMP:20260421T090450
CREATED:20240615T192603Z
LAST-MODIFIED:20240615T192603Z
UID:53221-1718792100-1718792100@kerrcountylead.com
SUMMARY:Wednesday with Woodrow: Dream Catchers
DESCRIPTION:
URL:https://kerrcountylead.com/event/wednesday-with-woodrow-dream-catchers/
LOCATION:The Ridge Marketplace\, 13439 S Ranch Road 783\, Kerrville\, TX\, 78028
CATEGORIES:Crafts
END:VEVENT
BEGIN:VEVENT
DTSTART;TZID=America/Chicago:20240619T120000
DTEND;TZID=America/Chicago:20240619T130000
DTSTAMP:20260421T090450
CREATED:20240615T192832Z
LAST-MODIFIED:20240615T192832Z
UID:53225-1718798400-1718802000@kerrcountylead.com
SUMMARY:NPSOT Book Club
DESCRIPTION:The club will discuss “Landscaping with Texas Native Plants” by Sally Wassowski. 
URL:https://kerrcountylead.com/event/npsot-book-club-6/
LOCATION:Butt-Holdsworth Memorial Library\, 505 Water St.\, Kerrville\, Texas\, 78028
CATEGORIES:Library event,Science and nature
END:VEVENT
BEGIN:VEVENT
DTSTART;TZID=America/Chicago:20240619T130000
DTEND;TZID=America/Chicago:20240619T150000
DTSTAMP:20260421T090450
CREATED:20240615T192921Z
LAST-MODIFIED:20240615T192921Z
UID:53227-1718802000-1718809200@kerrcountylead.com
SUMMARY:Friends of the Library Book Sale
DESCRIPTION:
URL:https://kerrcountylead.com/event/friends-of-the-library-book-sale-80/
LOCATION:Butt-Holdsworth Memorial Library\, 505 Water St.\, Kerrville\, Texas\, 78028
CATEGORIES:Library event
END:VEVENT
BEGIN:VEVENT
DTSTART;TZID=America/Chicago:20240619T153000
DTEND;TZID=America/Chicago:20240619T163000
DTSTAMP:20260421T090450
CREATED:20240615T193019Z
LAST-MODIFIED:20240615T193019Z
UID:53229-1718811000-1718814600@kerrcountylead.com
SUMMARY:Movie Chat
DESCRIPTION:This month’s movie selection is “Moonrise Kingdom.”
URL:https://kerrcountylead.com/event/movie-chat-16/
LOCATION:Butt-Holdsworth Memorial Library\, 505 Water St.\, Kerrville\, Texas\, 78028
CATEGORIES:Library event
END:VEVENT
BEGIN:VEVENT
DTSTART;TZID=America/Chicago:20240619T170000
DTEND;TZID=America/Chicago:20240619T210000
DTSTAMP:20260421T090450
CREATED:20240615T193234Z
LAST-MODIFIED:20240615T193234Z
UID:53233-1718816400-1718830800@kerrcountylead.com
SUMMARY:Shim’s Be Blessed: Pizza Night!
DESCRIPTION:Pizza Night at Trailhead! Shim’s will be serving wood-fired pizzas and Trailhead will have $20 bottles of Texas wines.
URL:https://kerrcountylead.com/event/shims-be-blessed-pizza-night-25/
LOCATION:Trailhead Beer Garden\, 2100 Memorial Blvd Bldg #11\, Kerrville\, TX\, 78028\, United States
CATEGORIES:Food truck 411
END:VEVENT
BEGIN:VEVENT
DTSTART;TZID=America/Chicago:20240619T180000
DTEND;TZID=America/Chicago:20240619T180000
DTSTAMP:20260421T090450
CREATED:20240615T193128Z
LAST-MODIFIED:20240615T193128Z
UID:53231-1718820000-1718820000@kerrcountylead.com
SUMMARY:NEd +: Author Talk
DESCRIPTION:Bob Spain and Joy Emshoff present their books on canoeing and waterways. Please register to attend.
URL:https://kerrcountylead.com/event/ned-author-talk/
LOCATION:Riverside Nature Center\, 150 Francisco Lemos St\, Kerrville\, Texas\, 78028
CATEGORIES:Science and nature
END:VEVENT
END:VCALENDAR