BEGIN:VCALENDAR
VERSION:2.0
PRODID:-//The Kerr County Lead - ECPv6.15.17.1//NONSGML v1.0//EN
CALSCALE:GREGORIAN
METHOD:PUBLISH
X-ORIGINAL-URL:https://kerrcountylead.com
X-WR-CALDESC:Events for The Kerr County Lead
REFRESH-INTERVAL;VALUE=DURATION:PT1H
X-Robots-Tag:noindex
X-PUBLISHED-TTL:PT1H
BEGIN:VTIMEZONE
TZID:America/Chicago
BEGIN:DAYLIGHT
TZOFFSETFROM:-0600
TZOFFSETTO:-0500
TZNAME:CDT
DTSTART:20230312T080000
END:DAYLIGHT
BEGIN:STANDARD
TZOFFSETFROM:-0500
TZOFFSETTO:-0600
TZNAME:CST
DTSTART:20231105T070000
END:STANDARD
BEGIN:DAYLIGHT
TZOFFSETFROM:-0600
TZOFFSETTO:-0500
TZNAME:CDT
DTSTART:20240310T080000
END:DAYLIGHT
BEGIN:STANDARD
TZOFFSETFROM:-0500
TZOFFSETTO:-0600
TZNAME:CST
DTSTART:20241103T070000
END:STANDARD
BEGIN:DAYLIGHT
TZOFFSETFROM:-0600
TZOFFSETTO:-0500
TZNAME:CDT
DTSTART:20250309T080000
END:DAYLIGHT
BEGIN:STANDARD
TZOFFSETFROM:-0500
TZOFFSETTO:-0600
TZNAME:CST
DTSTART:20251102T070000
END:STANDARD
END:VTIMEZONE
BEGIN:VEVENT
DTSTART;TZID=America/Chicago:20240618T100000
DTEND;TZID=America/Chicago:20240618T103000
DTSTAMP:20260421T105323
CREATED:20240615T191930Z
LAST-MODIFIED:20240615T191930Z
UID:53207-1718704800-1718706600@kerrcountylead.com
SUMMARY:Story Time
DESCRIPTION:
URL:https://kerrcountylead.com/event/story-time-38/
LOCATION:Butt-Holdsworth Memorial Library\, 505 Water St.\, Kerrville\, Texas\, 78028
CATEGORIES:Library event
END:VEVENT
BEGIN:VEVENT
DTSTART;TZID=America/Chicago:20240618T103000
DTEND;TZID=America/Chicago:20240618T110000
DTSTAMP:20260421T105323
CREATED:20240615T192013Z
LAST-MODIFIED:20240615T192013Z
UID:53209-1718706600-1718708400@kerrcountylead.com
SUMMARY:Calm & Color
DESCRIPTION:
URL:https://kerrcountylead.com/event/calm-color-11/
LOCATION:Butt-Holdsworth Memorial Library\, 505 Water St.\, Kerrville\, Texas\, 78028
CATEGORIES:Library event
END:VEVENT
BEGIN:VEVENT
DTSTART;TZID=America/Chicago:20240618T140000
DTEND;TZID=America/Chicago:20240618T150000
DTSTAMP:20260421T105323
CREATED:20240615T192133Z
LAST-MODIFIED:20240615T192133Z
UID:53211-1718719200-1718722800@kerrcountylead.com
SUMMARY:Adventure Time with the Magic Tree House: Paper Bag Nature Journal: Session 1
DESCRIPTION:Registration required. For more info and to register\, click here.
URL:https://kerrcountylead.com/event/adventure-time-with-the-magic-tree-house-paper-bag-nature-journal-session-1/
LOCATION:Butt-Holdsworth Memorial Library\, 505 Water St.\, Kerrville\, Texas\, 78028
CATEGORIES:Library event
END:VEVENT
BEGIN:VEVENT
DTSTART;TZID=America/Chicago:20240618T183000
DTEND;TZID=America/Chicago:20240618T183000
DTSTAMP:20260421T105323
CREATED:20240615T192216Z
LAST-MODIFIED:20240615T192216Z
UID:53213-1718735400-1718735400@kerrcountylead.com
SUMMARY:Poetry & Prose Group
DESCRIPTION:
URL:https://kerrcountylead.com/event/poetry-prose-group/
LOCATION:Butt-Holdsworth Memorial Library\, 505 Water St.\, Kerrville\, Texas\, 78028
CATEGORIES:Library event
END:VEVENT
END:VCALENDAR