BEGIN:VCALENDAR
VERSION:2.0
PRODID:-//The Kerr County Lead - ECPv6.15.17.1//NONSGML v1.0//EN
CALSCALE:GREGORIAN
METHOD:PUBLISH
X-ORIGINAL-URL:https://kerrcountylead.com
X-WR-CALDESC:Events for The Kerr County Lead
REFRESH-INTERVAL;VALUE=DURATION:PT1H
X-Robots-Tag:noindex
X-PUBLISHED-TTL:PT1H
BEGIN:VTIMEZONE
TZID:America/Chicago
BEGIN:DAYLIGHT
TZOFFSETFROM:-0600
TZOFFSETTO:-0500
TZNAME:CDT
DTSTART:20230312T080000
END:DAYLIGHT
BEGIN:STANDARD
TZOFFSETFROM:-0500
TZOFFSETTO:-0600
TZNAME:CST
DTSTART:20231105T070000
END:STANDARD
BEGIN:DAYLIGHT
TZOFFSETFROM:-0600
TZOFFSETTO:-0500
TZNAME:CDT
DTSTART:20240310T080000
END:DAYLIGHT
BEGIN:STANDARD
TZOFFSETFROM:-0500
TZOFFSETTO:-0600
TZNAME:CST
DTSTART:20241103T070000
END:STANDARD
BEGIN:DAYLIGHT
TZOFFSETFROM:-0600
TZOFFSETTO:-0500
TZNAME:CDT
DTSTART:20250309T080000
END:DAYLIGHT
BEGIN:STANDARD
TZOFFSETFROM:-0500
TZOFFSETTO:-0600
TZNAME:CST
DTSTART:20251102T070000
END:STANDARD
END:VTIMEZONE
BEGIN:VEVENT
DTSTART;TZID=America/Chicago:20240914T100000
DTEND;TZID=America/Chicago:20240914T160000
DTSTAMP:20260423T181052
CREATED:20240909T193738Z
LAST-MODIFIED:20240909T193738Z
UID:56650-1726308000-1726329600@kerrcountylead.com
SUMMARY:Friends of the Library Book Sale
DESCRIPTION:
URL:https://kerrcountylead.com/event/friends-of-the-library-book-sale-95/
LOCATION:Butt-Holdsworth Memorial Library\, 505 Water St.\, Kerrville\, Texas\, 78028
CATEGORIES:Library event
END:VEVENT
BEGIN:VEVENT
DTSTART;TZID=America/Chicago:20240914T103000
DTEND;TZID=America/Chicago:20240914T113000
DTSTAMP:20260423T181052
CREATED:20240909T193857Z
LAST-MODIFIED:20240909T193857Z
UID:56652-1726309800-1726313400@kerrcountylead.com
SUMMARY:Gardening 101: Herbs
DESCRIPTION:
URL:https://kerrcountylead.com/event/gardening-101-herbs/
LOCATION:Butt-Holdsworth Memorial Library\, 505 Water St.\, Kerrville\, Texas\, 78028
CATEGORIES:Library event,Science and nature
END:VEVENT
BEGIN:VEVENT
DTSTART;TZID=America/Chicago:20240917T100000
DTEND;TZID=America/Chicago:20240917T110000
DTSTAMP:20260423T181052
CREATED:20240916T151022Z
LAST-MODIFIED:20240916T151022Z
UID:56986-1726567200-1726570800@kerrcountylead.com
SUMMARY:Lap-Sit Story Time
DESCRIPTION:A story time program for ages 3 and under with songs\, rhymes\, and playtime.
URL:https://kerrcountylead.com/event/lap-sit-story-time-41/
LOCATION:Butt-Holdsworth Memorial Library\, 505 Water St.\, Kerrville\, Texas\, 78028
CATEGORIES:Library event
END:VEVENT
BEGIN:VEVENT
DTSTART;TZID=America/Chicago:20240917T173000
DTEND;TZID=America/Chicago:20240917T183000
DTSTAMP:20260423T181052
CREATED:20240916T152035Z
LAST-MODIFIED:20240916T152035Z
UID:57002-1726594200-1726597800@kerrcountylead.com
SUMMARY:Prose & Poetry Group
DESCRIPTION:“Love” is the theme this month.
URL:https://kerrcountylead.com/event/prose-poetry-group-3/
LOCATION:Butt-Holdsworth Memorial Library\, 505 Water St.\, Kerrville\, Texas\, 78028
CATEGORIES:Library event
END:VEVENT
BEGIN:VEVENT
DTSTART;TZID=America/Chicago:20240918T100000
DTEND;TZID=America/Chicago:20240918T110000
DTSTAMP:20260423T181052
CREATED:20240916T234207Z
LAST-MODIFIED:20240916T234207Z
UID:57008-1726653600-1726657200@kerrcountylead.com
SUMMARY:Yoga Story Time with Humbling Bloom
DESCRIPTION:Story time followed by gentle yoga stretches. For ages 3 and up. 
URL:https://kerrcountylead.com/event/yoga-story-time-with-humbling-bloom-9/
LOCATION:Butt-Holdsworth Memorial Library\, 505 Water St.\, Kerrville\, Texas\, 78028
CATEGORIES:Library event
END:VEVENT
BEGIN:VEVENT
DTSTART;TZID=America/Chicago:20240918T120000
DTEND;TZID=America/Chicago:20240918T130000
DTSTAMP:20260423T181052
CREATED:20240916T234323Z
LAST-MODIFIED:20240916T234323Z
UID:57010-1726660800-1726664400@kerrcountylead.com
SUMMARY:NPSOT Book Club
DESCRIPTION:The club will discuss “Armadillos to Ziziphus: A Naturalist in the Texas Hill Country” by David Hillis.
URL:https://kerrcountylead.com/event/npsot-book-club-8/
LOCATION:Butt-Holdsworth Memorial Library\, 505 Water St.\, Kerrville\, Texas\, 78028
CATEGORIES:Library event
END:VEVENT
BEGIN:VEVENT
DTSTART;TZID=America/Chicago:20240918T130000
DTEND;TZID=America/Chicago:20240918T150000
DTSTAMP:20260423T181052
CREATED:20240916T234409Z
LAST-MODIFIED:20240916T234409Z
UID:57012-1726664400-1726671600@kerrcountylead.com
SUMMARY:Friends of the Library Book Sale
DESCRIPTION:
URL:https://kerrcountylead.com/event/friends-of-the-library-book-sale-96/
LOCATION:Butt-Holdsworth Memorial Library\, 505 Water St.\, Kerrville\, Texas\, 78028
CATEGORIES:Library event
END:VEVENT
BEGIN:VEVENT
DTSTART;TZID=America/Chicago:20240918T153000
DTEND;TZID=America/Chicago:20240918T153000
DTSTAMP:20260423T181052
CREATED:20240916T234511Z
LAST-MODIFIED:20240916T234511Z
UID:57014-1726673400-1726673400@kerrcountylead.com
SUMMARY:Movie Chat
DESCRIPTION:This month’s movie selection is “Breaker Morant.”
URL:https://kerrcountylead.com/event/movie-chat-19/
LOCATION:Butt-Holdsworth Memorial Library\, 505 Water St.\, Kerrville\, Texas\, 78028
CATEGORIES:Library event
END:VEVENT
BEGIN:VEVENT
DTSTART;TZID=America/Chicago:20240919T120000
DTEND;TZID=America/Chicago:20240919T130000
DTSTAMP:20260423T181052
CREATED:20240917T200316Z
LAST-MODIFIED:20240917T200316Z
UID:57047-1726747200-1726750800@kerrcountylead.com
SUMMARY:Shrouded in Mystery Book Club
DESCRIPTION:The group will discuss “Identity” by Nora Roberts.
URL:https://kerrcountylead.com/event/shrouded-in-mystery-book-club-14/
LOCATION:Butt-Holdsworth Memorial Library\, 505 Water St.\, Kerrville\, Texas\, 78028
CATEGORIES:Library event
END:VEVENT
BEGIN:VEVENT
DTSTART;TZID=America/Chicago:20240919T160000
DTEND;TZID=America/Chicago:20240919T170000
DTSTAMP:20260423T181052
CREATED:20240917T200400Z
LAST-MODIFIED:20240917T200400Z
UID:57049-1726761600-1726765200@kerrcountylead.com
SUMMARY:Talk Like a Pirate Day Party
DESCRIPTION:
URL:https://kerrcountylead.com/event/talk-like-a-pirate-day-party/
LOCATION:Butt-Holdsworth Memorial Library\, 505 Water St.\, Kerrville\, Texas\, 78028
CATEGORIES:Library event
END:VEVENT
BEGIN:VEVENT
DTSTART;TZID=America/Chicago:20240920T103000
DTEND;TZID=America/Chicago:20240920T113000
DTSTAMP:20260423T181052
CREATED:20240917T204211Z
LAST-MODIFIED:20240917T204211Z
UID:57057-1726828200-1726831800@kerrcountylead.com
SUMMARY:Library Day @ Doyle
DESCRIPTION:
URL:https://kerrcountylead.com/event/library-day-doyle-3/
LOCATION:Doyle Community Center\, 110 W. Barnett St.\, Kerrville\, Texas\, 78028
CATEGORIES:Library event,Outreach groups
END:VEVENT
BEGIN:VEVENT
DTSTART;TZID=America/Chicago:20240921T100000
DTEND;TZID=America/Chicago:20240921T103000
DTSTAMP:20260423T181052
CREATED:20240920T185023Z
LAST-MODIFIED:20240920T185023Z
UID:57104-1726912800-1726914600@kerrcountylead.com
SUMMARY:Family Storytime
DESCRIPTION:
URL:https://kerrcountylead.com/event/family-storytime-2/
LOCATION:Butt-Holdsworth Memorial Library\, 505 Water St.\, Kerrville\, Texas\, 78028
CATEGORIES:Library event
END:VEVENT
BEGIN:VEVENT
DTSTART;TZID=America/Chicago:20240921T103000
DTEND;TZID=America/Chicago:20240921T113000
DTSTAMP:20260423T181052
CREATED:20240920T185134Z
LAST-MODIFIED:20240920T185134Z
UID:57106-1726914600-1726918200@kerrcountylead.com
SUMMARY:Adult Yoga: Stretch & Relax
DESCRIPTION:Offered by Humbling Bloom.
URL:https://kerrcountylead.com/event/adult-yoga-stretch-relax-21/
LOCATION:Butt-Holdsworth Memorial Library\, 505 Water St.\, Kerrville\, Texas\, 78028
CATEGORIES:Library event,Wellness
END:VEVENT
BEGIN:VEVENT
DTSTART;TZID=America/Chicago:20240921T140000
DTEND;TZID=America/Chicago:20240921T140000
DTSTAMP:20260423T181052
CREATED:20240920T185238Z
LAST-MODIFIED:20240920T185238Z
UID:57108-1726927200-1726927200@kerrcountylead.com
SUMMARY:Taylor Swift Fan Fest
DESCRIPTION:
URL:https://kerrcountylead.com/event/taylor-swift-fan-fest/
LOCATION:Butt-Holdsworth Memorial Library\, 505 Water St.\, Kerrville\, Texas\, 78028
CATEGORIES:Library event
END:VEVENT
BEGIN:VEVENT
DTSTART;TZID=America/Chicago:20240924T173000
DTEND;TZID=America/Chicago:20240924T173000
DTSTAMP:20260423T181052
CREATED:20240923T024010Z
LAST-MODIFIED:20240923T024032Z
UID:57344-1727199000-1727199000@kerrcountylead.com
SUMMARY:Sci-Fi/Fantasy Book Club
DESCRIPTION:The group will be discussing “Sword of Shannara” by Terry Brooks.
URL:https://kerrcountylead.com/event/sci-fi-fantasy-book-club-2/
LOCATION:Butt-Holdsworth Memorial Library\, 505 Water St.\, Kerrville\, Texas\, 78028
CATEGORIES:Library event
END:VEVENT
BEGIN:VEVENT
DTSTART;TZID=America/Chicago:20240924T100000
DTEND;TZID=America/Chicago:20240924T110000
DTSTAMP:20260423T181052
CREATED:20240923T023914Z
LAST-MODIFIED:20240923T023914Z
UID:57342-1727172000-1727175600@kerrcountylead.com
SUMMARY:Lap-Sit Story Time
DESCRIPTION:A story time program for ages 3 and under with songs\, rhymes\, and playtime.
URL:https://kerrcountylead.com/event/lap-sit-story-time-42/
LOCATION:Butt-Holdsworth Memorial Library\, 505 Water St.\, Kerrville\, Texas\, 78028
CATEGORIES:Library event
END:VEVENT
BEGIN:VEVENT
DTSTART;TZID=America/Chicago:20240925T100000
DTEND;TZID=America/Chicago:20240925T110000
DTSTAMP:20260423T181052
CREATED:20240923T024326Z
LAST-MODIFIED:20240923T024326Z
UID:57352-1727258400-1727262000@kerrcountylead.com
SUMMARY:History Story Time
DESCRIPTION:
URL:https://kerrcountylead.com/event/history-story-time-5/
LOCATION:Kerr Regional History Center\, 425 Water St.\, Kerrville\, TX\, 78028\, United States
CATEGORIES:Library event
END:VEVENT
BEGIN:VEVENT
DTSTART;TZID=America/Chicago:20240925T130000
DTEND;TZID=America/Chicago:20240925T150000
DTSTAMP:20260423T181052
CREATED:20240923T024419Z
LAST-MODIFIED:20240923T024419Z
UID:57354-1727269200-1727276400@kerrcountylead.com
SUMMARY:Friends of the Library Book Sale
DESCRIPTION:
URL:https://kerrcountylead.com/event/friends-of-the-library-book-sale-97/
LOCATION:Butt-Holdsworth Memorial Library\, 505 Water St.\, Kerrville\, Texas\, 78028
CATEGORIES:Library event
END:VEVENT
BEGIN:VEVENT
DTSTART;TZID=America/Chicago:20240925T163000
DTEND;TZID=America/Chicago:20240925T174500
DTSTAMP:20260423T181052
CREATED:20240923T024516Z
LAST-MODIFIED:20240923T024516Z
UID:57356-1727281800-1727286300@kerrcountylead.com
SUMMARY:ABCDs of Medicare
DESCRIPTION:
URL:https://kerrcountylead.com/event/abcds-of-medicare-8/
LOCATION:Butt-Holdsworth Memorial Library\, 505 Water St.\, Kerrville\, Texas\, 78028
CATEGORIES:Library event
END:VEVENT
BEGIN:VEVENT
DTSTART;TZID=America/Chicago:20240926T100000
DTEND;TZID=America/Chicago:20240926T110000
DTSTAMP:20260423T181052
CREATED:20240923T145313Z
LAST-MODIFIED:20240923T145313Z
UID:57366-1727344800-1727348400@kerrcountylead.com
SUMMARY:Cuentos for Kids
DESCRIPTION:Join us for a bilingual story time.
URL:https://kerrcountylead.com/event/cuentos-for-kids-18/
LOCATION:Butt-Holdsworth Memorial Library\, 505 Water St.\, Kerrville\, Texas\, 78028
CATEGORIES:Library event
END:VEVENT
BEGIN:VEVENT
DTSTART;TZID=America/Chicago:20240926T120000
DTEND;TZID=America/Chicago:20240926T130000
DTSTAMP:20260423T181052
CREATED:20240923T145431Z
LAST-MODIFIED:20240923T145431Z
UID:57368-1727352000-1727355600@kerrcountylead.com
SUMMARY:Talking Texas Book Club
DESCRIPTION:The club will discuss “The Four Winds” by Kristin Hannah.
URL:https://kerrcountylead.com/event/talking-texas-book-club-17/
LOCATION:Kerr Regional History Center\, 425 Water St.\, Kerrville\, TX\, 78028\, United States
CATEGORIES:Library event
END:VEVENT
BEGIN:VEVENT
DTSTART;TZID=America/Chicago:20240928T103000
DTEND;TZID=America/Chicago:20240928T153000
DTSTAMP:20260423T181052
CREATED:20240927T221333Z
LAST-MODIFIED:20240927T221333Z
UID:57471-1727519400-1727537400@kerrcountylead.com
SUMMARY:Readers\, Writers\, and Books!
DESCRIPTION:A celebration of writers and readers! Authors and special guests include Tom Fox\, Kathleen Hudson\, and Larry Morris.
URL:https://kerrcountylead.com/event/readers-writers-and-books-2/
LOCATION:Butt-Holdsworth Memorial Library\, 505 Water St.\, Kerrville\, Texas\, 78028
CATEGORIES:Library event
END:VEVENT
BEGIN:VEVENT
DTSTART;TZID=America/Chicago:20241001T100000
DTEND;TZID=America/Chicago:20241001T110000
DTSTAMP:20260423T181052
CREATED:20240930T230727Z
LAST-MODIFIED:20240930T230727Z
UID:57900-1727776800-1727780400@kerrcountylead.com
SUMMARY:Lap-Sit Story Time
DESCRIPTION:A story time program for ages 3 and under with songs\, rhymes\, and playtime.
URL:https://kerrcountylead.com/event/lap-sit-story-time-43/
LOCATION:Butt-Holdsworth Memorial Library\, 505 Water St.\, Kerrville\, Texas\, 78028
CATEGORIES:Library event
END:VEVENT
BEGIN:VEVENT
DTSTART;TZID=America/Chicago:20241001T120000
DTEND;TZID=America/Chicago:20241001T133000
DTSTAMP:20260423T181052
CREATED:20240930T230824Z
LAST-MODIFIED:20240930T230824Z
UID:57902-1727784000-1727789400@kerrcountylead.com
SUMMARY:Great Decisions Discussion Group
DESCRIPTION:The group will discuss the documentary “The World Without US” this month.
URL:https://kerrcountylead.com/event/great-decisions-discussion-group-16/
LOCATION:Butt-Holdsworth Memorial Library\, 505 Water St.\, Kerrville\, Texas\, 78028
CATEGORIES:Library event
END:VEVENT
BEGIN:VEVENT
DTSTART;TZID=America/Chicago:20241002T100000
DTEND;TZID=America/Chicago:20241002T110000
DTSTAMP:20260423T181052
CREATED:20240930T232342Z
LAST-MODIFIED:20240930T232342Z
UID:57916-1727863200-1727866800@kerrcountylead.com
SUMMARY:Story Time
DESCRIPTION:
URL:https://kerrcountylead.com/event/story-time-46/
LOCATION:Butt-Holdsworth Memorial Library\, 505 Water St.\, Kerrville\, Texas\, 78028
CATEGORIES:Library event
END:VEVENT
BEGIN:VEVENT
DTSTART;TZID=America/Chicago:20241002T130000
DTEND;TZID=America/Chicago:20241002T150000
DTSTAMP:20260423T181052
CREATED:20240930T232427Z
LAST-MODIFIED:20240930T232427Z
UID:57918-1727874000-1727881200@kerrcountylead.com
SUMMARY:Friends of the Library Book Sale
DESCRIPTION:
URL:https://kerrcountylead.com/event/friends-of-the-library-book-sale-98/
LOCATION:Butt-Holdsworth Memorial Library\, 505 Water St.\, Kerrville\, Texas\, 78028
CATEGORIES:Library event
END:VEVENT
BEGIN:VEVENT
DTSTART;TZID=America/Chicago:20241003T120000
DTEND;TZID=America/Chicago:20241003T130000
DTSTAMP:20260423T181052
CREATED:20241002T195328Z
LAST-MODIFIED:20241002T195328Z
UID:57983-1727956800-1727960400@kerrcountylead.com
SUMMARY:Historical Fiction Book Club
DESCRIPTION:The group will discuss “The Magnolia Palace” by Fiona Davis. 
URL:https://kerrcountylead.com/event/historical-fiction-book-club-13/
LOCATION:Butt-Holdsworth Memorial Library\, 505 Water St.\, Kerrville\, Texas\, 78028
CATEGORIES:Library event
END:VEVENT
BEGIN:VEVENT
DTSTART;TZID=America/Chicago:20241003T160000
DTEND;TZID=America/Chicago:20241003T170000
DTSTAMP:20260423T181052
CREATED:20241002T195404Z
LAST-MODIFIED:20241002T195404Z
UID:57985-1727971200-1727974800@kerrcountylead.com
SUMMARY:Lego Club
DESCRIPTION:
URL:https://kerrcountylead.com/event/lego-club-24/
LOCATION:Butt-Holdsworth Memorial Library\, 505 Water St.\, Kerrville\, Texas\, 78028
CATEGORIES:Library event
END:VEVENT
BEGIN:VEVENT
DTSTART;TZID=America/Chicago:20241004T170000
DTEND;TZID=America/Chicago:20241004T174500
DTSTAMP:20260423T181052
CREATED:20241003T223305Z
LAST-MODIFIED:20241003T223305Z
UID:58221-1728061200-1728063900@kerrcountylead.com
SUMMARY:Meditative Sound Bath
DESCRIPTION:Offered by Humbling Bloom.
URL:https://kerrcountylead.com/event/meditative-sound-bath-14/
LOCATION:Butt-Holdsworth Memorial Library\, 505 Water St.\, Kerrville\, Texas\, 78028
CATEGORIES:Library event,Wellness
END:VEVENT
BEGIN:VEVENT
DTSTART;TZID=America/Chicago:20241005T100000
DTEND;TZID=America/Chicago:20241005T103000
DTSTAMP:20260423T181052
CREATED:20241004T163323Z
LAST-MODIFIED:20241004T163323Z
UID:58302-1728122400-1728124200@kerrcountylead.com
SUMMARY:Family Storytime
DESCRIPTION:
URL:https://kerrcountylead.com/event/family-storytime-3/
LOCATION:Butt-Holdsworth Memorial Library\, 505 Water St.\, Kerrville\, Texas\, 78028
CATEGORIES:Library event
END:VEVENT
END:VCALENDAR