BEGIN:VCALENDAR
VERSION:2.0
PRODID:-//The Kerr County Lead - ECPv6.15.17.1//NONSGML v1.0//EN
CALSCALE:GREGORIAN
METHOD:PUBLISH
X-WR-CALNAME:The Kerr County Lead
X-ORIGINAL-URL:https://kerrcountylead.com
X-WR-CALDESC:Events for The Kerr County Lead
REFRESH-INTERVAL;VALUE=DURATION:PT1H
X-Robots-Tag:noindex
X-PUBLISHED-TTL:PT1H
BEGIN:VTIMEZONE
TZID:America/Chicago
BEGIN:DAYLIGHT
TZOFFSETFROM:-0600
TZOFFSETTO:-0500
TZNAME:CDT
DTSTART:20250309T080000
END:DAYLIGHT
BEGIN:STANDARD
TZOFFSETFROM:-0500
TZOFFSETTO:-0600
TZNAME:CST
DTSTART:20251102T070000
END:STANDARD
BEGIN:DAYLIGHT
TZOFFSETFROM:-0600
TZOFFSETTO:-0500
TZNAME:CDT
DTSTART:20260308T080000
END:DAYLIGHT
BEGIN:STANDARD
TZOFFSETFROM:-0500
TZOFFSETTO:-0600
TZNAME:CST
DTSTART:20261101T070000
END:STANDARD
BEGIN:DAYLIGHT
TZOFFSETFROM:-0600
TZOFFSETTO:-0500
TZNAME:CDT
DTSTART:20270314T080000
END:DAYLIGHT
BEGIN:STANDARD
TZOFFSETFROM:-0500
TZOFFSETTO:-0600
TZNAME:CST
DTSTART:20271107T070000
END:STANDARD
END:VTIMEZONE
BEGIN:VEVENT
DTSTART;TZID=America/Chicago:20260315T120000
DTEND;TZID=America/Chicago:20260315T170000
DTSTAMP:20260425T081817
CREATED:20260309T173253Z
LAST-MODIFIED:20260309T173253Z
UID:90676-1773576000-1773594000@kerrcountylead.com
SUMMARY:Market Days at the Vineyard
DESCRIPTION:Wine\, music\, and handcrafted goods!
URL:https://kerrcountylead.com/event/market-days-at-the-vineyard-3/
LOCATION:Turtle Creek Vineyard\, 183 Fall Creek Rd\, Kerrville\, TX\, 78028
CATEGORIES:Markets,Winery event
ATTACH;FMTTYPE=image/png:https://d3gwfj7ymlcykv.cloudfront.net/wp-content/uploads/2026/03/09123234/unnamed-7.png
END:VEVENT
BEGIN:VEVENT
DTSTART;TZID=America/Chicago:20260316T150000
DTEND;TZID=America/Chicago:20260316T180000
DTSTAMP:20260425T081817
CREATED:20260317T180528Z
LAST-MODIFIED:20260317T180528Z
UID:90864-1773673200-1773684000@kerrcountylead.com
SUMMARY:Monday Mingle
DESCRIPTION:
URL:https://kerrcountylead.com/event/monday-mingle-9/
LOCATION:Turtle Creek Vineyard\, 183 Fall Creek Rd\, Kerrville\, TX\, 78028
CATEGORIES:Winery event
END:VEVENT
BEGIN:VEVENT
DTSTART;TZID=America/Chicago:20260323T150000
DTEND;TZID=America/Chicago:20260323T180000
DTSTAMP:20260425T081817
CREATED:20260322T212706Z
LAST-MODIFIED:20260322T212706Z
UID:91259-1774278000-1774288800@kerrcountylead.com
SUMMARY:Monday Mingle
DESCRIPTION:
URL:https://kerrcountylead.com/event/monday-mingle-10/
LOCATION:Turtle Creek Vineyard\, 183 Fall Creek Rd\, Kerrville\, TX\, 78028
CATEGORIES:Winery event
ATTACH;FMTTYPE=image/png:https://d3gwfj7ymlcykv.cloudfront.net/wp-content/uploads/2026/02/15160134/unnamed-1-e1771192962701.png
END:VEVENT
BEGIN:VEVENT
DTSTART;TZID=America/Chicago:20260330T150000
DTEND;TZID=America/Chicago:20260330T180000
DTSTAMP:20260425T081817
CREATED:20260329T221637Z
LAST-MODIFIED:20260329T221637Z
UID:91720-1774882800-1774893600@kerrcountylead.com
SUMMARY:Monday Mingle
DESCRIPTION:
URL:https://kerrcountylead.com/event/monday-mingle-11/
LOCATION:Turtle Creek Vineyard\, 183 Fall Creek Rd\, Kerrville\, TX\, 78028
CATEGORIES:Winery event
ATTACH;FMTTYPE=image/png:https://d3gwfj7ymlcykv.cloudfront.net/wp-content/uploads/2026/02/15160134/unnamed-1-e1771192962701.png
END:VEVENT
BEGIN:VEVENT
DTSTART;TZID=America/Chicago:20260401T180000
DTEND;TZID=America/Chicago:20260401T210000
DTSTAMP:20260425T081817
CREATED:20260330T151835Z
LAST-MODIFIED:20260330T151835Z
UID:91832-1775066400-1775077200@kerrcountylead.com
SUMMARY:Pink Moon Dinner
DESCRIPTION:For ticket info\, click here.
URL:https://kerrcountylead.com/event/pink-moon-dinner/
LOCATION:Turtle Creek Vineyard\, 183 Fall Creek Rd\, Kerrville\, TX\, 78028
CATEGORIES:Winery event
ATTACH;FMTTYPE=image/png:https://d3gwfj7ymlcykv.cloudfront.net/wp-content/uploads/2026/03/30101816/unnamed-4-2.png
END:VEVENT
BEGIN:VEVENT
DTSTART;TZID=America/Chicago:20260406T150000
DTEND;TZID=America/Chicago:20260406T180000
DTSTAMP:20260425T081817
CREATED:20260405T171425Z
LAST-MODIFIED:20260405T171425Z
UID:92196-1775487600-1775498400@kerrcountylead.com
SUMMARY:Monday Mingle
DESCRIPTION:
URL:https://kerrcountylead.com/event/monday-mingle-12/
LOCATION:Turtle Creek Vineyard\, 183 Fall Creek Rd\, Kerrville\, TX\, 78028
CATEGORIES:Winery event
ATTACH;FMTTYPE=image/png:https://d3gwfj7ymlcykv.cloudfront.net/wp-content/uploads/2026/02/15160134/unnamed-1-e1771192962701.png
END:VEVENT
BEGIN:VEVENT
DTSTART;TZID=America/Chicago:20260419T120000
DTEND;TZID=America/Chicago:20260419T170000
DTSTAMP:20260425T081817
CREATED:20260417T144703Z
LAST-MODIFIED:20260417T144732Z
UID:92941-1776600000-1776618000@kerrcountylead.com
SUMMARY:Market Days at the Vineyard
DESCRIPTION:Wine\, music\, and handcrafted goods!
URL:https://kerrcountylead.com/event/market-days-at-the-vineyard-4/
LOCATION:Turtle Creek Vineyard\, 183 Fall Creek Rd\, Kerrville\, TX\, 78028
CATEGORIES:Markets,Winery event
ATTACH;FMTTYPE=image/png:https://d3gwfj7ymlcykv.cloudfront.net/wp-content/uploads/2026/03/09123234/unnamed-7.png
END:VEVENT
END:VCALENDAR