BEGIN:VCALENDAR
VERSION:2.0
PRODID:-//The Kerr County Lead - ECPv6.15.17.1//NONSGML v1.0//EN
CALSCALE:GREGORIAN
METHOD:PUBLISH
X-WR-CALNAME:The Kerr County Lead
X-ORIGINAL-URL:https://kerrcountylead.com
X-WR-CALDESC:Events for The Kerr County Lead
REFRESH-INTERVAL;VALUE=DURATION:PT1H
X-Robots-Tag:noindex
X-PUBLISHED-TTL:PT1H
BEGIN:VTIMEZONE
TZID:America/Chicago
BEGIN:DAYLIGHT
TZOFFSETFROM:-0600
TZOFFSETTO:-0500
TZNAME:CDT
DTSTART:20230312T080000
END:DAYLIGHT
BEGIN:STANDARD
TZOFFSETFROM:-0500
TZOFFSETTO:-0600
TZNAME:CST
DTSTART:20231105T070000
END:STANDARD
BEGIN:DAYLIGHT
TZOFFSETFROM:-0600
TZOFFSETTO:-0500
TZNAME:CDT
DTSTART:20240310T080000
END:DAYLIGHT
BEGIN:STANDARD
TZOFFSETFROM:-0500
TZOFFSETTO:-0600
TZNAME:CST
DTSTART:20241103T070000
END:STANDARD
BEGIN:DAYLIGHT
TZOFFSETFROM:-0600
TZOFFSETTO:-0500
TZNAME:CDT
DTSTART:20250309T080000
END:DAYLIGHT
BEGIN:STANDARD
TZOFFSETFROM:-0500
TZOFFSETTO:-0600
TZNAME:CST
DTSTART:20251102T070000
END:STANDARD
END:VTIMEZONE
BEGIN:VEVENT
DTSTART;TZID=America/Chicago:20240516T183000
DTEND;TZID=America/Chicago:20240516T183000
DTSTAMP:20260425T090141
CREATED:20240509T204757Z
LAST-MODIFIED:20240509T204757Z
UID:51183-1715884200-1715884200@kerrcountylead.com
SUMMARY:T4: Third Thirsty Thursday Trivia
DESCRIPTION:Free entry\, prizes. Full bar open. Teams of up to 6 people. You can have Pint & Plow pizza plus two appetizers waiting for your team when you arrive. Place your order when you RSVP.
URL:https://kerrcountylead.com/event/t4-third-thirsty-thursday-trivia-12/
LOCATION:The Arcadia Live\, 717 Water St\, Kerrville\, TX\, 78028\, United States
CATEGORIES:Games
END:VEVENT
BEGIN:VEVENT
DTSTART;TZID=America/Chicago:20240516T180000
DTEND;TZID=America/Chicago:20240516T203000
DTSTAMP:20260425T090141
CREATED:20240509T204654Z
LAST-MODIFIED:20240509T204654Z
UID:51181-1715882400-1715891400@kerrcountylead.com
SUMMARY:Matthew Ryan
DESCRIPTION:
URL:https://kerrcountylead.com/event/matthew-ryan-4/
LOCATION:Riverhill Country Club\, 100 Riverhill Club Ln\, Kerrville\, TX\, 78028
CATEGORIES:Live music
END:VEVENT
BEGIN:VEVENT
DTSTART;TZID=America/Chicago:20240516T180000
DTEND;TZID=America/Chicago:20240516T180000
DTSTAMP:20260425T090141
CREATED:20240509T204537Z
LAST-MODIFIED:20240509T204537Z
UID:51179-1715882400-1715882400@kerrcountylead.com
SUMMARY:Open Mic Night
DESCRIPTION:
URL:https://kerrcountylead.com/event/open-mic-night-48/
LOCATION:Gravity Check Saloon\, 3979 Bandera Hwy 173\, Kerrville\, TX\, 78028\, United States
CATEGORIES:Live music
END:VEVENT
BEGIN:VEVENT
DTSTART;TZID=America/Chicago:20240516T170000
DTEND;TZID=America/Chicago:20240516T210000
DTSTAMP:20260425T090141
CREATED:20240509T204454Z
LAST-MODIFIED:20240509T204454Z
UID:51177-1715878800-1715893200@kerrcountylead.com
SUMMARY:Shim’s Be Blessed: Burger Night!
DESCRIPTION:Burger Night at Trailhead! Shim’s will be serving burgers: 2 for $20 and Trailhead will have $4 P&P pints.
URL:https://kerrcountylead.com/event/shims-be-blessed-burger-night-19/
LOCATION:Trailhead Beer Garden\, 2100 Memorial Blvd Bldg #11\, Kerrville\, TX\, 78028\, United States
CATEGORIES:Food truck 411
END:VEVENT
BEGIN:VEVENT
DTSTART;TZID=America/Chicago:20240516T120000
DTEND;TZID=America/Chicago:20240516T130000
DTSTAMP:20260425T090141
CREATED:20240509T204356Z
LAST-MODIFIED:20240509T204356Z
UID:51175-1715860800-1715864400@kerrcountylead.com
SUMMARY:Shrouded in Mystery Book Club
DESCRIPTION:The group will discuss “The Bat” by Jo Nesbo.
URL:https://kerrcountylead.com/event/shrouded-in-mystery-book-club-10/
LOCATION:Butt-Holdsworth Memorial Library\, 505 Water St.\, Kerrville\, Texas\, 78028
CATEGORIES:Library event
END:VEVENT
BEGIN:VEVENT
DTSTART;TZID=America/Chicago:20240516T103000
DTEND;TZID=America/Chicago:20240516T113000
DTSTAMP:20260425T090141
CREATED:20240509T204242Z
LAST-MODIFIED:20240509T204242Z
UID:51173-1715855400-1715859000@kerrcountylead.com
SUMMARY:Sprouts
DESCRIPTION:Explore the wonders of nature through story time with your preschooler.
URL:https://kerrcountylead.com/event/sprouts-59/
LOCATION:Riverside Nature Center\, 150 Francisco Lemos St\, Kerrville\, Texas\, 78028
CATEGORIES:Science and nature
END:VEVENT
BEGIN:VEVENT
DTSTART;TZID=America/Chicago:20240516T100000
DTEND;TZID=America/Chicago:20240516T180000
DTSTAMP:20260425T090141
CREATED:20240422T235938Z
LAST-MODIFIED:20240422T235938Z
UID:50283-1715853600-1715882400@kerrcountylead.com
SUMMARY:Our Place in Space
DESCRIPTION:Come see the constellations in our planetarium\, learn about conserving our night skies and about our place in space!
URL:https://kerrcountylead.com/event/our-place-in-space-21/
LOCATION:Riverside Nature Center\, 150 Francisco Lemos St\, Kerrville\, Texas\, 78028
CATEGORIES:Science and nature
END:VEVENT
BEGIN:VEVENT
DTSTART;TZID=America/Chicago:20240516T100000
DTEND;TZID=America/Chicago:20240516T160000
DTSTAMP:20260425T090141
CREATED:20240517T184356Z
LAST-MODIFIED:20240517T184356Z
UID:51432-1715853600-1715875200@kerrcountylead.com
SUMMARY:KACC Art Exhibits
DESCRIPTION:Monday Artists\, Prima Facie/first impressions\, Southwest Gourd & Fiber Fine Art Show. Through June 29. 
URL:https://kerrcountylead.com/event/kacc-art-exhibits-215/
LOCATION:Kerr Arts & Cultural Center\, 228 Earl Garrett St.\, Kerrville\, Texas\, 78028
CATEGORIES:The arts
END:VEVENT
BEGIN:VEVENT
DTSTART;TZID=America/Chicago:20240516T100000
DTEND;TZID=America/Chicago:20240516T160000
DTSTAMP:20260425T090141
CREATED:20240424T174713Z
LAST-MODIFIED:20240424T174713Z
UID:50459-1715853600-1715875200@kerrcountylead.com
SUMMARY:Texas Watercolor Society Annual Show
DESCRIPTION:
URL:https://kerrcountylead.com/event/texas-watercolor-society-annual-show-12/
LOCATION:Hill Country Arts Foundation\, 120 Point Theatre Rd S\, Ingram\, Texas\, 78025
CATEGORIES:The arts
END:VEVENT
BEGIN:VEVENT
DTSTART;TZID=America/Chicago:20240516T100000
DTEND;TZID=America/Chicago:20240516T160000
DTSTAMP:20260425T090141
CREATED:20240423T222351Z
LAST-MODIFIED:20240423T222351Z
UID:50392-1715853600-1715875200@kerrcountylead.com
SUMMARY:41st Annual Roundup Exhibition and Sale
DESCRIPTION:The exhibit will feature 170 original works by 62 artists. Through June 8.
URL:https://kerrcountylead.com/event/41st-annual-roundup-exhibition-and-sale-13/
LOCATION:Museum of Western Art\, 1550 Bandera Hwy.\, Kerrville\, Texas\, 78028
CATEGORIES:The arts
END:VEVENT
BEGIN:VEVENT
DTSTART;TZID=America/Chicago:20240516T100000
DTEND;TZID=America/Chicago:20240516T160000
DTSTAMP:20260425T090141
CREATED:20240423T004416Z
LAST-MODIFIED:20240423T004416Z
UID:50336-1715853600-1715875200@kerrcountylead.com
SUMMARY:Kerrville 101 @ KRHC
DESCRIPTION:A standing exhibit that provides an introduction to local history and stories. 
URL:https://kerrcountylead.com/event/kerrville-101-krhc-138/
LOCATION:Kerr Regional History Center\, 425 Water St.\, Kerrville\, TX\, 78028\, United States
CATEGORIES:History
END:VEVENT
BEGIN:VEVENT
DTSTART;TZID=America/Chicago:20240516T100000
DTEND;TZID=America/Chicago:20240516T110000
DTSTAMP:20260425T090141
CREATED:20240509T204156Z
LAST-MODIFIED:20240509T204156Z
UID:51171-1715853600-1715857200@kerrcountylead.com
SUMMARY:Body Strength & Core Stabilization
DESCRIPTION:
URL:https://kerrcountylead.com/event/body-strength-core-stabilization/
LOCATION:Dietert Center\, 451 Guadalupe St #203\, Kerrville\, Texas\, 78028
CATEGORIES:Outreach groups,Wellness
END:VEVENT
BEGIN:VEVENT
DTSTART;TZID=America/Chicago:20240515T170000
DTEND;TZID=America/Chicago:20240515T210000
DTSTAMP:20260425T090141
CREATED:20240509T203148Z
LAST-MODIFIED:20240509T203148Z
UID:51168-1715792400-1715806800@kerrcountylead.com
SUMMARY:Shim’s Be Blessed: Pizza Night!
DESCRIPTION:Pizza Night at Trailhead! Shim’s will be serving wood-fired pizzas and Trailhead will have $20 bottles of Texas wines.
URL:https://kerrcountylead.com/event/shims-be-blessed-pizza-night-20/
LOCATION:Trailhead Beer Garden\, 2100 Memorial Blvd Bldg #11\, Kerrville\, TX\, 78028\, United States
CATEGORIES:Food truck 411
END:VEVENT
BEGIN:VEVENT
DTSTART;TZID=America/Chicago:20240515T153000
DTEND;TZID=America/Chicago:20240515T153000
DTSTAMP:20260425T090141
CREATED:20240509T202856Z
LAST-MODIFIED:20240509T202856Z
UID:51164-1715787000-1715787000@kerrcountylead.com
SUMMARY:Movie Chat
DESCRIPTION:This month’s movie selection is “200 Meters.”
URL:https://kerrcountylead.com/event/movie-chat-15/
LOCATION:Butt-Holdsworth Memorial Library\, 505 Water St.\, Kerrville\, Texas\, 78028
CATEGORIES:Library event
END:VEVENT
BEGIN:VEVENT
DTSTART;TZID=America/Chicago:20240515T153000
DTEND;TZID=America/Chicago:20240515T153000
DTSTAMP:20260425T090141
CREATED:20240506T163255Z
LAST-MODIFIED:20240506T163726Z
UID:51106-1715787000-1715787000@kerrcountylead.com
SUMMARY:Movie Chat
DESCRIPTION:This month’s movie selection is “200 Meters.”
URL:https://kerrcountylead.com/event/movie-chat-14/
LOCATION:Butt-Holdsworth Memorial Library\, 505 Water St.\, Kerrville\, Texas\, 78028
CATEGORIES:Library event
END:VEVENT
BEGIN:VEVENT
DTSTART;TZID=America/Chicago:20240515T140000
DTEND;TZID=America/Chicago:20240515T140000
DTSTAMP:20260425T090141
CREATED:20240509T203051Z
LAST-MODIFIED:20240509T203051Z
UID:51166-1715781600-1715781600@kerrcountylead.com
SUMMARY:American Ancestors
DESCRIPTION:Jan Carr will host a meeting detailing how to get the most out of your research with the https://www.americanancestors.org/ website. The event is free and open to the public. 
URL:https://kerrcountylead.com/event/american-ancestors/
LOCATION:Kerrville Genealogical Society\, 125 Lehmann Dr\, Kerrville\, TX\, 78028
CATEGORIES:Genealogy
END:VEVENT
BEGIN:VEVENT
DTSTART;TZID=America/Chicago:20240515T130000
DTEND;TZID=America/Chicago:20240515T150000
DTSTAMP:20260425T090141
CREATED:20240509T202745Z
LAST-MODIFIED:20240509T202745Z
UID:51162-1715778000-1715785200@kerrcountylead.com
SUMMARY:Friends of the Library Book Sale
DESCRIPTION:
URL:https://kerrcountylead.com/event/friends-of-the-library-book-sale-74/
LOCATION:Butt-Holdsworth Memorial Library\, 505 Water St.\, Kerrville\, Texas\, 78028
CATEGORIES:Library event
END:VEVENT
BEGIN:VEVENT
DTSTART;TZID=America/Chicago:20240515T130000
DTEND;TZID=America/Chicago:20240515T130000
DTSTAMP:20260425T090141
CREATED:20240509T202640Z
LAST-MODIFIED:20240509T202640Z
UID:51160-1715778000-1715778000@kerrcountylead.com
SUMMARY:Travel & Home Safety Talk
DESCRIPTION:KPD’s Sgt. Lamb will host a discussion on safety tips for your home.
URL:https://kerrcountylead.com/event/travel-home-safety-talk/
LOCATION:Butt-Holdsworth Memorial Library\, 505 Water St.\, Kerrville\, Texas\, 78028
CATEGORIES:Library event
END:VEVENT
BEGIN:VEVENT
DTSTART;TZID=America/Chicago:20240515T100000
DTEND;TZID=America/Chicago:20240515T180000
DTSTAMP:20260425T090141
CREATED:20240422T235818Z
LAST-MODIFIED:20240422T235818Z
UID:50281-1715767200-1715796000@kerrcountylead.com
SUMMARY:Our Place in Space
DESCRIPTION:Come see the constellations in our planetarium\, learn about conserving our night skies and about our place in space!
URL:https://kerrcountylead.com/event/our-place-in-space-20/
LOCATION:Riverside Nature Center\, 150 Francisco Lemos St\, Kerrville\, Texas\, 78028
CATEGORIES:Science and nature
END:VEVENT
BEGIN:VEVENT
DTSTART;TZID=America/Chicago:20240515T100000
DTEND;TZID=America/Chicago:20240515T160000
DTSTAMP:20260425T090141
CREATED:20240424T174636Z
LAST-MODIFIED:20240424T174636Z
UID:50457-1715767200-1715788800@kerrcountylead.com
SUMMARY:Texas Watercolor Society Annual Show
DESCRIPTION:
URL:https://kerrcountylead.com/event/texas-watercolor-society-annual-show-11/
LOCATION:Hill Country Arts Foundation\, 120 Point Theatre Rd S\, Ingram\, Texas\, 78025
CATEGORIES:The arts
END:VEVENT
BEGIN:VEVENT
DTSTART;TZID=America/Chicago:20240515T100000
DTEND;TZID=America/Chicago:20240515T160000
DTSTAMP:20260425T090141
CREATED:20240423T222246Z
LAST-MODIFIED:20240423T222246Z
UID:50390-1715767200-1715788800@kerrcountylead.com
SUMMARY:41st Annual Roundup Exhibition and Sale
DESCRIPTION:The exhibit will feature 170 original works by 62 artists. Through June 8.
URL:https://kerrcountylead.com/event/41st-annual-roundup-exhibition-and-sale-12/
LOCATION:Museum of Western Art\, 1550 Bandera Hwy.\, Kerrville\, Texas\, 78028
CATEGORIES:The arts
END:VEVENT
BEGIN:VEVENT
DTSTART;TZID=America/Chicago:20240515T100000
DTEND;TZID=America/Chicago:20240515T160000
DTSTAMP:20260425T090141
CREATED:20240423T003511Z
LAST-MODIFIED:20240423T003511Z
UID:50324-1715767200-1715788800@kerrcountylead.com
SUMMARY:Kerrville 101 @ KRHC
DESCRIPTION:A standing exhibit that provides an introduction to local history and stories. 
URL:https://kerrcountylead.com/event/kerrville-101-krhc-132/
LOCATION:Kerr Regional History Center\, 425 Water St.\, Kerrville\, TX\, 78028\, United States
CATEGORIES:History
END:VEVENT
BEGIN:VEVENT
DTSTART;TZID=America/Chicago:20240515T100000
DTEND;TZID=America/Chicago:20240515T110000
DTSTAMP:20260425T090141
CREATED:20240509T202515Z
LAST-MODIFIED:20240509T202515Z
UID:51158-1715767200-1715770800@kerrcountylead.com
SUMMARY:Yoga Story Time with Humbling Bloom
DESCRIPTION:Story time followed by gentle yoga stretches. For ages 3 and up. 
URL:https://kerrcountylead.com/event/yoga-story-time-with-humbling-bloom-8/
LOCATION:Butt-Holdsworth Memorial Library\, 505 Water St.\, Kerrville\, Texas\, 78028
CATEGORIES:Library event,Wellness
END:VEVENT
BEGIN:VEVENT
DTSTART;TZID=America/Chicago:20240514T190000
DTEND;TZID=America/Chicago:20240514T190000
DTSTAMP:20260425T090141
CREATED:20240506T164326Z
LAST-MODIFIED:20240506T164326Z
UID:51122-1715713200-1715713200@kerrcountylead.com
SUMMARY:Jam Night
DESCRIPTION:
URL:https://kerrcountylead.com/event/jam-night-51/
LOCATION:Gravity Check Saloon\, 3979 Bandera Hwy 173\, Kerrville\, TX\, 78028\, United States
CATEGORIES:Live music
END:VEVENT
BEGIN:VEVENT
DTSTART;TZID=America/Chicago:20240514T183000
DTEND;TZID=America/Chicago:20240514T183000
DTSTAMP:20260425T090141
CREATED:20240506T164253Z
LAST-MODIFIED:20240506T164253Z
UID:51120-1715711400-1715711400@kerrcountylead.com
SUMMARY:Bingo
DESCRIPTION:Sales start at 5:30 p.m. Smoking and non-smoking rooms. The Dauber Cafe is open during games\, no outside food or drinks.
URL:https://kerrcountylead.com/event/bingo-177/
LOCATION:American Legion Post 208\, 3600 Riverside Dr\, Kerrville\, TX\, 78028
CATEGORIES:Games
END:VEVENT
BEGIN:VEVENT
DTSTART;TZID=America/Chicago:20240514T183000
DTEND;TZID=America/Chicago:20240514T183000
DTSTAMP:20260425T090141
CREATED:20240506T164214Z
LAST-MODIFIED:20240506T164214Z
UID:51118-1715711400-1715711400@kerrcountylead.com
SUMMARY:Hill Country Camera Club Meeting
DESCRIPTION:Free and open to all levels of photographers.
URL:https://kerrcountylead.com/event/hill-country-camera-club-meeting-2/
LOCATION:Kerr Arts & Cultural Center\, 228 Earl Garrett St.\, Kerrville\, Texas\, 78028
CATEGORIES:The arts
END:VEVENT
BEGIN:VEVENT
DTSTART;TZID=America/Chicago:20240514T160000
DTEND;TZID=America/Chicago:20240514T173000
DTSTAMP:20260425T090141
CREATED:20240506T164044Z
LAST-MODIFIED:20240506T164044Z
UID:51116-1715702400-1715707800@kerrcountylead.com
SUMMARY:Social Crafters
DESCRIPTION:
URL:https://kerrcountylead.com/event/social-crafters-14/
LOCATION:Butt-Holdsworth Memorial Library\, 505 Water St.\, Kerrville\, Texas\, 78028
CATEGORIES:Crafts,Library event
END:VEVENT
BEGIN:VEVENT
DTSTART;TZID=America/Chicago:20240514T100000
DTEND;TZID=America/Chicago:20240514T180000
DTSTAMP:20260425T090141
CREATED:20240422T235737Z
LAST-MODIFIED:20240422T235737Z
UID:50279-1715680800-1715709600@kerrcountylead.com
SUMMARY:Our Place in Space
DESCRIPTION:Come see the constellations in our planetarium\, learn about conserving our night skies and about our place in space!
URL:https://kerrcountylead.com/event/our-place-in-space-19/
LOCATION:Riverside Nature Center\, 150 Francisco Lemos St\, Kerrville\, Texas\, 78028
CATEGORIES:Science and nature
END:VEVENT
BEGIN:VEVENT
DTSTART;TZID=America/Chicago:20240514T100000
DTEND;TZID=America/Chicago:20240514T160000
DTSTAMP:20260425T090141
CREATED:20240424T174601Z
LAST-MODIFIED:20240424T174601Z
UID:50455-1715680800-1715702400@kerrcountylead.com
SUMMARY:Texas Watercolor Society Annual Show
DESCRIPTION:
URL:https://kerrcountylead.com/event/texas-watercolor-society-annual-show-10/
LOCATION:Hill Country Arts Foundation\, 120 Point Theatre Rd S\, Ingram\, Texas\, 78025
CATEGORIES:The arts
END:VEVENT
BEGIN:VEVENT
DTSTART;TZID=America/Chicago:20240514T100000
DTEND;TZID=America/Chicago:20240514T160000
DTSTAMP:20260425T090141
CREATED:20240423T222133Z
LAST-MODIFIED:20240423T222133Z
UID:50388-1715680800-1715702400@kerrcountylead.com
SUMMARY:41st Annual Roundup Exhibition and Sale
DESCRIPTION:The exhibit will feature 170 original works by 62 artists. Through June 8.
URL:https://kerrcountylead.com/event/41st-annual-roundup-exhibition-and-sale-11/
LOCATION:Museum of Western Art\, 1550 Bandera Hwy.\, Kerrville\, Texas\, 78028
CATEGORIES:The arts
END:VEVENT
END:VCALENDAR