BEGIN:VCALENDAR
VERSION:2.0
PRODID:-//The Kerr County Lead - ECPv6.15.17.1//NONSGML v1.0//EN
CALSCALE:GREGORIAN
METHOD:PUBLISH
X-WR-CALNAME:The Kerr County Lead
X-ORIGINAL-URL:https://kerrcountylead.com
X-WR-CALDESC:Events for The Kerr County Lead
REFRESH-INTERVAL;VALUE=DURATION:PT1H
X-Robots-Tag:noindex
X-PUBLISHED-TTL:PT1H
BEGIN:VTIMEZONE
TZID:America/Chicago
BEGIN:DAYLIGHT
TZOFFSETFROM:-0600
TZOFFSETTO:-0500
TZNAME:CDT
DTSTART:20230312T080000
END:DAYLIGHT
BEGIN:STANDARD
TZOFFSETFROM:-0500
TZOFFSETTO:-0600
TZNAME:CST
DTSTART:20231105T070000
END:STANDARD
BEGIN:DAYLIGHT
TZOFFSETFROM:-0600
TZOFFSETTO:-0500
TZNAME:CDT
DTSTART:20240310T080000
END:DAYLIGHT
BEGIN:STANDARD
TZOFFSETFROM:-0500
TZOFFSETTO:-0600
TZNAME:CST
DTSTART:20241103T070000
END:STANDARD
BEGIN:DAYLIGHT
TZOFFSETFROM:-0600
TZOFFSETTO:-0500
TZNAME:CDT
DTSTART:20250309T080000
END:DAYLIGHT
BEGIN:STANDARD
TZOFFSETFROM:-0500
TZOFFSETTO:-0600
TZNAME:CST
DTSTART:20251102T070000
END:STANDARD
END:VTIMEZONE
BEGIN:VEVENT
DTSTART;TZID=America/Chicago:20240821T170000
DTEND;TZID=America/Chicago:20240821T210000
DTSTAMP:20260423T111415
CREATED:20240818T192729Z
LAST-MODIFIED:20240818T192729Z
UID:55791-1724259600-1724274000@kerrcountylead.com
SUMMARY:Shim’s Be Blessed: Pizza Night!
DESCRIPTION:Pizza Night at Trailhead! Shim’s will be serving wood-fired pizzas and Trailhead will have $20 bottles of Texas wines.
URL:https://kerrcountylead.com/event/shims-be-blessed-pizza-night-34/
LOCATION:Trailhead Beer Garden\, 2100 Memorial Blvd Bldg #11\, Kerrville\, TX\, 78028\, United States
CATEGORIES:Food truck 411
END:VEVENT
BEGIN:VEVENT
DTSTART;TZID=America/Chicago:20240821T153000
DTEND;TZID=America/Chicago:20240821T173000
DTSTAMP:20260423T111415
CREATED:20240818T192614Z
LAST-MODIFIED:20240818T192614Z
UID:55789-1724254200-1724261400@kerrcountylead.com
SUMMARY:Teen Lounge
DESCRIPTION:
URL:https://kerrcountylead.com/event/teen-lounge-7/
LOCATION:Doyle Community Center\, 110 W. Barnett St.\, Kerrville\, Texas\, 78028
CATEGORIES:Outreach groups
END:VEVENT
BEGIN:VEVENT
DTSTART;TZID=America/Chicago:20240821T153000
DTEND;TZID=America/Chicago:20240821T153000
DTSTAMP:20260423T111415
CREATED:20240818T192521Z
LAST-MODIFIED:20240818T192521Z
UID:55787-1724254200-1724254200@kerrcountylead.com
SUMMARY:Movie Chat
DESCRIPTION:This month’s movie selection is “Barbarosa.”
URL:https://kerrcountylead.com/event/movie-chat-18/
LOCATION:Butt-Holdsworth Memorial Library\, 505 Water St.\, Kerrville\, Texas\, 78028
CATEGORIES:Library event
END:VEVENT
BEGIN:VEVENT
DTSTART;TZID=America/Chicago:20240821T130000
DTEND;TZID=America/Chicago:20240821T150000
DTSTAMP:20260423T111415
CREATED:20240818T192350Z
LAST-MODIFIED:20240818T192350Z
UID:55785-1724245200-1724252400@kerrcountylead.com
SUMMARY:Friends of the Library Book Sale
DESCRIPTION:
URL:https://kerrcountylead.com/event/friends-of-the-library-book-sale-91/
LOCATION:Butt-Holdsworth Memorial Library\, 505 Water St.\, Kerrville\, Texas\, 78028
CATEGORIES:Library event
END:VEVENT
BEGIN:VEVENT
DTSTART;TZID=America/Chicago:20240821T120000
DTEND;TZID=America/Chicago:20240821T130000
DTSTAMP:20260423T111415
CREATED:20240818T192226Z
LAST-MODIFIED:20240818T192226Z
UID:55783-1724241600-1724245200@kerrcountylead.com
SUMMARY:NPSOT Book Club
DESCRIPTION:The club will discuss “Hill Country Landowners” by Jim Stanley. 
URL:https://kerrcountylead.com/event/npsot-book-club-7/
LOCATION:Butt-Holdsworth Memorial Library\, 505 Water St.\, Kerrville\, Texas\, 78028
CATEGORIES:Library event
END:VEVENT
BEGIN:VEVENT
DTSTART;TZID=America/Chicago:20240821T100000
DTEND;TZID=America/Chicago:20240821T180000
DTSTAMP:20260423T111415
CREATED:20240729T194442Z
LAST-MODIFIED:20240729T194442Z
UID:55107-1724234400-1724263200@kerrcountylead.com
SUMMARY:Our Place in Space
DESCRIPTION:Come see the constellations in our planetarium\, learn about conserving our night skies and about our place in space!
URL:https://kerrcountylead.com/event/our-place-in-space-103/
LOCATION:Riverside Nature Center\, 150 Francisco Lemos St\, Kerrville\, Texas\, 78028
CATEGORIES:Science and nature
END:VEVENT
BEGIN:VEVENT
DTSTART;TZID=America/Chicago:20240821T100000
DTEND;TZID=America/Chicago:20240821T160000
DTSTAMP:20260423T111415
CREATED:20240812T194956Z
LAST-MODIFIED:20240812T194956Z
UID:55696-1724234400-1724256000@kerrcountylead.com
SUMMARY:KACC Art Exhibits
DESCRIPTION:Zena Stetka Howe\, Images Judged Membership Show\, and Hill Country Camera Club Judged Exhibit. Through September 7. 
URL:https://kerrcountylead.com/event/kacc-art-exhibits-276/
LOCATION:Kerr Arts & Cultural Center\, 228 Earl Garrett St.\, Kerrville\, Texas\, 78028
CATEGORIES:The arts
END:VEVENT
BEGIN:VEVENT
DTSTART;TZID=America/Chicago:20240821T100000
DTEND;TZID=America/Chicago:20240821T160000
DTSTAMP:20260423T111415
CREATED:20240731T154507Z
LAST-MODIFIED:20240731T154507Z
UID:55206-1724234400-1724256000@kerrcountylead.com
SUMMARY:Two Perspectives: Scott Christensen & Quang Ho
DESCRIPTION:
URL:https://kerrcountylead.com/event/two-perspectives-scott-christensen-quang-ho-22/
LOCATION:Museum of Western Art\, 1550 Bandera Hwy.\, Kerrville\, Texas\, 78028
CATEGORIES:The arts
END:VEVENT
BEGIN:VEVENT
DTSTART;TZID=America/Chicago:20240821T100000
DTEND;TZID=America/Chicago:20240821T160000
DTSTAMP:20260423T111415
CREATED:20240730T175307Z
LAST-MODIFIED:20240730T175307Z
UID:55164-1724234400-1724256000@kerrcountylead.com
SUMMARY:Kerrville 101 @ KRHC
DESCRIPTION:A standing exhibit that provides an introduction to local history and stories.
URL:https://kerrcountylead.com/event/kerrville-101-krhc-173/
LOCATION:Kerr Regional History Center\, 425 Water St.\, Kerrville\, TX\, 78028\, United States
CATEGORIES:History
END:VEVENT
BEGIN:VEVENT
DTSTART;TZID=America/Chicago:20240820T163000
DTEND;TZID=America/Chicago:20240820T183000
DTSTAMP:20260423T111415
CREATED:20240818T191834Z
LAST-MODIFIED:20240818T191834Z
UID:55775-1724171400-1724178600@kerrcountylead.com
SUMMARY:Becoming a Mother: Childbirth Education Class
DESCRIPTION:
URL:https://kerrcountylead.com/event/becoming-a-mother-childbirth-education-class/
LOCATION:Peterson Health\, 551 Hill Country Dr\, Kerrville\, TX\, 78028
CATEGORIES:Outreach groups
END:VEVENT
BEGIN:VEVENT
DTSTART;TZID=America/Chicago:20240820T163000
DTEND;TZID=America/Chicago:20240820T163000
DTSTAMP:20260423T111415
CREATED:20240818T191708Z
LAST-MODIFIED:20240818T191708Z
UID:55773-1724171400-1724171400@kerrcountylead.com
SUMMARY:PALS Support Group
DESCRIPTION:A free monthly support group for parents and caregivers for children with special needs. 
URL:https://kerrcountylead.com/event/pals-support-group-2/
LOCATION:Peterson Hospice and Home Care Building\, 250 Cully Dr\, Kerrville\, TX\, 78028
CATEGORIES:Outreach groups
END:VEVENT
BEGIN:VEVENT
DTSTART;TZID=America/Chicago:20240820T153000
DTEND;TZID=America/Chicago:20240820T173000
DTSTAMP:20260423T111415
CREATED:20240818T191519Z
LAST-MODIFIED:20240818T191519Z
UID:55771-1724167800-1724175000@kerrcountylead.com
SUMMARY:Teen Lounge
DESCRIPTION:
URL:https://kerrcountylead.com/event/teen-lounge-6/
LOCATION:Doyle Community Center\, 110 W. Barnett St.\, Kerrville\, Texas\, 78028
CATEGORIES:Outreach groups
END:VEVENT
BEGIN:VEVENT
DTSTART;TZID=America/Chicago:20240820T100000
DTEND;TZID=America/Chicago:20240820T180000
DTSTAMP:20260423T111415
CREATED:20240729T194401Z
LAST-MODIFIED:20240729T194401Z
UID:55105-1724148000-1724176800@kerrcountylead.com
SUMMARY:Our Place in Space
DESCRIPTION:Come see the constellations in our planetarium\, learn about conserving our night skies and about our place in space!
URL:https://kerrcountylead.com/event/our-place-in-space-102/
LOCATION:Riverside Nature Center\, 150 Francisco Lemos St\, Kerrville\, Texas\, 78028
CATEGORIES:Science and nature
END:VEVENT
BEGIN:VEVENT
DTSTART;TZID=America/Chicago:20240820T100000
DTEND;TZID=America/Chicago:20240820T160000
DTSTAMP:20260423T111415
CREATED:20240812T194912Z
LAST-MODIFIED:20240812T194912Z
UID:55694-1724148000-1724169600@kerrcountylead.com
SUMMARY:KACC Art Exhibits
DESCRIPTION:Zena Stetka Howe\, Images Judged Membership Show\, and Hill Country Camera Club Judged Exhibit. Through September 7. 
URL:https://kerrcountylead.com/event/kacc-art-exhibits-275/
LOCATION:Kerr Arts & Cultural Center\, 228 Earl Garrett St.\, Kerrville\, Texas\, 78028
CATEGORIES:The arts
END:VEVENT
BEGIN:VEVENT
DTSTART;TZID=America/Chicago:20240820T100000
DTEND;TZID=America/Chicago:20240820T160000
DTSTAMP:20260423T111415
CREATED:20240731T154437Z
LAST-MODIFIED:20240731T154437Z
UID:55204-1724148000-1724169600@kerrcountylead.com
SUMMARY:Two Perspectives: Scott Christensen & Quang Ho
DESCRIPTION:
URL:https://kerrcountylead.com/event/two-perspectives-scott-christensen-quang-ho-21/
LOCATION:Museum of Western Art\, 1550 Bandera Hwy.\, Kerrville\, Texas\, 78028
CATEGORIES:The arts
END:VEVENT
BEGIN:VEVENT
DTSTART;TZID=America/Chicago:20240820T100000
DTEND;TZID=America/Chicago:20240820T160000
DTSTAMP:20260423T111415
CREATED:20240730T175232Z
LAST-MODIFIED:20240730T175232Z
UID:55162-1724148000-1724169600@kerrcountylead.com
SUMMARY:Kerrville 101 @ KRHC
DESCRIPTION:A standing exhibit that provides an introduction to local history and stories.
URL:https://kerrcountylead.com/event/kerrville-101-krhc-172/
LOCATION:Kerr Regional History Center\, 425 Water St.\, Kerrville\, TX\, 78028\, United States
CATEGORIES:History
END:VEVENT
BEGIN:VEVENT
DTSTART;TZID=America/Chicago:20240819T170000
DTEND;TZID=America/Chicago:20240819T170000
DTSTAMP:20260423T111415
CREATED:20240818T190935Z
LAST-MODIFIED:20241019T202302Z
UID:55765-1724086800-1724086800@kerrcountylead.com
SUMMARY:Bird City Kerrville Coalition Meeting
DESCRIPTION:The theme is “Better for Birds\, Better for People” and is open to the public. 
URL:https://kerrcountylead.com/event/bird-city-kerrville-coalition-meeting/
LOCATION:Riverside Nature Center\, 150 Francisco Lemos St\, Kerrville\, Texas\, 78028
CATEGORIES:Science and nature
END:VEVENT
BEGIN:VEVENT
DTSTART;TZID=America/Chicago:20240819T153000
DTEND;TZID=America/Chicago:20240819T173000
DTSTAMP:20260423T111415
CREATED:20240818T190840Z
LAST-MODIFIED:20240818T190840Z
UID:55763-1724081400-1724088600@kerrcountylead.com
SUMMARY:Teen Lounge
DESCRIPTION:
URL:https://kerrcountylead.com/event/teen-lounge-5/
LOCATION:Doyle Community Center\, 110 W. Barnett St.\, Kerrville\, Texas\, 78028
CATEGORIES:Outreach groups
END:VEVENT
BEGIN:VEVENT
DTSTART;TZID=America/Chicago:20240819T100000
DTEND;TZID=America/Chicago:20240819T180000
DTSTAMP:20260423T111415
CREATED:20240729T194058Z
LAST-MODIFIED:20240729T194058Z
UID:55103-1724061600-1724090400@kerrcountylead.com
SUMMARY:Our Place in Space
DESCRIPTION:Come see the constellations in our planetarium\, learn about conserving our night skies and about our place in space!
URL:https://kerrcountylead.com/event/our-place-in-space-101/
LOCATION:Riverside Nature Center\, 150 Francisco Lemos St\, Kerrville\, Texas\, 78028
CATEGORIES:Science and nature
END:VEVENT
BEGIN:VEVENT
DTSTART;TZID=America/Chicago:20240818T170000
DTEND;TZID=America/Chicago:20240818T200000
DTSTAMP:20260423T111415
CREATED:20240812T193926Z
LAST-MODIFIED:20240812T193926Z
UID:55670-1724000400-1724011200@kerrcountylead.com
SUMMARY:Heartbreak Outlaws
DESCRIPTION:
URL:https://kerrcountylead.com/event/heartbreak-outlaws-29/
LOCATION:Howdy’s Bar & Chill\, 101 Rowland Dr\, Kerrville\, TX\, 78028
CATEGORIES:Live music
END:VEVENT
BEGIN:VEVENT
DTSTART;TZID=America/Chicago:20240818T170000
DTEND;TZID=America/Chicago:20240818T170000
DTSTAMP:20260423T111415
CREATED:20240812T194205Z
LAST-MODIFIED:20240812T194205Z
UID:55676-1724000400-1724000400@kerrcountylead.com
SUMMARY:2024/2025 Preview Party
DESCRIPTION:See what is in store for the next season at the theater. Free event.
URL:https://kerrcountylead.com/event/2024-2025-preview-party/
LOCATION:Cailloux Theater\, 910 Main St.\, Kerrville\, Texas\, 78028
CATEGORIES:Performing arts
END:VEVENT
BEGIN:VEVENT
DTSTART;TZID=America/Chicago:20240818T143000
DTEND;TZID=America/Chicago:20240818T143000
DTSTAMP:20260423T111415
CREATED:20240812T194118Z
LAST-MODIFIED:20240812T194118Z
UID:55674-1723991400-1723991400@kerrcountylead.com
SUMMARY:Promises Promises
DESCRIPTION:Indoor theater. For tickets online\, click here.
URL:https://kerrcountylead.com/event/promises-promises-3/
LOCATION:Hill Country Arts Foundation\, 120 Point Theatre Rd S\, Ingram\, Texas\, 78025
CATEGORIES:Performing arts
END:VEVENT
BEGIN:VEVENT
DTSTART;TZID=America/Chicago:20240818T143000
DTEND;TZID=America/Chicago:20240818T143000
DTSTAMP:20260423T111415
CREATED:20240812T194025Z
LAST-MODIFIED:20240812T194248Z
UID:55672-1723991400-1723991400@kerrcountylead.com
SUMMARY:The Book of Will
DESCRIPTION:By Lauren Gunderson. The story behind the publication of the first collection of William Shakespeare’s plays. Tickets for the show are available online here. 
URL:https://kerrcountylead.com/event/the-book-of-will-5/
LOCATION:VK Garage Theater\, 305 Washington St\, Kerrville\, Texas\, 78028
CATEGORIES:Performing arts
END:VEVENT
BEGIN:VEVENT
DTSTART;TZID=America/Chicago:20240818T140000
DTEND;TZID=America/Chicago:20240818T180000
DTSTAMP:20260423T111415
CREATED:20240815T202424Z
LAST-MODIFIED:20240815T202424Z
UID:55759-1723989600-1724004000@kerrcountylead.com
SUMMARY:The Pearl
DESCRIPTION:
URL:https://kerrcountylead.com/event/the-pearl-9/
LOCATION:Tailchasers Patio + Pub\, 516 Jefferson St\, Kerrville\, TX\, 78028
CATEGORIES:Food truck 411
END:VEVENT
BEGIN:VEVENT
DTSTART;TZID=America/Chicago:20240818T140000
DTEND;TZID=America/Chicago:20240818T170000
DTSTAMP:20260423T111415
CREATED:20240812T193851Z
LAST-MODIFIED:20240812T193851Z
UID:55668-1723989600-1724000400@kerrcountylead.com
SUMMARY:Nico & Jacob
DESCRIPTION:
URL:https://kerrcountylead.com/event/nico-jacob-9/
LOCATION:Bending Branch Winery\, 142 Lindner Branch Rd\, Comfort\, Texas\, 78013
CATEGORIES:Live music
END:VEVENT
BEGIN:VEVENT
DTSTART;TZID=America/Chicago:20240818T133000
DTEND;TZID=America/Chicago:20240818T133000
DTSTAMP:20260423T111415
CREATED:20240812T193738Z
LAST-MODIFIED:20240812T193738Z
UID:55664-1723987800-1723987800@kerrcountylead.com
SUMMARY:Bingo
DESCRIPTION:Sales start 12:30 p.m. Smoking and non-smoking rooms. The Dauber Cafe is open during games\, no outside food or drinks.
URL:https://kerrcountylead.com/event/bingo-231/
LOCATION:American Legion Post 208\, 3600 Riverside Dr\, Kerrville\, TX\, 78028
CATEGORIES:Games
END:VEVENT
BEGIN:VEVENT
DTSTART;TZID=America/Chicago:20240818T130000
DTEND;TZID=America/Chicago:20240818T130000
DTSTAMP:20260423T111415
CREATED:20240812T193819Z
LAST-MODIFIED:20240812T193819Z
UID:55666-1723986000-1723986000@kerrcountylead.com
SUMMARY:Bob Stewart
DESCRIPTION:
URL:https://kerrcountylead.com/event/bob-stewart-30/
LOCATION:Gravity Check Saloon\, 3979 Bandera Hwy 173\, Kerrville\, TX\, 78028\, United States
CATEGORIES:Live music
END:VEVENT
BEGIN:VEVENT
DTSTART;TZID=America/Chicago:20240818T120000
DTEND;TZID=America/Chicago:20240818T180000
DTSTAMP:20260423T111415
CREATED:20240815T202542Z
LAST-MODIFIED:20240815T202542Z
UID:55761-1723982400-1724004000@kerrcountylead.com
SUMMARY:Board Game Day
DESCRIPTION:
URL:https://kerrcountylead.com/event/board-game-day/
LOCATION:Tailchasers Patio + Pub\, 516 Jefferson St\, Kerrville\, TX\, 78028
CATEGORIES:Games
END:VEVENT
BEGIN:VEVENT
DTSTART;TZID=America/Chicago:20240818T120000
DTEND;TZID=America/Chicago:20240818T180000
DTSTAMP:20260423T111415
CREATED:20240812T193656Z
LAST-MODIFIED:20240812T193656Z
UID:55662-1723982400-1724004000@kerrcountylead.com
SUMMARY:Shim’s Be Blessed
DESCRIPTION:
URL:https://kerrcountylead.com/event/shims-be-blessed-90/
LOCATION:Trailhead Beer Garden\, 2100 Memorial Blvd Bldg #11\, Kerrville\, TX\, 78028\, United States
CATEGORIES:Food truck 411
END:VEVENT
BEGIN:VEVENT
DTSTART;TZID=America/Chicago:20240818T110000
DTEND;TZID=America/Chicago:20240818T200000
DTSTAMP:20260423T111415
CREATED:20240812T193604Z
LAST-MODIFIED:20240812T193604Z
UID:55660-1723978800-1724011200@kerrcountylead.com
SUMMARY:Que-Zeen BBQ
DESCRIPTION:
URL:https://kerrcountylead.com/event/que-zeen-bbq-139/
LOCATION:The Ingram Dam\, 610 TX 39\, Ingram\, TX\, 78025
CATEGORIES:Food truck 411
END:VEVENT
END:VCALENDAR