BEGIN:VCALENDAR
VERSION:2.0
PRODID:-//The Kerr County Lead - ECPv6.15.17.1//NONSGML v1.0//EN
CALSCALE:GREGORIAN
METHOD:PUBLISH
X-WR-CALNAME:The Kerr County Lead
X-ORIGINAL-URL:https://kerrcountylead.com
X-WR-CALDESC:Events for The Kerr County Lead
REFRESH-INTERVAL;VALUE=DURATION:PT1H
X-Robots-Tag:noindex
X-PUBLISHED-TTL:PT1H
BEGIN:VTIMEZONE
TZID:America/Chicago
BEGIN:DAYLIGHT
TZOFFSETFROM:-0600
TZOFFSETTO:-0500
TZNAME:CDT
DTSTART:20230312T080000
END:DAYLIGHT
BEGIN:STANDARD
TZOFFSETFROM:-0500
TZOFFSETTO:-0600
TZNAME:CST
DTSTART:20231105T070000
END:STANDARD
BEGIN:DAYLIGHT
TZOFFSETFROM:-0600
TZOFFSETTO:-0500
TZNAME:CDT
DTSTART:20240310T080000
END:DAYLIGHT
BEGIN:STANDARD
TZOFFSETFROM:-0500
TZOFFSETTO:-0600
TZNAME:CST
DTSTART:20241103T070000
END:STANDARD
BEGIN:DAYLIGHT
TZOFFSETFROM:-0600
TZOFFSETTO:-0500
TZNAME:CDT
DTSTART:20250309T080000
END:DAYLIGHT
BEGIN:STANDARD
TZOFFSETFROM:-0500
TZOFFSETTO:-0600
TZNAME:CST
DTSTART:20251102T070000
END:STANDARD
END:VTIMEZONE
BEGIN:VEVENT
DTSTART;TZID=America/Chicago:20240507T100000
DTEND;TZID=America/Chicago:20240507T160000
DTSTAMP:20260421T084719
CREATED:20240423T003036Z
LAST-MODIFIED:20240423T003036Z
UID:50316-1715076000-1715097600@kerrcountylead.com
SUMMARY:Kerrville 101 @ KRHC
DESCRIPTION:A standing exhibit that provides an introduction to local history and stories. 
URL:https://kerrcountylead.com/event/kerrville-101-krhc-128/
LOCATION:Kerr Regional History Center\, 425 Water St.\, Kerrville\, TX\, 78028\, United States
CATEGORIES:History
END:VEVENT
BEGIN:VEVENT
DTSTART;TZID=America/Chicago:20240507T100000
DTEND;TZID=America/Chicago:20240507T160000
DTSTAMP:20260421T084719
CREATED:20240423T220844Z
LAST-MODIFIED:20240423T220844Z
UID:50378-1715076000-1715097600@kerrcountylead.com
SUMMARY:41st Annual Roundup Exhibition and Sale
DESCRIPTION:The exhibit will feature 170 original works by 62 artists. Through June 8.
URL:https://kerrcountylead.com/event/41st-annual-roundup-exhibition-and-sale-6/
LOCATION:Museum of Western Art\, 1550 Bandera Hwy.\, Kerrville\, Texas\, 78028
CATEGORIES:The arts
END:VEVENT
BEGIN:VEVENT
DTSTART;TZID=America/Chicago:20240507T100000
DTEND;TZID=America/Chicago:20240507T160000
DTSTAMP:20260421T084719
CREATED:20240424T173644Z
LAST-MODIFIED:20240424T173644Z
UID:50427-1715076000-1715097600@kerrcountylead.com
SUMMARY:KACC Art Exhibits
DESCRIPTION:Derby Gallery – Carlos Moseley & Gerald Tobola\, Avery Gallery – Guadalupe Watercolor Group\, Cornels Gallery – SU Senior Graphic Arts Projects. 
URL:https://kerrcountylead.com/event/kacc-art-exhibits-210/
LOCATION:Kerr Arts & Cultural Center\, 228 Earl Garrett St.\, Kerrville\, Texas\, 78028
CATEGORIES:The arts
END:VEVENT
BEGIN:VEVENT
DTSTART;TZID=America/Chicago:20240507T100000
DTEND;TZID=America/Chicago:20240507T160000
DTSTAMP:20260421T084719
CREATED:20240424T174220Z
LAST-MODIFIED:20240424T174220Z
UID:50443-1715076000-1715097600@kerrcountylead.com
SUMMARY:Texas Watercolor Society Annual Show
DESCRIPTION:
URL:https://kerrcountylead.com/event/texas-watercolor-society-annual-show-4/
LOCATION:Hill Country Arts Foundation\, 120 Point Theatre Rd S\, Ingram\, Texas\, 78025
CATEGORIES:The arts
END:VEVENT
BEGIN:VEVENT
DTSTART;TZID=America/Chicago:20240507T100000
DTEND;TZID=America/Chicago:20240507T180000
DTSTAMP:20260421T084719
CREATED:20240422T235106Z
LAST-MODIFIED:20240422T235106Z
UID:50267-1715076000-1715104800@kerrcountylead.com
SUMMARY:Our Place in Space
DESCRIPTION:Come see the constellations in our planetarium\, learn about conserving our night skies and about our place in space!
URL:https://kerrcountylead.com/event/our-place-in-space-13/
LOCATION:Riverside Nature Center\, 150 Francisco Lemos St\, Kerrville\, Texas\, 78028
CATEGORIES:Science and nature
END:VEVENT
BEGIN:VEVENT
DTSTART;TZID=America/Chicago:20240507T120000
DTEND;TZID=America/Chicago:20240507T133000
DTSTAMP:20260421T084719
CREATED:20240502T182553Z
LAST-MODIFIED:20240502T182553Z
UID:50847-1715083200-1715088600@kerrcountylead.com
SUMMARY:Great Decisions Discussion Group
DESCRIPTION:The group will discuss the topic “Science Across Borders” this month.
URL:https://kerrcountylead.com/event/great-decisions-discussion-group-11/
LOCATION:Butt-Holdsworth Memorial Library\, 505 Water St.\, Kerrville\, Texas\, 78028
CATEGORIES:Library event
END:VEVENT
BEGIN:VEVENT
DTSTART;TZID=America/Chicago:20240507T183000
DTEND;TZID=America/Chicago:20240507T183000
DTSTAMP:20260421T084719
CREATED:20240502T182648Z
LAST-MODIFIED:20240502T182648Z
UID:50849-1715106600-1715106600@kerrcountylead.com
SUMMARY:Bingo
DESCRIPTION:Sales start at 5:30 p.m. Smoking and non-smoking rooms. The Dauber Cafe is open during games\, no outside food or drinks.
URL:https://kerrcountylead.com/event/bingo-173/
LOCATION:American Legion Post 208\, 3600 Riverside Dr\, Kerrville\, TX\, 78028
CATEGORIES:Games
END:VEVENT
BEGIN:VEVENT
DTSTART;TZID=America/Chicago:20240507T190000
DTEND;TZID=America/Chicago:20240507T190000
DTSTAMP:20260421T084719
CREATED:20240502T182727Z
LAST-MODIFIED:20240502T182727Z
UID:50851-1715108400-1715108400@kerrcountylead.com
SUMMARY:Jam Night
DESCRIPTION:
URL:https://kerrcountylead.com/event/jam-night-50/
LOCATION:Gravity Check Saloon\, 3979 Bandera Hwy 173\, Kerrville\, TX\, 78028\, United States
CATEGORIES:Live music
END:VEVENT
BEGIN:VEVENT
DTSTART;TZID=America/Chicago:20240508T100000
DTEND;TZID=America/Chicago:20240508T110000
DTSTAMP:20260421T084719
CREATED:20240502T183134Z
LAST-MODIFIED:20240502T183134Z
UID:50853-1715162400-1715166000@kerrcountylead.com
SUMMARY:Story Time
DESCRIPTION:Join us each week for a different theme. Children ages 3-5 will enjoy stories\, rhymes\, songs\, and activities.
URL:https://kerrcountylead.com/event/story-time-35/
LOCATION:Butt-Holdsworth Memorial Library\, 505 Water St.\, Kerrville\, Texas\, 78028
CATEGORIES:Library event
END:VEVENT
BEGIN:VEVENT
DTSTART;TZID=America/Chicago:20240508T100000
DTEND;TZID=America/Chicago:20240508T160000
DTSTAMP:20260421T084719
CREATED:20240423T003118Z
LAST-MODIFIED:20240423T003118Z
UID:50318-1715162400-1715184000@kerrcountylead.com
SUMMARY:Kerrville 101 @ KRHC
DESCRIPTION:A standing exhibit that provides an introduction to local history and stories. 
URL:https://kerrcountylead.com/event/kerrville-101-krhc-129/
LOCATION:Kerr Regional History Center\, 425 Water St.\, Kerrville\, TX\, 78028\, United States
CATEGORIES:History
END:VEVENT
BEGIN:VEVENT
DTSTART;TZID=America/Chicago:20240508T100000
DTEND;TZID=America/Chicago:20240508T160000
DTSTAMP:20260421T084719
CREATED:20240423T221004Z
LAST-MODIFIED:20240423T221004Z
UID:50380-1715162400-1715184000@kerrcountylead.com
SUMMARY:41st Annual Roundup Exhibition and Sale
DESCRIPTION:The exhibit will feature 170 original works by 62 artists. Through June 8. 
URL:https://kerrcountylead.com/event/41st-annual-roundup-exhibition-and-sale-7/
LOCATION:Museum of Western Art\, 1550 Bandera Hwy.\, Kerrville\, Texas\, 78028
CATEGORIES:The arts
END:VEVENT
BEGIN:VEVENT
DTSTART;TZID=America/Chicago:20240508T100000
DTEND;TZID=America/Chicago:20240508T160000
DTSTAMP:20260421T084719
CREATED:20240424T173726Z
LAST-MODIFIED:20240424T173726Z
UID:50429-1715162400-1715184000@kerrcountylead.com
SUMMARY:KACC Art Exhibits
DESCRIPTION:Derby Gallery – Carlos Moseley & Gerald Tobola\, Avery Gallery – Guadalupe Watercolor Group\, Cornels Gallery – SU Senior Graphic Arts Projects. 
URL:https://kerrcountylead.com/event/kacc-art-exhibits-211/
LOCATION:Kerr Arts & Cultural Center\, 228 Earl Garrett St.\, Kerrville\, Texas\, 78028
CATEGORIES:The arts
END:VEVENT
BEGIN:VEVENT
DTSTART;TZID=America/Chicago:20240508T100000
DTEND;TZID=America/Chicago:20240508T160000
DTSTAMP:20260421T084719
CREATED:20240424T174254Z
LAST-MODIFIED:20240424T174254Z
UID:50445-1715162400-1715184000@kerrcountylead.com
SUMMARY:Texas Watercolor Society Annual Show
DESCRIPTION:
URL:https://kerrcountylead.com/event/texas-watercolor-society-annual-show-5/
LOCATION:Hill Country Arts Foundation\, 120 Point Theatre Rd S\, Ingram\, Texas\, 78025
CATEGORIES:The arts
END:VEVENT
BEGIN:VEVENT
DTSTART;TZID=America/Chicago:20240508T100000
DTEND;TZID=America/Chicago:20240508T180000
DTSTAMP:20260421T084719
CREATED:20240422T235241Z
LAST-MODIFIED:20240422T235241Z
UID:50269-1715162400-1715191200@kerrcountylead.com
SUMMARY:Our Place in Space
DESCRIPTION:Come see the constellations in our planetarium\, learn about conserving our night skies and about our place in space!
URL:https://kerrcountylead.com/event/our-place-in-space-14/
LOCATION:Riverside Nature Center\, 150 Francisco Lemos St\, Kerrville\, Texas\, 78028
CATEGORIES:Science and nature
END:VEVENT
BEGIN:VEVENT
DTSTART;TZID=America/Chicago:20240508T120000
DTEND;TZID=America/Chicago:20240508T130000
DTSTAMP:20260421T084719
CREATED:20240502T183246Z
LAST-MODIFIED:20240502T183246Z
UID:50855-1715169600-1715173200@kerrcountylead.com
SUMMARY:Peterson Health Lecture Series: Stroke Support and Prevention
DESCRIPTION:
URL:https://kerrcountylead.com/event/peterson-health-lecture-series-stroke-support-and-prevention/
LOCATION:Butt-Holdsworth Memorial Library\, 505 Water St.\, Kerrville\, Texas\, 78028
CATEGORIES:Library event,Wellness
END:VEVENT
BEGIN:VEVENT
DTSTART;TZID=America/Chicago:20240508T130000
DTEND;TZID=America/Chicago:20240508T150000
DTSTAMP:20260421T084719
CREATED:20240502T183517Z
LAST-MODIFIED:20240502T183517Z
UID:50857-1715173200-1715180400@kerrcountylead.com
SUMMARY:Friends of the Library Book Sale
DESCRIPTION:
URL:https://kerrcountylead.com/event/friends-of-the-library-book-sale-72/
LOCATION:Butt-Holdsworth Memorial Library\, 505 Water St.\, Kerrville\, Texas\, 78028
CATEGORIES:Library event
END:VEVENT
BEGIN:VEVENT
DTSTART;TZID=America/Chicago:20240508T133000
DTEND;TZID=America/Chicago:20240508T133000
DTSTAMP:20260421T084719
CREATED:20240502T183634Z
LAST-MODIFIED:20240502T183634Z
UID:50859-1715175000-1715175000@kerrcountylead.com
SUMMARY:Dementia Caregiver Support Group
DESCRIPTION:
URL:https://kerrcountylead.com/event/dementia-caregiver-support-group-8/
LOCATION:Dietert Center\, 451 Guadalupe St #203\, Kerrville\, Texas\, 78028
CATEGORIES:Outreach groups
END:VEVENT
BEGIN:VEVENT
DTSTART;TZID=America/Chicago:20240508T170000
DTEND;TZID=America/Chicago:20240508T210000
DTSTAMP:20260421T084719
CREATED:20240502T183744Z
LAST-MODIFIED:20240502T183744Z
UID:50861-1715187600-1715202000@kerrcountylead.com
SUMMARY:Shim’s Be Blessed: Pizza Night!
DESCRIPTION:Pizza Night at Trailhead! Shim’s will be serving wood-fired pizzas and Trailhead will have $20 bottles of Texas wines.
URL:https://kerrcountylead.com/event/shims-be-blessed-pizza-night-19/
LOCATION:Trailhead Beer Garden\, 2100 Memorial Blvd Bldg #11\, Kerrville\, TX\, 78028\, United States
CATEGORIES:Food truck 411
END:VEVENT
BEGIN:VEVENT
DTSTART;TZID=America/Chicago:20240509T100000
DTEND;TZID=America/Chicago:20240509T160000
DTSTAMP:20260421T084719
CREATED:20240423T003207Z
LAST-MODIFIED:20240423T003207Z
UID:50320-1715248800-1715270400@kerrcountylead.com
SUMMARY:Kerrville 101 @ KRHC
DESCRIPTION:A standing exhibit that provides an introduction to local history and stories. 
URL:https://kerrcountylead.com/event/kerrville-101-krhc-130/
LOCATION:Kerr Regional History Center\, 425 Water St.\, Kerrville\, TX\, 78028\, United States
CATEGORIES:History
END:VEVENT
BEGIN:VEVENT
DTSTART;TZID=America/Chicago:20240509T100000
DTEND;TZID=America/Chicago:20240509T160000
DTSTAMP:20260421T084719
CREATED:20240423T221307Z
LAST-MODIFIED:20240423T221307Z
UID:50382-1715248800-1715270400@kerrcountylead.com
SUMMARY:41st Annual Roundup Exhibition and Sale
DESCRIPTION:The exhibit will feature 170 original works by 62 artists. Through June 8.
URL:https://kerrcountylead.com/event/41st-annual-roundup-exhibition-and-sale-8/
LOCATION:Museum of Western Art\, 1550 Bandera Hwy.\, Kerrville\, Texas\, 78028
CATEGORIES:The arts
END:VEVENT
BEGIN:VEVENT
DTSTART;TZID=America/Chicago:20240509T100000
DTEND;TZID=America/Chicago:20240509T160000
DTSTAMP:20260421T084719
CREATED:20240424T173808Z
LAST-MODIFIED:20240424T173808Z
UID:50431-1715248800-1715270400@kerrcountylead.com
SUMMARY:KACC Art Exhibits
DESCRIPTION:Derby Gallery – Carlos Moseley & Gerald Tobola\, Avery Gallery – Guadalupe Watercolor Group\, Cornels Gallery – SU Senior Graphic Arts Projects. 
URL:https://kerrcountylead.com/event/kacc-art-exhibits-212/
LOCATION:Kerr Arts & Cultural Center\, 228 Earl Garrett St.\, Kerrville\, Texas\, 78028
CATEGORIES:The arts
END:VEVENT
BEGIN:VEVENT
DTSTART;TZID=America/Chicago:20240509T100000
DTEND;TZID=America/Chicago:20240509T160000
DTSTAMP:20260421T084719
CREATED:20240424T174329Z
LAST-MODIFIED:20240424T174329Z
UID:50447-1715248800-1715270400@kerrcountylead.com
SUMMARY:Texas Watercolor Society Annual Show
DESCRIPTION:
URL:https://kerrcountylead.com/event/texas-watercolor-society-annual-show-6/
LOCATION:Hill Country Arts Foundation\, 120 Point Theatre Rd S\, Ingram\, Texas\, 78025
CATEGORIES:The arts
END:VEVENT
BEGIN:VEVENT
DTSTART;TZID=America/Chicago:20240509T100000
DTEND;TZID=America/Chicago:20240509T180000
DTSTAMP:20260421T084719
CREATED:20240422T235406Z
LAST-MODIFIED:20240422T235406Z
UID:50271-1715248800-1715277600@kerrcountylead.com
SUMMARY:Our Place in Space
DESCRIPTION:Come see the constellations in our planetarium\, learn about conserving our night skies and about our place in space!
URL:https://kerrcountylead.com/event/our-place-in-space-15/
LOCATION:Riverside Nature Center\, 150 Francisco Lemos St\, Kerrville\, Texas\, 78028
CATEGORIES:Science and nature
END:VEVENT
BEGIN:VEVENT
DTSTART;TZID=America/Chicago:20240509T120000
DTEND;TZID=America/Chicago:20240509T130000
DTSTAMP:20260421T084719
CREATED:20240504T182218Z
LAST-MODIFIED:20240504T182218Z
UID:50884-1715256000-1715259600@kerrcountylead.com
SUMMARY:Readers Mix Book Club
DESCRIPTION:The group will discuss “The Measure” by Nikki Erlick.
URL:https://kerrcountylead.com/event/readers-mix-book-club-12/
LOCATION:Butt-Holdsworth Memorial Library\, 505 Water St.\, Kerrville\, Texas\, 78028
CATEGORIES:Library event
END:VEVENT
BEGIN:VEVENT
DTSTART;TZID=America/Chicago:20240509T170000
DTEND;TZID=America/Chicago:20240509T210000
DTSTAMP:20260421T084719
CREATED:20240504T182426Z
LAST-MODIFIED:20240504T182426Z
UID:50888-1715274000-1715288400@kerrcountylead.com
SUMMARY:Shim’s Be Blessed: Burger Night!
DESCRIPTION:Burger Night at Trailhead! Shim’s will be serving burgers: 2 for $20 and Trailhead will have $4 P&P pints.
URL:https://kerrcountylead.com/event/shims-be-blessed-burger-night-18/
LOCATION:Trailhead Beer Garden\, 2100 Memorial Blvd Bldg #11\, Kerrville\, TX\, 78028\, United States
CATEGORIES:Food truck 411
END:VEVENT
BEGIN:VEVENT
DTSTART;TZID=America/Chicago:20240509T180000
DTEND;TZID=America/Chicago:20240509T180000
DTSTAMP:20260421T084719
CREATED:20240504T182316Z
LAST-MODIFIED:20240504T182316Z
UID:50886-1715277600-1715277600@kerrcountylead.com
SUMMARY:TOWN Monthly Meeting
DESCRIPTION:TOWN (Texas Outdoors Woman Network) enables outdoor-oriented women to meet and build friendships with women who have similar interests. The mission is to provide all women the opportunity to learn and experience outdoor activities in natural surroundings through a supportive environment. For more info visit https://www.facebook.com/groups/1988237591344986/about 
URL:https://kerrcountylead.com/event/town-monthly-meeting-5/
LOCATION:Riverside Nature Center\, 150 Francisco Lemos St\, Kerrville\, Texas\, 78028
CATEGORIES:Science and nature
END:VEVENT
BEGIN:VEVENT
DTSTART;TZID=America/Chicago:20240509T180000
DTEND;TZID=America/Chicago:20240509T180000
DTSTAMP:20260421T084719
CREATED:20240504T182505Z
LAST-MODIFIED:20240504T182505Z
UID:50890-1715277600-1715277600@kerrcountylead.com
SUMMARY:Open Mic Night
DESCRIPTION:
URL:https://kerrcountylead.com/event/open-mic-night-46/
LOCATION:Gravity Check Saloon\, 3979 Bandera Hwy 173\, Kerrville\, TX\, 78028\, United States
CATEGORIES:Live music
END:VEVENT
BEGIN:VEVENT
DTSTART;TZID=America/Chicago:20240509T180000
DTEND;TZID=America/Chicago:20240509T200000
DTSTAMP:20260421T084719
CREATED:20240504T182539Z
LAST-MODIFIED:20240504T182539Z
UID:50892-1715277600-1715284800@kerrcountylead.com
SUMMARY:The Moonlites
DESCRIPTION:
URL:https://kerrcountylead.com/event/the-moonlites-2/
LOCATION:Pint & Plow Brewing Co.\, 332 Clay St\, Kerrville\, Texas\, 78028
CATEGORIES:Live music
END:VEVENT
BEGIN:VEVENT
DTSTART;TZID=America/Chicago:20240510T100000
DTEND;TZID=America/Chicago:20240510T160000
DTSTAMP:20260421T084719
CREATED:20240423T221815Z
LAST-MODIFIED:20240423T221815Z
UID:50384-1715335200-1715356800@kerrcountylead.com
SUMMARY:41st Annual Roundup Exhibition and Sale
DESCRIPTION:The exhibit will feature 170 original works by 62 artists. Through June 8.
URL:https://kerrcountylead.com/event/41st-annual-roundup-exhibition-and-sale-9/
LOCATION:Museum of Western Art\, 1550 Bandera Hwy.\, Kerrville\, Texas\, 78028
CATEGORIES:The arts
END:VEVENT
BEGIN:VEVENT
DTSTART;TZID=America/Chicago:20240510T100000
DTEND;TZID=America/Chicago:20240510T160000
DTSTAMP:20260421T084719
CREATED:20240424T173849Z
LAST-MODIFIED:20240424T173849Z
UID:50433-1715335200-1715356800@kerrcountylead.com
SUMMARY:KACC Art Exhibits
DESCRIPTION:Derby Gallery – Carlos Moseley & Gerald Tobola\, Avery Gallery – Guadalupe Watercolor Group\, Cornels Gallery – SU Senior Graphic Arts Projects. 
URL:https://kerrcountylead.com/event/kacc-art-exhibits-213/
LOCATION:Kerr Arts & Cultural Center\, 228 Earl Garrett St.\, Kerrville\, Texas\, 78028
CATEGORIES:The arts
END:VEVENT
END:VCALENDAR