BEGIN:VCALENDAR
VERSION:2.0
PRODID:-//The Kerr County Lead - ECPv6.15.17.1//NONSGML v1.0//EN
CALSCALE:GREGORIAN
METHOD:PUBLISH
X-WR-CALNAME:The Kerr County Lead
X-ORIGINAL-URL:https://kerrcountylead.com
X-WR-CALDESC:Events for The Kerr County Lead
REFRESH-INTERVAL;VALUE=DURATION:PT1H
X-Robots-Tag:noindex
X-PUBLISHED-TTL:PT1H
BEGIN:VTIMEZONE
TZID:America/Chicago
BEGIN:DAYLIGHT
TZOFFSETFROM:-0600
TZOFFSETTO:-0500
TZNAME:CDT
DTSTART:20230312T080000
END:DAYLIGHT
BEGIN:STANDARD
TZOFFSETFROM:-0500
TZOFFSETTO:-0600
TZNAME:CST
DTSTART:20231105T070000
END:STANDARD
BEGIN:DAYLIGHT
TZOFFSETFROM:-0600
TZOFFSETTO:-0500
TZNAME:CDT
DTSTART:20240310T080000
END:DAYLIGHT
BEGIN:STANDARD
TZOFFSETFROM:-0500
TZOFFSETTO:-0600
TZNAME:CST
DTSTART:20241103T070000
END:STANDARD
BEGIN:DAYLIGHT
TZOFFSETFROM:-0600
TZOFFSETTO:-0500
TZNAME:CDT
DTSTART:20250309T080000
END:DAYLIGHT
BEGIN:STANDARD
TZOFFSETFROM:-0500
TZOFFSETTO:-0600
TZNAME:CST
DTSTART:20251102T070000
END:STANDARD
END:VTIMEZONE
BEGIN:VEVENT
DTSTART;TZID=America/Chicago:20240619T100000
DTEND;TZID=America/Chicago:20240619T100000
DTSTAMP:20260421T084724
CREATED:20240615T192706Z
LAST-MODIFIED:20240615T192706Z
UID:53223-1718791200-1718791200@kerrcountylead.com
SUMMARY:The Astonishing Mr Pitts
DESCRIPTION:
URL:https://kerrcountylead.com/event/the-astonishing-mr-pitts/
LOCATION:Cailloux Theater\, 910 Main St.\, Kerrville\, Texas\, 78028
CATEGORIES:Library event
END:VEVENT
BEGIN:VEVENT
DTSTART;TZID=America/Chicago:20240619T100000
DTEND;TZID=America/Chicago:20240619T160000
DTSTAMP:20260421T084724
CREATED:20240530T223052Z
LAST-MODIFIED:20240530T223052Z
UID:52441-1718791200-1718812800@kerrcountylead.com
SUMMARY:Texas Watercolor Society Annual Show
DESCRIPTION:
URL:https://kerrcountylead.com/event/texas-watercolor-society-annual-show-41/
LOCATION:Hill Country Arts Foundation\, 120 Point Theatre Rd S\, Ingram\, Texas\, 78025
CATEGORIES:The arts
END:VEVENT
BEGIN:VEVENT
DTSTART;TZID=America/Chicago:20240619T100000
DTEND;TZID=America/Chicago:20240619T160000
DTSTAMP:20260421T084724
CREATED:20240530T225543Z
LAST-MODIFIED:20240530T225543Z
UID:52476-1718791200-1718812800@kerrcountylead.com
SUMMARY:Kerrville 101 @ KRHC
DESCRIPTION:A standing exhibit that provides an introduction to local history and stories.
URL:https://kerrcountylead.com/event/kerrville-101-krhc-147/
LOCATION:Kerr Regional History Center\, 425 Water St.\, Kerrville\, TX\, 78028\, United States
CATEGORIES:History
END:VEVENT
BEGIN:VEVENT
DTSTART;TZID=America/Chicago:20240619T100000
DTEND;TZID=America/Chicago:20240619T160000
DTSTAMP:20260421T084724
CREATED:20240531T000309Z
LAST-MODIFIED:20240531T000309Z
UID:52526-1718791200-1718812800@kerrcountylead.com
SUMMARY:KACC Art Exhibits
DESCRIPTION:Monday Artists\, Prima Facie/first impressions\, Southwest Gourd & Fiber Fine Art Show. Through June 29.
URL:https://kerrcountylead.com/event/kacc-art-exhibits-239/
LOCATION:Kerr Arts & Cultural Center\, 228 Earl Garrett St.\, Kerrville\, Texas\, 78028
CATEGORIES:The arts
END:VEVENT
BEGIN:VEVENT
DTSTART;TZID=America/Chicago:20240619T100000
DTEND;TZID=America/Chicago:20240619T180000
DTSTAMP:20260421T084724
CREATED:20240529T193432Z
LAST-MODIFIED:20240529T193432Z
UID:52372-1718791200-1718820000@kerrcountylead.com
SUMMARY:Our Place in Space
DESCRIPTION:Come see the constellations in our planetarium\, learn about conserving our night skies and about our place in space!
URL:https://kerrcountylead.com/event/our-place-in-space-50/
LOCATION:Riverside Nature Center\, 150 Francisco Lemos St\, Kerrville\, Texas\, 78028
CATEGORIES:Science and nature
END:VEVENT
BEGIN:VEVENT
DTSTART;TZID=America/Chicago:20240619T101500
DTEND;TZID=America/Chicago:20240619T101500
DTSTAMP:20260421T084724
CREATED:20240615T192603Z
LAST-MODIFIED:20240615T192603Z
UID:53221-1718792100-1718792100@kerrcountylead.com
SUMMARY:Wednesday with Woodrow: Dream Catchers
DESCRIPTION:
URL:https://kerrcountylead.com/event/wednesday-with-woodrow-dream-catchers/
LOCATION:The Ridge Marketplace\, 13439 S Ranch Road 783\, Kerrville\, TX\, 78028
CATEGORIES:Crafts
END:VEVENT
BEGIN:VEVENT
DTSTART;TZID=America/Chicago:20240619T120000
DTEND;TZID=America/Chicago:20240619T130000
DTSTAMP:20260421T084724
CREATED:20240615T192832Z
LAST-MODIFIED:20240615T192832Z
UID:53225-1718798400-1718802000@kerrcountylead.com
SUMMARY:NPSOT Book Club
DESCRIPTION:The club will discuss “Landscaping with Texas Native Plants” by Sally Wassowski. 
URL:https://kerrcountylead.com/event/npsot-book-club-6/
LOCATION:Butt-Holdsworth Memorial Library\, 505 Water St.\, Kerrville\, Texas\, 78028
CATEGORIES:Library event,Science and nature
END:VEVENT
BEGIN:VEVENT
DTSTART;TZID=America/Chicago:20240619T130000
DTEND;TZID=America/Chicago:20240619T150000
DTSTAMP:20260421T084724
CREATED:20240615T192921Z
LAST-MODIFIED:20240615T192921Z
UID:53227-1718802000-1718809200@kerrcountylead.com
SUMMARY:Friends of the Library Book Sale
DESCRIPTION:
URL:https://kerrcountylead.com/event/friends-of-the-library-book-sale-80/
LOCATION:Butt-Holdsworth Memorial Library\, 505 Water St.\, Kerrville\, Texas\, 78028
CATEGORIES:Library event
END:VEVENT
BEGIN:VEVENT
DTSTART;TZID=America/Chicago:20240619T153000
DTEND;TZID=America/Chicago:20240619T163000
DTSTAMP:20260421T084724
CREATED:20240615T193019Z
LAST-MODIFIED:20240615T193019Z
UID:53229-1718811000-1718814600@kerrcountylead.com
SUMMARY:Movie Chat
DESCRIPTION:This month’s movie selection is “Moonrise Kingdom.”
URL:https://kerrcountylead.com/event/movie-chat-16/
LOCATION:Butt-Holdsworth Memorial Library\, 505 Water St.\, Kerrville\, Texas\, 78028
CATEGORIES:Library event
END:VEVENT
BEGIN:VEVENT
DTSTART;TZID=America/Chicago:20240619T170000
DTEND;TZID=America/Chicago:20240619T210000
DTSTAMP:20260421T084724
CREATED:20240615T193234Z
LAST-MODIFIED:20240615T193234Z
UID:53233-1718816400-1718830800@kerrcountylead.com
SUMMARY:Shim’s Be Blessed: Pizza Night!
DESCRIPTION:Pizza Night at Trailhead! Shim’s will be serving wood-fired pizzas and Trailhead will have $20 bottles of Texas wines.
URL:https://kerrcountylead.com/event/shims-be-blessed-pizza-night-25/
LOCATION:Trailhead Beer Garden\, 2100 Memorial Blvd Bldg #11\, Kerrville\, TX\, 78028\, United States
CATEGORIES:Food truck 411
END:VEVENT
BEGIN:VEVENT
DTSTART;TZID=America/Chicago:20240619T180000
DTEND;TZID=America/Chicago:20240619T180000
DTSTAMP:20260421T084724
CREATED:20240615T193128Z
LAST-MODIFIED:20240615T193128Z
UID:53231-1718820000-1718820000@kerrcountylead.com
SUMMARY:NEd +: Author Talk
DESCRIPTION:Bob Spain and Joy Emshoff present their books on canoeing and waterways. Please register to attend.
URL:https://kerrcountylead.com/event/ned-author-talk/
LOCATION:Riverside Nature Center\, 150 Francisco Lemos St\, Kerrville\, Texas\, 78028
CATEGORIES:Science and nature
END:VEVENT
BEGIN:VEVENT
DTSTART;TZID=America/Chicago:20240620T100000
DTEND;TZID=America/Chicago:20240620T100000
DTSTAMP:20260421T084724
CREATED:20240616T182822Z
LAST-MODIFIED:20240616T182822Z
UID:53319-1718877600-1718877600@kerrcountylead.com
SUMMARY:Falls Prevention Class
DESCRIPTION:A free class presented by Peterson Health.
URL:https://kerrcountylead.com/event/falls-prevention-class-3/
LOCATION:Dietert Center\, 451 Guadalupe St #203\, Kerrville\, Texas\, 78028
CATEGORIES:Outreach groups
END:VEVENT
BEGIN:VEVENT
DTSTART;TZID=America/Chicago:20240620T100000
DTEND;TZID=America/Chicago:20240620T110000
DTSTAMP:20260421T084724
CREATED:20240616T183008Z
LAST-MODIFIED:20240616T183008Z
UID:53321-1718877600-1718881200@kerrcountylead.com
SUMMARY:Adventure Time with the Magic Tree House: Paper Bag Nature Journal: Session 2
DESCRIPTION:Registration required. For more info and to register\, click here.
URL:https://kerrcountylead.com/event/adventure-time-with-the-magic-tree-house-paper-bag-nature-journal-session-2/
LOCATION:Butt-Holdsworth Memorial Library\, 505 Water St.\, Kerrville\, Texas\, 78028
CATEGORIES:Library event
END:VEVENT
BEGIN:VEVENT
DTSTART;TZID=America/Chicago:20240620T100000
DTEND;TZID=America/Chicago:20240620T160000
DTSTAMP:20260421T084724
CREATED:20240530T223133Z
LAST-MODIFIED:20240530T223133Z
UID:52443-1718877600-1718899200@kerrcountylead.com
SUMMARY:Texas Watercolor Society Annual Show
DESCRIPTION:
URL:https://kerrcountylead.com/event/texas-watercolor-society-annual-show-42/
LOCATION:Hill Country Arts Foundation\, 120 Point Theatre Rd S\, Ingram\, Texas\, 78025
CATEGORIES:The arts
END:VEVENT
BEGIN:VEVENT
DTSTART;TZID=America/Chicago:20240620T100000
DTEND;TZID=America/Chicago:20240620T160000
DTSTAMP:20260421T084724
CREATED:20240530T225623Z
LAST-MODIFIED:20240530T225623Z
UID:52478-1718877600-1718899200@kerrcountylead.com
SUMMARY:Kerrville 101 @ KRHC
DESCRIPTION:A standing exhibit that provides an introduction to local history and stories.
URL:https://kerrcountylead.com/event/kerrville-101-krhc-148/
LOCATION:Kerr Regional History Center\, 425 Water St.\, Kerrville\, TX\, 78028\, United States
CATEGORIES:History
END:VEVENT
BEGIN:VEVENT
DTSTART;TZID=America/Chicago:20240620T100000
DTEND;TZID=America/Chicago:20240620T160000
DTSTAMP:20260421T084724
CREATED:20240531T000350Z
LAST-MODIFIED:20240531T000350Z
UID:52528-1718877600-1718899200@kerrcountylead.com
SUMMARY:KACC Art Exhibits
DESCRIPTION:Monday Artists\, Prima Facie/first impressions\, Southwest Gourd & Fiber Fine Art Show. Through June 29.
URL:https://kerrcountylead.com/event/kacc-art-exhibits-240/
LOCATION:Kerr Arts & Cultural Center\, 228 Earl Garrett St.\, Kerrville\, Texas\, 78028
CATEGORIES:The arts
END:VEVENT
BEGIN:VEVENT
DTSTART;TZID=America/Chicago:20240620T100000
DTEND;TZID=America/Chicago:20240620T180000
DTSTAMP:20260421T084724
CREATED:20240529T193511Z
LAST-MODIFIED:20240529T193511Z
UID:52374-1718877600-1718906400@kerrcountylead.com
SUMMARY:Our Place in Space
DESCRIPTION:Come see the constellations in our planetarium\, learn about conserving our night skies and about our place in space!
URL:https://kerrcountylead.com/event/our-place-in-space-51/
LOCATION:Riverside Nature Center\, 150 Francisco Lemos St\, Kerrville\, Texas\, 78028
CATEGORIES:Science and nature
END:VEVENT
BEGIN:VEVENT
DTSTART;TZID=America/Chicago:20240620T103000
DTEND;TZID=America/Chicago:20240620T113000
DTSTAMP:20260421T084724
CREATED:20240616T183336Z
LAST-MODIFIED:20240616T183336Z
UID:53327-1718879400-1718883000@kerrcountylead.com
SUMMARY:Sprouts
DESCRIPTION:Explore the wonders of nature through story time with your preschooler.
URL:https://kerrcountylead.com/event/sprouts-64/
LOCATION:Riverside Nature Center\, 150 Francisco Lemos St\, Kerrville\, Texas\, 78028
CATEGORIES:Science and nature
END:VEVENT
BEGIN:VEVENT
DTSTART;TZID=America/Chicago:20240620T110000
DTEND;TZID=America/Chicago:20240620T200000
DTSTAMP:20260421T084724
CREATED:20240616T183446Z
LAST-MODIFIED:20240616T183446Z
UID:53329-1718881200-1718913600@kerrcountylead.com
SUMMARY:Que-Zeen BBQ
DESCRIPTION:
URL:https://kerrcountylead.com/event/que-zeen-bbq-105/
LOCATION:The Ingram Dam\, 610 TX 39\, Ingram\, TX\, 78025
CATEGORIES:Food truck 411
END:VEVENT
BEGIN:VEVENT
DTSTART;TZID=America/Chicago:20240620T120000
DTEND;TZID=America/Chicago:20240620T130000
DTSTAMP:20260421T084724
CREATED:20240616T183140Z
LAST-MODIFIED:20240616T183140Z
UID:53323-1718884800-1718888400@kerrcountylead.com
SUMMARY:Shrouded in Mystery Book Club
DESCRIPTION:The group will discuss “Rivers of London (Midnight Riots)”” by Ben Aaronovitch.
URL:https://kerrcountylead.com/event/shrouded-in-mystery-book-club-11/
LOCATION:Butt-Holdsworth Memorial Library\, 505 Water St.\, Kerrville\, Texas\, 78028
CATEGORIES:Library event
END:VEVENT
BEGIN:VEVENT
DTSTART;TZID=America/Chicago:20240620T140000
DTEND;TZID=America/Chicago:20240620T150000
DTSTAMP:20260421T084724
CREATED:20240616T183249Z
LAST-MODIFIED:20240616T183249Z
UID:53325-1718892000-1718895600@kerrcountylead.com
SUMMARY:Lego Club
DESCRIPTION:Registration required. For more info and to register\, click here.
URL:https://kerrcountylead.com/event/lego-club-18/
LOCATION:Butt-Holdsworth Memorial Library\, 505 Water St.\, Kerrville\, Texas\, 78028
CATEGORIES:Library event
END:VEVENT
BEGIN:VEVENT
DTSTART;TZID=America/Chicago:20240620T170000
DTEND;TZID=America/Chicago:20240620T210000
DTSTAMP:20260421T084724
CREATED:20240616T183553Z
LAST-MODIFIED:20240616T183553Z
UID:53331-1718902800-1718917200@kerrcountylead.com
SUMMARY:Shim’s Be Blessed: Burger Night!
DESCRIPTION: Burger Night at Trailhead! Shim’s will be serving burgers: 2 for $20 and Trailhead will have $4 P&P pints.
URL:https://kerrcountylead.com/event/shims-be-blessed-burger-night-24/
LOCATION:Trailhead Beer Garden\, 2100 Memorial Blvd Bldg #11\, Kerrville\, TX\, 78028\, United States
CATEGORIES:Food truck 411
END:VEVENT
BEGIN:VEVENT
DTSTART;TZID=America/Chicago:20240620T173000
DTEND;TZID=America/Chicago:20240620T173000
DTSTAMP:20260421T084724
CREATED:20240616T183650Z
LAST-MODIFIED:20240616T183650Z
UID:53333-1718904600-1718904600@kerrcountylead.com
SUMMARY:Guitar Class with Susan Herndon
DESCRIPTION:Free event and all levels welcome.
URL:https://kerrcountylead.com/event/guitar-class-with-susan-herndon-9/
LOCATION:Central Provisions\, 227 FM 480\, Center Point\, Texas\, 78010
END:VEVENT
BEGIN:VEVENT
DTSTART;TZID=America/Chicago:20240620T180000
DTEND;TZID=America/Chicago:20240620T180000
DTSTAMP:20260421T084724
CREATED:20240616T183840Z
LAST-MODIFIED:20240616T183840Z
UID:53335-1718906400-1718906400@kerrcountylead.com
SUMMARY:Japanese Texans: Pioneers of Rice Farming
DESCRIPTION:The Friends of the Texas Historical Commission presents a webinar by Sidney Lu. Learn about the history and legacy of Japanese farmers in Texas. The virtual event is free but registration is required. Register online here.
URL:https://kerrcountylead.com/event/japanese-texans-pioneers-of-rice-farming/
LOCATION:Texas
CATEGORIES:History,Online event
END:VEVENT
BEGIN:VEVENT
DTSTART;TZID=America/Chicago:20240620T180000
DTEND;TZID=America/Chicago:20240620T180000
DTSTAMP:20260421T084724
CREATED:20240616T183935Z
LAST-MODIFIED:20240616T184007Z
UID:53337-1718906400-1718906400@kerrcountylead.com
SUMMARY:Birds\, Bees\, and Botanicals
DESCRIPTION:Make a pollinator planter while having Bees Knees cocktails. Call to reserve your spot.
URL:https://kerrcountylead.com/event/birds-bees-and-botanicals/
LOCATION:The Ridge Marketplace\, 13439 S Ranch Road 783\, Kerrville\, TX\, 78028
CATEGORIES:Crafts
END:VEVENT
BEGIN:VEVENT
DTSTART;TZID=America/Chicago:20240620T180000
DTEND;TZID=America/Chicago:20240620T180000
DTSTAMP:20260421T084724
CREATED:20240616T184044Z
LAST-MODIFIED:20240616T184044Z
UID:53340-1718906400-1718906400@kerrcountylead.com
SUMMARY:Open Mic Night
DESCRIPTION:
URL:https://kerrcountylead.com/event/open-mic-night-58/
LOCATION:Gravity Check Saloon\, 3979 Bandera Hwy 173\, Kerrville\, TX\, 78028\, United States
CATEGORIES:Live music
END:VEVENT
BEGIN:VEVENT
DTSTART;TZID=America/Chicago:20240620T183000
DTEND;TZID=America/Chicago:20240620T183000
DTSTAMP:20260421T084724
CREATED:20240616T184134Z
LAST-MODIFIED:20240616T184134Z
UID:53342-1718908200-1718908200@kerrcountylead.com
SUMMARY:T4: Third Thirsty Thursday Trivia
DESCRIPTION:Free entry\, prizes. Full bar open. Teams of up to 6 people. You can have Pint & Plow pizza plus two appetizers waiting for your team when you arrive. Place your order when you RSVP.
URL:https://kerrcountylead.com/event/t4-third-thirsty-thursday-trivia-13/
LOCATION:The Arcadia Live\, 717 Water St\, Kerrville\, TX\, 78028\, United States
CATEGORIES:Games
END:VEVENT
BEGIN:VEVENT
DTSTART;TZID=America/Chicago:20240620T203000
DTEND;TZID=America/Chicago:20240620T203000
DTSTAMP:20260421T084724
CREATED:20240616T184222Z
LAST-MODIFIED:20240616T184222Z
UID:53344-1718915400-1718915400@kerrcountylead.com
SUMMARY:Joseph and the Amazing Technicolor Dreamcoat
DESCRIPTION:A musical by Tim Rice and Andrew Lloyd Webber that tells the story of Joseph through humor\, drama\, and music. To purchase tickets online\, click here.
URL:https://kerrcountylead.com/event/joseph-and-the-amazing-technicolor-dreamcoat-6/
LOCATION:Hill Country Arts Foundation\, 120 Point Theatre Rd S\, Ingram\, Texas\, 78025
CATEGORIES:Performing arts
END:VEVENT
BEGIN:VEVENT
DTSTART;TZID=America/Chicago:20240621T100000
DTEND;TZID=America/Chicago:20240621T160000
DTSTAMP:20260421T084724
CREATED:20240530T223205Z
LAST-MODIFIED:20240530T223205Z
UID:52445-1718964000-1718985600@kerrcountylead.com
SUMMARY:Texas Watercolor Society Annual Show
DESCRIPTION:
URL:https://kerrcountylead.com/event/texas-watercolor-society-annual-show-43/
LOCATION:Hill Country Arts Foundation\, 120 Point Theatre Rd S\, Ingram\, Texas\, 78025
CATEGORIES:The arts
END:VEVENT
BEGIN:VEVENT
DTSTART;TZID=America/Chicago:20240621T100000
DTEND;TZID=America/Chicago:20240621T160000
DTSTAMP:20260421T084724
CREATED:20240531T000433Z
LAST-MODIFIED:20240531T000433Z
UID:52530-1718964000-1718985600@kerrcountylead.com
SUMMARY:KACC Art Exhibits
DESCRIPTION:Monday Artists\, Prima Facie/first impressions\, Southwest Gourd & Fiber Fine Art Show. Through June 29.
URL:https://kerrcountylead.com/event/kacc-art-exhibits-241/
LOCATION:Kerr Arts & Cultural Center\, 228 Earl Garrett St.\, Kerrville\, Texas\, 78028
CATEGORIES:The arts
END:VEVENT
END:VCALENDAR