BEGIN:VCALENDAR
VERSION:2.0
PRODID:-//The Kerr County Lead - ECPv6.15.17.1//NONSGML v1.0//EN
CALSCALE:GREGORIAN
METHOD:PUBLISH
X-WR-CALNAME:The Kerr County Lead
X-ORIGINAL-URL:https://kerrcountylead.com
X-WR-CALDESC:Events for The Kerr County Lead
REFRESH-INTERVAL;VALUE=DURATION:PT1H
X-Robots-Tag:noindex
X-PUBLISHED-TTL:PT1H
BEGIN:VTIMEZONE
TZID:America/Chicago
BEGIN:DAYLIGHT
TZOFFSETFROM:-0600
TZOFFSETTO:-0500
TZNAME:CDT
DTSTART:20230312T080000
END:DAYLIGHT
BEGIN:STANDARD
TZOFFSETFROM:-0500
TZOFFSETTO:-0600
TZNAME:CST
DTSTART:20231105T070000
END:STANDARD
BEGIN:DAYLIGHT
TZOFFSETFROM:-0600
TZOFFSETTO:-0500
TZNAME:CDT
DTSTART:20240310T080000
END:DAYLIGHT
BEGIN:STANDARD
TZOFFSETFROM:-0500
TZOFFSETTO:-0600
TZNAME:CST
DTSTART:20241103T070000
END:STANDARD
BEGIN:DAYLIGHT
TZOFFSETFROM:-0600
TZOFFSETTO:-0500
TZNAME:CDT
DTSTART:20250309T080000
END:DAYLIGHT
BEGIN:STANDARD
TZOFFSETFROM:-0500
TZOFFSETTO:-0600
TZNAME:CST
DTSTART:20251102T070000
END:STANDARD
END:VTIMEZONE
BEGIN:VEVENT
DTSTART;TZID=America/Chicago:20240805T100000
DTEND;TZID=America/Chicago:20240805T160000
DTSTAMP:20260421T054337
CREATED:20240730T173859Z
LAST-MODIFIED:20240730T173859Z
UID:55138-1722852000-1722873600@kerrcountylead.com
SUMMARY:Summer Art Mart
DESCRIPTION:
URL:https://kerrcountylead.com/event/summer-art-mart-21/
LOCATION:Hill Country Arts Foundation\, 120 Point Theatre Rd S\, Ingram\, Texas\, 78025
CATEGORIES:The arts
END:VEVENT
BEGIN:VEVENT
DTSTART;TZID=America/Chicago:20240805T100000
DTEND;TZID=America/Chicago:20240805T180000
DTSTAMP:20260421T054337
CREATED:20240729T192221Z
LAST-MODIFIED:20240729T192221Z
UID:55079-1722852000-1722880800@kerrcountylead.com
SUMMARY:Our Place in Space
DESCRIPTION:Come see the constellations in our planetarium\, learn about conserving our night skies and about our place in space!
URL:https://kerrcountylead.com/event/our-place-in-space-89/
LOCATION:Riverside Nature Center\, 150 Francisco Lemos St\, Kerrville\, Texas\, 78028
CATEGORIES:Science and nature
END:VEVENT
BEGIN:VEVENT
DTSTART;TZID=America/Chicago:20240805T153000
DTEND;TZID=America/Chicago:20240805T170000
DTSTAMP:20260421T054337
CREATED:20240805T160127Z
LAST-MODIFIED:20240805T160141Z
UID:55317-1722871800-1722877200@kerrcountylead.com
SUMMARY:Back to Life: Joint Replacement Class
DESCRIPTION:
URL:https://kerrcountylead.com/event/back-to-life-joint-replacement-class/
LOCATION:Peterson Hospice and Home Care Building\, 250 Cully Dr\, Kerrville\, TX\, 78028
CATEGORIES:Outreach groups
END:VEVENT
BEGIN:VEVENT
DTSTART;TZID=America/Chicago:20240806T100000
DTEND;TZID=America/Chicago:20240806T160000
DTSTAMP:20260421T054337
CREATED:20240730T173934Z
LAST-MODIFIED:20240730T173934Z
UID:55140-1722938400-1722960000@kerrcountylead.com
SUMMARY:Summer Art Mart
DESCRIPTION:
URL:https://kerrcountylead.com/event/summer-art-mart-22/
LOCATION:Hill Country Arts Foundation\, 120 Point Theatre Rd S\, Ingram\, Texas\, 78025
CATEGORIES:The arts
END:VEVENT
BEGIN:VEVENT
DTSTART;TZID=America/Chicago:20240806T100000
DTEND;TZID=America/Chicago:20240806T160000
DTSTAMP:20260421T054337
CREATED:20240730T174827Z
LAST-MODIFIED:20240730T174827Z
UID:55150-1722938400-1722960000@kerrcountylead.com
SUMMARY:Kerrville 101 @ KRHC
DESCRIPTION:A standing exhibit that provides an introduction to local history and stories.
URL:https://kerrcountylead.com/event/kerrville-101-krhc-166/
LOCATION:Kerr Regional History Center\, 425 Water St.\, Kerrville\, TX\, 78028\, United States
CATEGORIES:History
END:VEVENT
BEGIN:VEVENT
DTSTART;TZID=America/Chicago:20240806T100000
DTEND;TZID=America/Chicago:20240806T160000
DTSTAMP:20260421T054337
CREATED:20240731T153907Z
LAST-MODIFIED:20240731T153907Z
UID:55184-1722938400-1722960000@kerrcountylead.com
SUMMARY:Two Perspectives: Scott Christensen & Quang Ho
DESCRIPTION:
URL:https://kerrcountylead.com/event/two-perspectives-scott-christensen-quang-ho-11/
LOCATION:Museum of Western Art\, 1550 Bandera Hwy.\, Kerrville\, Texas\, 78028
CATEGORIES:The arts
END:VEVENT
BEGIN:VEVENT
DTSTART;TZID=America/Chicago:20240806T100000
DTEND;TZID=America/Chicago:20240806T180000
DTSTAMP:20260421T054337
CREATED:20240729T192309Z
LAST-MODIFIED:20240729T192309Z
UID:55081-1722938400-1722967200@kerrcountylead.com
SUMMARY:Our Place in Space
DESCRIPTION:Come see the constellations in our planetarium\, learn about conserving our night skies and about our place in space!
URL:https://kerrcountylead.com/event/our-place-in-space-90/
LOCATION:Riverside Nature Center\, 150 Francisco Lemos St\, Kerrville\, Texas\, 78028
CATEGORIES:Science and nature
END:VEVENT
BEGIN:VEVENT
DTSTART;TZID=America/Chicago:20240806T120000
DTEND;TZID=America/Chicago:20240806T120000
DTSTAMP:20260421T054337
CREATED:20240805T160425Z
LAST-MODIFIED:20240805T160425Z
UID:55323-1722945600-1722945600@kerrcountylead.com
SUMMARY:Great Decisions Discussion Group
DESCRIPTION:The group will discuss the topic “NATO’s Future” this month.
URL:https://kerrcountylead.com/event/great-decisions-discussion-group-14/
LOCATION:Butt-Holdsworth Memorial Library\, 505 Water St.\, Kerrville\, Texas\, 78028
CATEGORIES:Library event
END:VEVENT
BEGIN:VEVENT
DTSTART;TZID=America/Chicago:20240806T170000
DTEND;TZID=America/Chicago:20240806T190000
DTSTAMP:20260421T054337
CREATED:20240805T160755Z
LAST-MODIFIED:20240805T160755Z
UID:55327-1722963600-1722970800@kerrcountylead.com
SUMMARY:Becoming a Mother: Understanding Breastfeeding
DESCRIPTION:
URL:https://kerrcountylead.com/event/becoming-a-mother-understanding-breastfeeding/
LOCATION:Peterson Health\, 551 Hill Country Dr\, Kerrville\, TX\, 78028
CATEGORIES:Outreach groups
END:VEVENT
BEGIN:VEVENT
DTSTART;TZID=America/Chicago:20240806T173000
DTEND;TZID=America/Chicago:20240806T190000
DTSTAMP:20260421T054337
CREATED:20240805T160838Z
LAST-MODIFIED:20240805T160838Z
UID:55330-1722965400-1722970800@kerrcountylead.com
SUMMARY:Grief Support Group
DESCRIPTION:
URL:https://kerrcountylead.com/event/grief-support-group-21/
LOCATION:Peterson Hospice and Home Care Building\, 250 Cully Dr\, Kerrville\, TX\, 78028
CATEGORIES:Outreach groups
END:VEVENT
BEGIN:VEVENT
DTSTART;TZID=America/Chicago:20240807T100000
DTEND;TZID=America/Chicago:20240807T160000
DTSTAMP:20260421T054337
CREATED:20240730T174015Z
LAST-MODIFIED:20240730T174015Z
UID:55142-1723024800-1723046400@kerrcountylead.com
SUMMARY:Summer Art Mart
DESCRIPTION:
URL:https://kerrcountylead.com/event/summer-art-mart-23/
LOCATION:Hill Country Arts Foundation\, 120 Point Theatre Rd S\, Ingram\, Texas\, 78025
CATEGORIES:The arts
END:VEVENT
BEGIN:VEVENT
DTSTART;TZID=America/Chicago:20240807T100000
DTEND;TZID=America/Chicago:20240807T160000
DTSTAMP:20260421T054337
CREATED:20240730T174902Z
LAST-MODIFIED:20240730T174902Z
UID:55152-1723024800-1723046400@kerrcountylead.com
SUMMARY:Kerrville 101 @ KRHC
DESCRIPTION:A standing exhibit that provides an introduction to local history and stories.
URL:https://kerrcountylead.com/event/kerrville-101-krhc-167/
LOCATION:Kerr Regional History Center\, 425 Water St.\, Kerrville\, TX\, 78028\, United States
CATEGORIES:History
END:VEVENT
BEGIN:VEVENT
DTSTART;TZID=America/Chicago:20240807T100000
DTEND;TZID=America/Chicago:20240807T160000
DTSTAMP:20260421T054337
CREATED:20240731T153939Z
LAST-MODIFIED:20240731T153939Z
UID:55186-1723024800-1723046400@kerrcountylead.com
SUMMARY:Two Perspectives: Scott Christensen & Quang Ho
DESCRIPTION:
URL:https://kerrcountylead.com/event/two-perspectives-scott-christensen-quang-ho-12/
LOCATION:Museum of Western Art\, 1550 Bandera Hwy.\, Kerrville\, Texas\, 78028
CATEGORIES:The arts
END:VEVENT
BEGIN:VEVENT
DTSTART;TZID=America/Chicago:20240807T100000
DTEND;TZID=America/Chicago:20240807T180000
DTSTAMP:20260421T054337
CREATED:20240729T192344Z
LAST-MODIFIED:20240729T192344Z
UID:55083-1723024800-1723053600@kerrcountylead.com
SUMMARY:Our Place in Space
DESCRIPTION:Come see the constellations in our planetarium\, learn about conserving our night skies and about our place in space!
URL:https://kerrcountylead.com/event/our-place-in-space-91/
LOCATION:Riverside Nature Center\, 150 Francisco Lemos St\, Kerrville\, Texas\, 78028
CATEGORIES:Science and nature
END:VEVENT
BEGIN:VEVENT
DTSTART;TZID=America/Chicago:20240807T130000
DTEND;TZID=America/Chicago:20240807T150000
DTSTAMP:20260421T054337
CREATED:20240805T163135Z
LAST-MODIFIED:20240805T163135Z
UID:55336-1723035600-1723042800@kerrcountylead.com
SUMMARY:Friends of the Library Book Sale
DESCRIPTION:
URL:https://kerrcountylead.com/event/friends-of-the-library-book-sale-88/
LOCATION:Butt-Holdsworth Memorial Library\, 505 Water St.\, Kerrville\, Texas\, 78028
CATEGORIES:Library event
END:VEVENT
BEGIN:VEVENT
DTSTART;TZID=America/Chicago:20240807T150000
DTEND;TZID=America/Chicago:20240807T160000
DTSTAMP:20260421T054337
CREATED:20240805T163336Z
LAST-MODIFIED:20240805T163336Z
UID:55338-1723042800-1723046400@kerrcountylead.com
SUMMARY:Building Confidence: Big & Loud for Life
DESCRIPTION:
URL:https://kerrcountylead.com/event/building-confidence-big-loud-for-life/
LOCATION:Peterson Wellness Center\, 250 Cully Dr\, Kerrville\, TX\, 78028
CATEGORIES:Outreach groups
END:VEVENT
BEGIN:VEVENT
DTSTART;TZID=America/Chicago:20240807T160000
DTEND;TZID=America/Chicago:20240807T170000
DTSTAMP:20260421T054337
CREATED:20240805T163430Z
LAST-MODIFIED:20240805T163430Z
UID:55341-1723046400-1723050000@kerrcountylead.com
SUMMARY:Parkinson's Support Group
DESCRIPTION:
URL:https://kerrcountylead.com/event/parkinsons-support-group/
LOCATION:Peterson Hospice and Home Care Building\, 250 Cully Dr\, Kerrville\, TX\, 78028
CATEGORIES:Outreach groups
END:VEVENT
BEGIN:VEVENT
DTSTART;TZID=America/Chicago:20240807T170000
DTEND;TZID=America/Chicago:20240807T210000
DTSTAMP:20260421T054337
CREATED:20240805T163550Z
LAST-MODIFIED:20240805T163550Z
UID:55343-1723050000-1723064400@kerrcountylead.com
SUMMARY:Shim’s Be Blessed: Pizza Night!
DESCRIPTION:Pizza Night at Trailhead! Shim’s will be serving wood-fired pizzas and Trailhead will have $20 bottles of Texas wines.
URL:https://kerrcountylead.com/event/shims-be-blessed-pizza-night-32/
LOCATION:Trailhead Beer Garden\, 2100 Memorial Blvd Bldg #11\, Kerrville\, TX\, 78028\, United States
CATEGORIES:Food truck 411
END:VEVENT
BEGIN:VEVENT
DTSTART;TZID=America/Chicago:20240807T173000
DTEND;TZID=America/Chicago:20240807T193000
DTSTAMP:20260421T054337
CREATED:20240805T163651Z
LAST-MODIFIED:20240805T163651Z
UID:55345-1723051800-1723059000@kerrcountylead.com
SUMMARY:Wild West Wine Wednesday
DESCRIPTION:Enjoy samples from Becker Vineyards and a short presentation on what’s going on at MoWA. Free event.
URL:https://kerrcountylead.com/event/wild-west-wine-wednesday-14/
LOCATION:Museum of Western Art\, 1550 Bandera Hwy.\, Kerrville\, Texas\, 78028
CATEGORIES:The arts
END:VEVENT
BEGIN:VEVENT
DTSTART;TZID=America/Chicago:20240808T100000
DTEND;TZID=America/Chicago:20240808T160000
DTSTAMP:20260421T054337
CREATED:20240730T174052Z
LAST-MODIFIED:20240730T174052Z
UID:55144-1723111200-1723132800@kerrcountylead.com
SUMMARY:Summer Art Mart
DESCRIPTION:
URL:https://kerrcountylead.com/event/summer-art-mart-24/
LOCATION:Hill Country Arts Foundation\, 120 Point Theatre Rd S\, Ingram\, Texas\, 78025
CATEGORIES:The arts
END:VEVENT
BEGIN:VEVENT
DTSTART;TZID=America/Chicago:20240808T100000
DTEND;TZID=America/Chicago:20240808T160000
DTSTAMP:20260421T054337
CREATED:20240730T174942Z
LAST-MODIFIED:20240730T174942Z
UID:55154-1723111200-1723132800@kerrcountylead.com
SUMMARY:Kerrville 101 @ KRHC
DESCRIPTION:A standing exhibit that provides an introduction to local history and stories.
URL:https://kerrcountylead.com/event/kerrville-101-krhc-168/
LOCATION:Kerr Regional History Center\, 425 Water St.\, Kerrville\, TX\, 78028\, United States
CATEGORIES:History
END:VEVENT
BEGIN:VEVENT
DTSTART;TZID=America/Chicago:20240808T100000
DTEND;TZID=America/Chicago:20240808T160000
DTSTAMP:20260421T054337
CREATED:20240731T154014Z
LAST-MODIFIED:20240731T154014Z
UID:55188-1723111200-1723132800@kerrcountylead.com
SUMMARY:Two Perspectives: Scott Christensen & Quang Ho
DESCRIPTION:
URL:https://kerrcountylead.com/event/two-perspectives-scott-christensen-quang-ho-13/
LOCATION:Museum of Western Art\, 1550 Bandera Hwy.\, Kerrville\, Texas\, 78028
CATEGORIES:The arts
END:VEVENT
BEGIN:VEVENT
DTSTART;TZID=America/Chicago:20240808T100000
DTEND;TZID=America/Chicago:20240808T160000
DTSTAMP:20260421T054337
CREATED:20240812T194359Z
LAST-MODIFIED:20240812T194359Z
UID:55678-1723111200-1723132800@kerrcountylead.com
SUMMARY:KACC Art Exhibits
DESCRIPTION:Zena Stetka Howe\, Images Judged Membership Show\, and Hill Country Camera Club Judged Exhibit. Through September 7. 
URL:https://kerrcountylead.com/event/kacc-art-exhibits-270/
LOCATION:Kerr Arts & Cultural Center\, 228 Earl Garrett St.\, Kerrville\, Texas\, 78028
CATEGORIES:The arts
END:VEVENT
BEGIN:VEVENT
DTSTART;TZID=America/Chicago:20240808T100000
DTEND;TZID=America/Chicago:20240808T180000
DTSTAMP:20260421T054337
CREATED:20240729T192937Z
LAST-MODIFIED:20240729T192937Z
UID:55085-1723111200-1723140000@kerrcountylead.com
SUMMARY:Our Place in Space
DESCRIPTION:Come see the constellations in our planetarium\, learn about conserving our night skies and about our place in space!
URL:https://kerrcountylead.com/event/our-place-in-space-92/
LOCATION:Riverside Nature Center\, 150 Francisco Lemos St\, Kerrville\, Texas\, 78028
CATEGORIES:Science and nature
END:VEVENT
BEGIN:VEVENT
DTSTART;TZID=America/Chicago:20240808T103000
DTEND;TZID=America/Chicago:20240808T113000
DTSTAMP:20260421T054337
CREATED:20240805T163904Z
LAST-MODIFIED:20240805T163904Z
UID:55349-1723113000-1723116600@kerrcountylead.com
SUMMARY:Sprouts
DESCRIPTION:Explore the wonders of nature through story time with your preschooler.
URL:https://kerrcountylead.com/event/sprouts-69/
LOCATION:Riverside Nature Center\, 150 Francisco Lemos St\, Kerrville\, Texas\, 78028
CATEGORIES:Science and nature
END:VEVENT
BEGIN:VEVENT
DTSTART;TZID=America/Chicago:20240808T110000
DTEND;TZID=America/Chicago:20240808T200000
DTSTAMP:20260421T054337
CREATED:20240805T164205Z
LAST-MODIFIED:20240805T164205Z
UID:55355-1723114800-1723147200@kerrcountylead.com
SUMMARY:Que-Zeen BBQ
DESCRIPTION:
URL:https://kerrcountylead.com/event/que-zeen-bbq-132/
LOCATION:The Ingram Dam\, 610 TX 39\, Ingram\, TX\, 78025
CATEGORIES:Food truck 411
END:VEVENT
BEGIN:VEVENT
DTSTART;TZID=America/Chicago:20240808T113000
DTEND;TZID=America/Chicago:20240808T133000
DTSTAMP:20260421T054337
CREATED:20240805T164116Z
LAST-MODIFIED:20240805T164116Z
UID:55353-1723116600-1723123800@kerrcountylead.com
SUMMARY:Becoming an Effective Nonprofit Board Member
DESCRIPTION:To register for this event\, click here. 
URL:https://kerrcountylead.com/event/becoming-an-effective-nonprofit-board-member/
LOCATION:Tucker Hall\, 321 St Peter St\, Kerrville\, TX\, 78028
CATEGORIES:Workshop
END:VEVENT
BEGIN:VEVENT
DTSTART;TZID=America/Chicago:20240808T120000
DTEND;TZID=America/Chicago:20240808T130000
DTSTAMP:20260421T054337
CREATED:20240805T164438Z
LAST-MODIFIED:20240805T164438Z
UID:55359-1723118400-1723122000@kerrcountylead.com
SUMMARY:Readers Mix Book Club
DESCRIPTION:The group will discuss “O Pioneers!” by Willa Cather.
URL:https://kerrcountylead.com/event/readers-mix-book-club-15/
LOCATION:Butt-Holdsworth Memorial Library\, 505 Water St.\, Kerrville\, Texas\, 78028
CATEGORIES:Library event
END:VEVENT
BEGIN:VEVENT
DTSTART;TZID=America/Chicago:20240808T163000
DTEND;TZID=America/Chicago:20240808T173000
DTSTAMP:20260421T054337
CREATED:20240805T164558Z
LAST-MODIFIED:20240805T164558Z
UID:55361-1723134600-1723138200@kerrcountylead.com
SUMMARY:Stroke Support Group
DESCRIPTION:
URL:https://kerrcountylead.com/event/stroke-support-group/
LOCATION:Peterson Hospice and Home Care Building\, 250 Cully Dr\, Kerrville\, TX\, 78028
CATEGORIES:Outreach groups
END:VEVENT
BEGIN:VEVENT
DTSTART;TZID=America/Chicago:20240808T170000
DTEND;TZID=America/Chicago:20240808T210000
DTSTAMP:20260421T054337
CREATED:20240805T164334Z
LAST-MODIFIED:20240805T164334Z
UID:55357-1723136400-1723150800@kerrcountylead.com
SUMMARY:Shim’s Be Blessed: Burger Night!
DESCRIPTION:Burger Night at Trailhead! Shim’s will be serving burgers: 2 for $20 and Trailhead will have $4 P&P pints.
URL:https://kerrcountylead.com/event/shims-be-blessed-burger-night-31/
LOCATION:Trailhead Beer Garden\, 2100 Memorial Blvd Bldg #11\, Kerrville\, TX\, 78028\, United States
CATEGORIES:Food truck 411
END:VEVENT
END:VCALENDAR