BEGIN:VCALENDAR
VERSION:2.0
PRODID:-//The Kerr County Lead - ECPv6.15.17.1//NONSGML v1.0//EN
CALSCALE:GREGORIAN
METHOD:PUBLISH
X-ORIGINAL-URL:https://kerrcountylead.com
X-WR-CALDESC:Events for The Kerr County Lead
REFRESH-INTERVAL;VALUE=DURATION:PT1H
X-Robots-Tag:noindex
X-PUBLISHED-TTL:PT1H
BEGIN:VTIMEZONE
TZID:America/Chicago
BEGIN:DAYLIGHT
TZOFFSETFROM:-0600
TZOFFSETTO:-0500
TZNAME:CDT
DTSTART:20230312T080000
END:DAYLIGHT
BEGIN:STANDARD
TZOFFSETFROM:-0500
TZOFFSETTO:-0600
TZNAME:CST
DTSTART:20231105T070000
END:STANDARD
BEGIN:DAYLIGHT
TZOFFSETFROM:-0600
TZOFFSETTO:-0500
TZNAME:CDT
DTSTART:20240310T080000
END:DAYLIGHT
BEGIN:STANDARD
TZOFFSETFROM:-0500
TZOFFSETTO:-0600
TZNAME:CST
DTSTART:20241103T070000
END:STANDARD
BEGIN:DAYLIGHT
TZOFFSETFROM:-0600
TZOFFSETTO:-0500
TZNAME:CDT
DTSTART:20250309T080000
END:DAYLIGHT
BEGIN:STANDARD
TZOFFSETFROM:-0500
TZOFFSETTO:-0600
TZNAME:CST
DTSTART:20251102T070000
END:STANDARD
END:VTIMEZONE
BEGIN:VEVENT
DTSTART;TZID=America/Chicago:20240429T080000
DTEND;TZID=America/Chicago:20240429T210000
DTSTAMP:20260421T091126
CREATED:20240401T234804Z
LAST-MODIFIED:20240401T234804Z
UID:49259-1714377600-1714424400@kerrcountylead.com
SUMMARY:Big Seed Exhibit: Artistic Synergy
DESCRIPTION:
URL:https://kerrcountylead.com/event/big-seed-exhibit-artistic-synergy-24/
LOCATION:Pint & Plow Brewing Co.\, 332 Clay St\, Kerrville\, Texas\, 78028
CATEGORIES:The arts
END:VEVENT
BEGIN:VEVENT
DTSTART;TZID=America/Chicago:20240429T100000
DTEND;TZID=America/Chicago:20240429T100000
DTSTAMP:20260421T091126
CREATED:20240420T202124Z
LAST-MODIFIED:20240420T202124Z
UID:50201-1714384800-1714384800@kerrcountylead.com
SUMMARY:iNaturalist City Nature Challenge
DESCRIPTION:A fun day of identifying plants\, insects\, and birds at the nature center!
URL:https://kerrcountylead.com/event/inaturalist-city-nature-challenge/
LOCATION:Riverside Nature Center\, 150 Francisco Lemos St\, Kerrville\, Texas\, 78028
CATEGORIES:Science and nature
END:VEVENT
BEGIN:VEVENT
DTSTART;TZID=America/Chicago:20240429T100000
DTEND;TZID=America/Chicago:20240429T110000
DTSTAMP:20260421T091126
CREATED:20240420T202236Z
LAST-MODIFIED:20240420T202236Z
UID:50203-1714384800-1714388400@kerrcountylead.com
SUMMARY:Lap-Sit Story Time
DESCRIPTION:A story time program for ages 3 and under with songs\, rhymes\, and playtime.
URL:https://kerrcountylead.com/event/lap-sit-story-time-35/
LOCATION:Butt-Holdsworth Memorial Library\, 505 Water St.\, Kerrville\, Texas\, 78028
CATEGORIES:Library event
END:VEVENT
BEGIN:VEVENT
DTSTART;TZID=America/Chicago:20240429T100000
DTEND;TZID=America/Chicago:20240429T180000
DTSTAMP:20260421T091126
CREATED:20240401T225927Z
LAST-MODIFIED:20240401T225927Z
UID:49205-1714384800-1714413600@kerrcountylead.com
SUMMARY:Our Place in Space @ RNC
DESCRIPTION:Come see the constellations in our planetarium\, learn about conserving our night skies and about our place in space!
URL:https://kerrcountylead.com/event/our-place-in-space-rnc-24/
LOCATION:Riverside Nature Center\, 150 Francisco Lemos St\, Kerrville\, Texas\, 78028
CATEGORIES:Science and nature
END:VEVENT
BEGIN:VEVENT
DTSTART;TZID=America/Chicago:20240429T173000
DTEND;TZID=America/Chicago:20240429T173000
DTSTAMP:20260421T091126
CREATED:20240420T202345Z
LAST-MODIFIED:20240420T202345Z
UID:50205-1714411800-1714411800@kerrcountylead.com
SUMMARY:Veterans Yoga
DESCRIPTION:Join Rick Trzcinski of the Veterans Yoga Project every Monday for a session. The class is free for veterans.
URL:https://kerrcountylead.com/event/veterans-yoga-51/
LOCATION:Kerrville Elks Lodge\, 1907 Junction Hwy\, Kerrville\, TX\, 78028
END:VEVENT
BEGIN:VEVENT
DTSTART;TZID=America/Chicago:20240429T183000
DTEND;TZID=America/Chicago:20240429T183000
DTSTAMP:20260421T091126
CREATED:20240420T202427Z
LAST-MODIFIED:20240420T202427Z
UID:50207-1714415400-1714415400@kerrcountylead.com
SUMMARY:Bingo
DESCRIPTION:Sales start at 5:30 p.m. Smoking and non-smoking rooms. The Dauber Cafe is open during games\, no outside food or drinks.
URL:https://kerrcountylead.com/event/bingo-168/
LOCATION:American Legion Post 208\, 3600 Riverside Dr\, Kerrville\, TX\, 78028
CATEGORIES:Games
END:VEVENT
BEGIN:VEVENT
DTSTART;TZID=America/Chicago:20240429T190000
DTEND;TZID=America/Chicago:20240429T190000
DTSTAMP:20260421T091126
CREATED:20240420T202602Z
LAST-MODIFIED:20240420T202602Z
UID:50209-1714417200-1714417200@kerrcountylead.com
SUMMARY:Monday Night Fiction
DESCRIPTION:Please join the English Department in the Logan Library. Tonight’s book is “Tom Lake” by Ann Patchett. This event is free and open to the public. 
URL:https://kerrcountylead.com/event/monday-night-fiction-6/
LOCATION:Schreiner University\, 2100 Memorial Blvd\, Kerrville\, Texas\, 78028
CATEGORIES:Book club
END:VEVENT
BEGIN:VEVENT
DTSTART;TZID=America/Chicago:20240430T100000
DTEND;TZID=America/Chicago:20240430T110000
DTSTAMP:20260421T091126
CREATED:20240420T202729Z
LAST-MODIFIED:20240420T202729Z
UID:50211-1714471200-1714474800@kerrcountylead.com
SUMMARY:Cuentos for Kids
DESCRIPTION:Join us for a bilingual story time.
URL:https://kerrcountylead.com/event/cuentos-for-kids-11/
LOCATION:Butt-Holdsworth Memorial Library\, 505 Water St.\, Kerrville\, Texas\, 78028
CATEGORIES:Library event
END:VEVENT
BEGIN:VEVENT
DTSTART;TZID=America/Chicago:20240430T100000
DTEND;TZID=America/Chicago:20240430T160000
DTSTAMP:20260421T091126
CREATED:20240410T202752Z
LAST-MODIFIED:20240410T202752Z
UID:49731-1714471200-1714492800@kerrcountylead.com
SUMMARY:KACC Art Exhibits
DESCRIPTION:Derby Gallery – Carlos Moseley & Gerald Tobola\, Avery Gallery – Guadalupe Watercolor Group\, Cornels Gallery – SU Senior Graphic Arts Projects. 
URL:https://kerrcountylead.com/event/kacc-art-exhibits-205/
LOCATION:Kerr Arts & Cultural Center\, 228 Earl Garrett St.\, Kerrville\, Texas\, 78028
CATEGORIES:The arts
END:VEVENT
BEGIN:VEVENT
DTSTART;TZID=America/Chicago:20240430T100000
DTEND;TZID=America/Chicago:20240430T160000
DTSTAMP:20260421T091126
CREATED:20240420T212247Z
LAST-MODIFIED:20240420T212247Z
UID:50226-1714471200-1714492800@kerrcountylead.com
SUMMARY:41st Annual Roundup Exhibition and Sale
DESCRIPTION:The Roundup will feature 170 original works by 62 artists. Through June 8. 
URL:https://kerrcountylead.com/event/41st-annual-roundup-exhibition-and-sale/
LOCATION:Museum of Western Art\, 1550 Bandera Hwy.\, Kerrville\, Texas\, 78028
CATEGORIES:The arts
END:VEVENT
BEGIN:VEVENT
DTSTART;TZID=America/Chicago:20240430T100000
DTEND;TZID=America/Chicago:20240430T180000
DTSTAMP:20260421T091126
CREATED:20240401T230013Z
LAST-MODIFIED:20240401T230013Z
UID:49207-1714471200-1714500000@kerrcountylead.com
SUMMARY:Our Place in Space @ RNC
DESCRIPTION:Come see the constellations in our planetarium\, learn about conserving our night skies and about our place in space!
URL:https://kerrcountylead.com/event/our-place-in-space-rnc-25/
LOCATION:Riverside Nature Center\, 150 Francisco Lemos St\, Kerrville\, Texas\, 78028
CATEGORIES:Science and nature
END:VEVENT
BEGIN:VEVENT
DTSTART;TZID=America/Chicago:20240430T160000
DTEND;TZID=America/Chicago:20240430T170000
DTSTAMP:20260421T091126
CREATED:20240420T202819Z
LAST-MODIFIED:20240420T202819Z
UID:50213-1714492800-1714496400@kerrcountylead.com
SUMMARY:Tween Craft Club
DESCRIPTION:
URL:https://kerrcountylead.com/event/tween-craft-club-6/
LOCATION:Butt-Holdsworth Memorial Library\, 505 Water St.\, Kerrville\, Texas\, 78028
CATEGORIES:Crafts,Library event
END:VEVENT
BEGIN:VEVENT
DTSTART;TZID=America/Chicago:20240430T183000
DTEND;TZID=America/Chicago:20240430T183000
DTSTAMP:20260421T091126
CREATED:20240420T202900Z
LAST-MODIFIED:20240420T202900Z
UID:50215-1714501800-1714501800@kerrcountylead.com
SUMMARY:Bingo
DESCRIPTION:Sales start at 5:30 p.m. Smoking and non-smoking rooms. The Dauber Cafe is open during games\, no outside food or drinks.
URL:https://kerrcountylead.com/event/bingo-169/
LOCATION:American Legion Post 208\, 3600 Riverside Dr\, Kerrville\, TX\, 78028
CATEGORIES:Games
END:VEVENT
BEGIN:VEVENT
DTSTART;TZID=America/Chicago:20240430T190000
DTEND;TZID=America/Chicago:20240430T190000
DTSTAMP:20260421T091126
CREATED:20240420T202932Z
LAST-MODIFIED:20240420T202932Z
UID:50217-1714503600-1714503600@kerrcountylead.com
SUMMARY:Jam Night
DESCRIPTION:
URL:https://kerrcountylead.com/event/jam-night-49/
LOCATION:Gravity Check Saloon\, 3979 Bandera Hwy 173\, Kerrville\, TX\, 78028\, United States
CATEGORIES:Live music
END:VEVENT
BEGIN:VEVENT
DTSTART;TZID=America/Chicago:20240501T100000
DTEND;TZID=America/Chicago:20240501T160000
DTSTAMP:20260421T091126
CREATED:20240423T002755Z
LAST-MODIFIED:20240423T002951Z
UID:50311-1714557600-1714579200@kerrcountylead.com
SUMMARY:Kerrville 101 @ KRHC
DESCRIPTION:A standing exhibit that provides an introduction to local history and stories.
URL:https://kerrcountylead.com/event/kerrville-101-krhc-126/
LOCATION:Kerr Regional History Center\, 425 Water St.\, Kerrville\, TX\, 78028\, United States
CATEGORIES:History
END:VEVENT
BEGIN:VEVENT
DTSTART;TZID=America/Chicago:20240501T100000
DTEND;TZID=America/Chicago:20240501T160000
DTSTAMP:20260421T091126
CREATED:20240423T220403Z
LAST-MODIFIED:20240423T220403Z
UID:50370-1714557600-1714579200@kerrcountylead.com
SUMMARY:41st Annual Roundup Exhibition and Sale
DESCRIPTION:The Roundup will feature 170 original works by 62 artists. Through June 8. 
URL:https://kerrcountylead.com/event/41st-annual-roundup-exhibition-and-sale-2/
LOCATION:Museum of Western Art\, 1550 Bandera Hwy.\, Kerrville\, Texas\, 78028
CATEGORIES:The arts
END:VEVENT
BEGIN:VEVENT
DTSTART;TZID=America/Chicago:20240501T100000
DTEND;TZID=America/Chicago:20240501T160000
DTSTAMP:20260421T091126
CREATED:20240424T173401Z
LAST-MODIFIED:20240424T173401Z
UID:50419-1714557600-1714579200@kerrcountylead.com
SUMMARY:KACC Art Exhibits
DESCRIPTION:Derby Gallery – Carlos Moseley & Gerald Tobola\, Avery Gallery – Guadalupe Watercolor Group\, Cornels Gallery – SU Senior Graphic Arts Projects. 
URL:https://kerrcountylead.com/event/kacc-art-exhibits-206/
LOCATION:Kerr Arts & Cultural Center\, 228 Earl Garrett St.\, Kerrville\, Texas\, 78028
CATEGORIES:The arts
END:VEVENT
BEGIN:VEVENT
DTSTART;TZID=America/Chicago:20240501T100000
DTEND;TZID=America/Chicago:20240501T180000
DTSTAMP:20260421T091126
CREATED:20240422T233549Z
LAST-MODIFIED:20240422T233549Z
UID:50257-1714557600-1714586400@kerrcountylead.com
SUMMARY:Our Place in Space
DESCRIPTION:Come see the constellations in our planetarium\, learn about conserving our night skies and about our place in space!
URL:https://kerrcountylead.com/event/our-place-in-space-8/
LOCATION:Riverside Nature Center\, 150 Francisco Lemos St\, Kerrville\, Texas\, 78028
CATEGORIES:Science and nature
END:VEVENT
BEGIN:VEVENT
DTSTART;TZID=America/Chicago:20240501T130000
DTEND;TZID=America/Chicago:20240501T150000
DTSTAMP:20260421T091126
CREATED:20240427T181305Z
LAST-MODIFIED:20240427T181305Z
UID:50562-1714568400-1714575600@kerrcountylead.com
SUMMARY:Friends of the Library Book Sale
DESCRIPTION:
URL:https://kerrcountylead.com/event/friends-of-the-library-book-sale-71/
LOCATION:Butt-Holdsworth Memorial Library\, 505 Water St.\, Kerrville\, Texas\, 78028
CATEGORIES:Library event
END:VEVENT
BEGIN:VEVENT
DTSTART;TZID=America/Chicago:20240501T170000
DTEND;TZID=America/Chicago:20240501T210000
DTSTAMP:20260421T091126
CREATED:20240427T181420Z
LAST-MODIFIED:20240427T181420Z
UID:50564-1714582800-1714597200@kerrcountylead.com
SUMMARY:Shim’s Be Blessed: Pizza Night!
DESCRIPTION:Pizza Night at Trailhead! Shim’s will be serving wood-fired pizzas and Trailhead will have $20 bottles of Texas wines.
URL:https://kerrcountylead.com/event/shims-be-blessed-pizza-night-18/
LOCATION:Trailhead Beer Garden\, 2100 Memorial Blvd Bldg #11\, Kerrville\, TX\, 78028\, United States
CATEGORIES:Food truck 411
END:VEVENT
BEGIN:VEVENT
DTSTART;TZID=America/Chicago:20240501T173000
DTEND;TZID=America/Chicago:20240501T193000
DTSTAMP:20260421T091126
CREATED:20240427T181510Z
LAST-MODIFIED:20240427T181510Z
UID:50566-1714584600-1714591800@kerrcountylead.com
SUMMARY:Wild West Wine Wednesday
DESCRIPTION:Enjoy samples from Airis’Ele and a short presentation on what’s going on at MoWA. Free event.
URL:https://kerrcountylead.com/event/wild-west-wine-wednesday-12/
LOCATION:Museum of Western Art\, 1550 Bandera Hwy.\, Kerrville\, Texas\, 78028
CATEGORIES:The arts
END:VEVENT
BEGIN:VEVENT
DTSTART;TZID=America/Chicago:20240502T100000
DTEND;TZID=America/Chicago:20240502T160000
DTSTAMP:20260421T091126
CREATED:20240423T002850Z
LAST-MODIFIED:20240423T002850Z
UID:50313-1714644000-1714665600@kerrcountylead.com
SUMMARY:Kerrville 101 @ KRHC
DESCRIPTION:A standing exhibit that provides an introduction to local history and stories. 
URL:https://kerrcountylead.com/event/kerrville-101-krhc-127/
LOCATION:Kerr Regional History Center\, 425 Water St.\, Kerrville\, TX\, 78028\, United States
CATEGORIES:History
END:VEVENT
BEGIN:VEVENT
DTSTART;TZID=America/Chicago:20240502T100000
DTEND;TZID=America/Chicago:20240502T160000
DTSTAMP:20260421T091126
CREATED:20240423T220519Z
LAST-MODIFIED:20240423T220519Z
UID:50372-1714644000-1714665600@kerrcountylead.com
SUMMARY:41st Annual Roundup Exhibition and Sale
DESCRIPTION:The exhibit will feature 170 original works by 62 artists. Through June 8. 
URL:https://kerrcountylead.com/event/41st-annual-roundup-exhibition-and-sale-3/
LOCATION:Museum of Western Art\, 1550 Bandera Hwy.\, Kerrville\, Texas\, 78028
CATEGORIES:The arts
END:VEVENT
BEGIN:VEVENT
DTSTART;TZID=America/Chicago:20240502T100000
DTEND;TZID=America/Chicago:20240502T160000
DTSTAMP:20260421T091126
CREATED:20240424T173441Z
LAST-MODIFIED:20240424T173441Z
UID:50421-1714644000-1714665600@kerrcountylead.com
SUMMARY:KACC Art Exhibits
DESCRIPTION:Derby Gallery – Carlos Moseley & Gerald Tobola\, Avery Gallery – Guadalupe Watercolor Group\, Cornels Gallery – SU Senior Graphic Arts Projects. 
URL:https://kerrcountylead.com/event/kacc-art-exhibits-207/
LOCATION:Kerr Arts & Cultural Center\, 228 Earl Garrett St.\, Kerrville\, Texas\, 78028
CATEGORIES:The arts
END:VEVENT
BEGIN:VEVENT
DTSTART;TZID=America/Chicago:20240502T100000
DTEND;TZID=America/Chicago:20240502T180000
DTSTAMP:20260421T091126
CREATED:20240422T234603Z
LAST-MODIFIED:20240422T234603Z
UID:50259-1714644000-1714672800@kerrcountylead.com
SUMMARY:Our Place in Space
DESCRIPTION:Come see the constellations in our planetarium\, learn about conserving our night skies and about our place in space!
URL:https://kerrcountylead.com/event/our-place-in-space-9/
LOCATION:Riverside Nature Center\, 150 Francisco Lemos St\, Kerrville\, Texas\, 78028
CATEGORIES:Science and nature
END:VEVENT
BEGIN:VEVENT
DTSTART;TZID=America/Chicago:20240502T103000
DTEND;TZID=America/Chicago:20240502T113000
DTSTAMP:20260421T091126
CREATED:20240427T190528Z
LAST-MODIFIED:20240427T190528Z
UID:50570-1714645800-1714649400@kerrcountylead.com
SUMMARY:Sprouts
DESCRIPTION:Explore the wonders of nature through story time with your preschooler.
URL:https://kerrcountylead.com/event/sprouts-58/
LOCATION:Riverside Nature Center\, 150 Francisco Lemos St\, Kerrville\, Texas\, 78028
CATEGORIES:Science and nature
END:VEVENT
BEGIN:VEVENT
DTSTART;TZID=America/Chicago:20240502T120000
DTEND;TZID=America/Chicago:20240502T130000
DTSTAMP:20260421T091126
CREATED:20240427T190444Z
LAST-MODIFIED:20240427T190444Z
UID:50568-1714651200-1714654800@kerrcountylead.com
SUMMARY:Historical Fiction Book Club
DESCRIPTION:The group will discuss “Triangle” by Katharine Weber..
URL:https://kerrcountylead.com/event/historical-fiction-book-club-10/
LOCATION:Butt-Holdsworth Memorial Library\, 505 Water St.\, Kerrville\, Texas\, 78028
CATEGORIES:Library event
END:VEVENT
BEGIN:VEVENT
DTSTART;TZID=America/Chicago:20240502T170000
DTEND;TZID=America/Chicago:20240502T210000
DTSTAMP:20260421T091126
CREATED:20240427T190626Z
LAST-MODIFIED:20240427T190626Z
UID:50572-1714669200-1714683600@kerrcountylead.com
SUMMARY:Shim’s Be Blessed: Burger Night!
DESCRIPTION:Burger Night at Trailhead! Shim’s will be serving burgers: 2 for $20 and Trailhead will have $4 P&P pints.
URL:https://kerrcountylead.com/event/shims-be-blessed-burger-night-17/
LOCATION:Trailhead Beer Garden\, 2100 Memorial Blvd Bldg #11\, Kerrville\, TX\, 78028\, United States
CATEGORIES:Food truck 411
END:VEVENT
BEGIN:VEVENT
DTSTART;TZID=America/Chicago:20240502T180000
DTEND;TZID=America/Chicago:20240502T180000
DTSTAMP:20260421T091126
CREATED:20240427T190812Z
LAST-MODIFIED:20240427T190812Z
UID:50575-1714672800-1714672800@kerrcountylead.com
SUMMARY:Open Mic Night
DESCRIPTION:
URL:https://kerrcountylead.com/event/open-mic-night-44/
LOCATION:Gravity Check Saloon\, 3979 Bandera Hwy 173\, Kerrville\, TX\, 78028\, United States
CATEGORIES:Live music
END:VEVENT
BEGIN:VEVENT
DTSTART;TZID=America/Chicago:20240502T190000
DTEND;TZID=America/Chicago:20240502T190000
DTSTAMP:20260421T091126
CREATED:20240427T190911Z
LAST-MODIFIED:20240427T190911Z
UID:50577-1714676400-1714676400@kerrcountylead.com
SUMMARY:Iconic Film Series: The Princess Bride
DESCRIPTION:
URL:https://kerrcountylead.com/event/iconic-film-series-the-princess-bride/
LOCATION:The Arcadia Live\, 717 Water St\, Kerrville\, TX\, 78028\, United States
CATEGORIES:Film,Movies
END:VEVENT
END:VCALENDAR