BEGIN:VCALENDAR
VERSION:2.0
PRODID:-//The Kerr County Lead - ECPv6.15.17.1//NONSGML v1.0//EN
CALSCALE:GREGORIAN
METHOD:PUBLISH
X-WR-CALNAME:The Kerr County Lead
X-ORIGINAL-URL:https://kerrcountylead.com
X-WR-CALDESC:Events for The Kerr County Lead
REFRESH-INTERVAL;VALUE=DURATION:PT1H
X-Robots-Tag:noindex
X-PUBLISHED-TTL:PT1H
BEGIN:VTIMEZONE
TZID:America/Chicago
BEGIN:DAYLIGHT
TZOFFSETFROM:-0600
TZOFFSETTO:-0500
TZNAME:CDT
DTSTART:20230312T080000
END:DAYLIGHT
BEGIN:STANDARD
TZOFFSETFROM:-0500
TZOFFSETTO:-0600
TZNAME:CST
DTSTART:20231105T070000
END:STANDARD
BEGIN:DAYLIGHT
TZOFFSETFROM:-0600
TZOFFSETTO:-0500
TZNAME:CDT
DTSTART:20240310T080000
END:DAYLIGHT
BEGIN:STANDARD
TZOFFSETFROM:-0500
TZOFFSETTO:-0600
TZNAME:CST
DTSTART:20241103T070000
END:STANDARD
BEGIN:DAYLIGHT
TZOFFSETFROM:-0600
TZOFFSETTO:-0500
TZNAME:CDT
DTSTART:20250309T080000
END:DAYLIGHT
BEGIN:STANDARD
TZOFFSETFROM:-0500
TZOFFSETTO:-0600
TZNAME:CST
DTSTART:20251102T070000
END:STANDARD
END:VTIMEZONE
BEGIN:VEVENT
DTSTART;TZID=America/Chicago:20241105T100000
DTEND;TZID=America/Chicago:20241105T160000
DTSTAMP:20260425T072750
CREATED:20241109T183443Z
LAST-MODIFIED:20241109T183443Z
UID:60481-1730800800-1730822400@kerrcountylead.com
SUMMARY:Kerrville 101
DESCRIPTION:A standing exhibit that provides an introduction to local history and stories.
URL:https://kerrcountylead.com/event/kerrville-101-13/
LOCATION:Kerr Regional History Center\, 425 Water St.\, Kerrville\, TX\, 78028\, United States
CATEGORIES:History
END:VEVENT
BEGIN:VEVENT
DTSTART;TZID=America/Chicago:20241105T100000
DTEND;TZID=America/Chicago:20241105T160000
DTSTAMP:20260425T072750
CREATED:20241109T184517Z
LAST-MODIFIED:20241109T184517Z
UID:60507-1730800800-1730822400@kerrcountylead.com
SUMMARY:Kevin Macpherson: Reflections on a Pond
DESCRIPTION:
URL:https://kerrcountylead.com/event/kevin-macpherson-reflections-on-a-pond-5/
LOCATION:Museum of Western Art\, 1550 Bandera Hwy.\, Kerrville\, Texas\, 78028
CATEGORIES:The arts
END:VEVENT
BEGIN:VEVENT
DTSTART;TZID=America/Chicago:20241105T100000
DTEND;TZID=America/Chicago:20241105T180000
DTSTAMP:20260425T072750
CREATED:20241109T180556Z
LAST-MODIFIED:20241109T180556Z
UID:60401-1730800800-1730829600@kerrcountylead.com
SUMMARY:Our Place in Space
DESCRIPTION:Come see the constellations in our planetarium\, learn about conserving our night skies and about our place in space!
URL:https://kerrcountylead.com/event/our-place-in-space-168/
LOCATION:Riverside Nature Center\, 150 Francisco Lemos St\, Kerrville\, Texas\, 78028
CATEGORIES:The arts
END:VEVENT
BEGIN:VEVENT
DTSTART;TZID=America/Chicago:20241105T110000
DTEND;TZID=America/Chicago:20241105T210000
DTSTAMP:20260425T072750
CREATED:20241109T192304Z
LAST-MODIFIED:20241109T192304Z
UID:60573-1730804400-1730840400@kerrcountylead.com
SUMMARY:LaRue - Paintings : Weaving Perspectives
DESCRIPTION:Through December 15.
URL:https://kerrcountylead.com/event/larue-paintings-weaving-perspectives-3/
LOCATION:Grape Juice\, 623 Water St\, Kerrville\, TX\, 78028
CATEGORIES:The arts
END:VEVENT
BEGIN:VEVENT
DTSTART;TZID=America/Chicago:20241105T120000
DTEND;TZID=America/Chicago:20241105T120000
DTSTAMP:20260425T072750
CREATED:20241108T002139Z
LAST-MODIFIED:20241108T002139Z
UID:60209-1730808000-1730808000@kerrcountylead.com
SUMMARY:Great Decisions Discussion Group
DESCRIPTION:The group will discuss the “High Seas Treaty” this month.
URL:https://kerrcountylead.com/event/great-decisions-discussion-group-17/
LOCATION:Butt-Holdsworth Memorial Library\, 505 Water St.\, Kerrville\, Texas\, 78028
CATEGORIES:Library event
END:VEVENT
BEGIN:VEVENT
DTSTART;TZID=America/Chicago:20241105T120000
DTEND;TZID=America/Chicago:20241105T150000
DTSTAMP:20260425T072750
CREATED:20241108T002452Z
LAST-MODIFIED:20241108T002452Z
UID:60213-1730808000-1730818800@kerrcountylead.com
SUMMARY:Community Caregiving Class
DESCRIPTION:
URL:https://kerrcountylead.com/event/community-caregiving-class/
LOCATION:The Center for Fitness\, 1407 Water St\, Kerrville\, TX\, 78028
CATEGORIES:Outreach groups
END:VEVENT
BEGIN:VEVENT
DTSTART;TZID=America/Chicago:20241105T153000
DTEND;TZID=America/Chicago:20241105T173000
DTSTAMP:20260425T072750
CREATED:20241108T002543Z
LAST-MODIFIED:20241108T002543Z
UID:60216-1730820600-1730827800@kerrcountylead.com
SUMMARY:After School Lounge
DESCRIPTION:An after school hangout for teens and tweens with games\, snacks\, TV/WiFi\, and homework help.
URL:https://kerrcountylead.com/event/after-school-lounge-2/
LOCATION:Doyle Community Center\, 110 W. Barnett St.\, Kerrville\, Texas\, 78028
CATEGORIES:Outreach groups
END:VEVENT
BEGIN:VEVENT
DTSTART;TZID=America/Chicago:20241105T160000
DTEND;TZID=America/Chicago:20241105T160000
DTSTAMP:20260425T072750
CREATED:20241108T002645Z
LAST-MODIFIED:20241108T002645Z
UID:60218-1730822400-1730822400@kerrcountylead.com
SUMMARY:English as a Second Language Class
DESCRIPTION:Every Tuesday. Beginners 4-5pm\, Intermediate 5-6pm. 
URL:https://kerrcountylead.com/event/english-as-a-second-language-class/
LOCATION:Doyle Community Center\, 110 W. Barnett St.\, Kerrville\, Texas\, 78028
CATEGORIES:Outreach groups
END:VEVENT
BEGIN:VEVENT
DTSTART;TZID=America/Chicago:20241105T170000
DTEND;TZID=America/Chicago:20241105T190000
DTSTAMP:20260425T072750
CREATED:20241108T002801Z
LAST-MODIFIED:20241108T002801Z
UID:60220-1730826000-1730833200@kerrcountylead.com
SUMMARY:Becoming a Mother: Understanding Breastfeeding
DESCRIPTION:551 Hill Country Dr\, Classroom B.
URL:https://kerrcountylead.com/event/becoming-a-mother-understanding-breastfeeding-4/
LOCATION:Peterson Health\, 551 Hill Country Dr\, Kerrville\, TX\, 78028
CATEGORIES:Outreach groups
END:VEVENT
BEGIN:VEVENT
DTSTART;TZID=America/Chicago:20241105T173000
DTEND;TZID=America/Chicago:20241105T183000
DTSTAMP:20260425T072750
CREATED:20241108T002229Z
LAST-MODIFIED:20241108T002229Z
UID:60211-1730827800-1730831400@kerrcountylead.com
SUMMARY:Tech Talk: All About AI
DESCRIPTION:
URL:https://kerrcountylead.com/event/tech-talk-all-about-ai-3/
LOCATION:Butt-Holdsworth Memorial Library\, 505 Water St.\, Kerrville\, Texas\, 78028
CATEGORIES:Library event
END:VEVENT
BEGIN:VEVENT
DTSTART;TZID=America/Chicago:20241105T173000
DTEND;TZID=America/Chicago:20241105T190000
DTSTAMP:20260425T072750
CREATED:20241108T002905Z
LAST-MODIFIED:20241108T002905Z
UID:60222-1730827800-1730833200@kerrcountylead.com
SUMMARY:Grief Support Group
DESCRIPTION:
URL:https://kerrcountylead.com/event/grief-support-group-36/
LOCATION:Peterson Hospice and Home Care Building\, 250 Cully Dr\, Kerrville\, TX\, 78028
CATEGORIES:Outreach groups
END:VEVENT
BEGIN:VEVENT
DTSTART;TZID=America/Chicago:20241106T100000
DTEND;TZID=America/Chicago:20241106T110000
DTSTAMP:20260425T072750
CREATED:20241108T003121Z
LAST-MODIFIED:20241108T003121Z
UID:60229-1730887200-1730890800@kerrcountylead.com
SUMMARY:Story Time
DESCRIPTION:
URL:https://kerrcountylead.com/event/story-time-49/
LOCATION:Butt-Holdsworth Memorial Library\, 505 Water St.\, Kerrville\, Texas\, 78028
CATEGORIES:Library event
END:VEVENT
BEGIN:VEVENT
DTSTART;TZID=America/Chicago:20241106T100000
DTEND;TZID=America/Chicago:20241106T160000
DTSTAMP:20260425T072750
CREATED:20241029T213521Z
LAST-MODIFIED:20241029T213521Z
UID:59805-1730887200-1730908800@kerrcountylead.com
SUMMARY:Texas Furniture Makers Show
DESCRIPTION:Through December 13.
URL:https://kerrcountylead.com/event/texas-furniture-makers-show-41/
LOCATION:Kerr Arts & Cultural Center\, 228 Earl Garrett St.\, Kerrville\, Texas\, 78028
CATEGORIES:The arts
END:VEVENT
BEGIN:VEVENT
DTSTART;TZID=America/Chicago:20241106T100000
DTEND;TZID=America/Chicago:20241106T160000
DTSTAMP:20260425T072750
CREATED:20241109T175845Z
LAST-MODIFIED:20241109T175845Z
UID:60377-1730887200-1730908800@kerrcountylead.com
SUMMARY:Al Glann: Poetry in Motion
DESCRIPTION:
URL:https://kerrcountylead.com/event/al-glann-poetry-in-motion-29/
LOCATION:Museum of Western Art\, 1550 Bandera Hwy.\, Kerrville\, Texas\, 78028
CATEGORIES:The arts
END:VEVENT
BEGIN:VEVENT
DTSTART;TZID=America/Chicago:20241106T100000
DTEND;TZID=America/Chicago:20241106T160000
DTSTAMP:20260425T072750
CREATED:20241109T183522Z
LAST-MODIFIED:20241109T183522Z
UID:60483-1730887200-1730908800@kerrcountylead.com
SUMMARY:Kerrville 101
DESCRIPTION:A standing exhibit that provides an introduction to local history and stories.
URL:https://kerrcountylead.com/event/kerrville-101-17/
LOCATION:Kerr Regional History Center\, 425 Water St.\, Kerrville\, TX\, 78028\, United States
CATEGORIES:History
END:VEVENT
BEGIN:VEVENT
DTSTART;TZID=America/Chicago:20241106T100000
DTEND;TZID=America/Chicago:20241106T160000
DTSTAMP:20260425T072750
CREATED:20241109T184554Z
LAST-MODIFIED:20241109T184554Z
UID:60509-1730887200-1730908800@kerrcountylead.com
SUMMARY:Kevin Macpherson: Reflections on a Pond
DESCRIPTION:
URL:https://kerrcountylead.com/event/kevin-macpherson-reflections-on-a-pond-6/
LOCATION:Museum of Western Art\, 1550 Bandera Hwy.\, Kerrville\, Texas\, 78028
CATEGORIES:The arts
END:VEVENT
BEGIN:VEVENT
DTSTART;TZID=America/Chicago:20241106T100000
DTEND;TZID=America/Chicago:20241106T180000
DTSTAMP:20260425T072750
CREATED:20241109T180640Z
LAST-MODIFIED:20241109T180640Z
UID:60407-1730887200-1730916000@kerrcountylead.com
SUMMARY:Our Place in Space
DESCRIPTION:Come see the constellations in our planetarium\, learn about conserving our night skies and about our place in space!
URL:https://kerrcountylead.com/event/our-place-in-space-169/
LOCATION:Riverside Nature Center\, 150 Francisco Lemos St\, Kerrville\, Texas\, 78028
CATEGORIES:Science and nature
END:VEVENT
BEGIN:VEVENT
DTSTART;TZID=America/Chicago:20241106T110000
DTEND;TZID=America/Chicago:20241106T210000
DTSTAMP:20260425T072750
CREATED:20241109T192430Z
LAST-MODIFIED:20241109T192430Z
UID:60575-1730890800-1730926800@kerrcountylead.com
SUMMARY:LaRue - Paintings : Weaving Perspectives
DESCRIPTION:Through December 15.
URL:https://kerrcountylead.com/event/larue-paintings-weaving-perspectives-4/
LOCATION:Grape Juice\, 623 Water St\, Kerrville\, TX\, 78028
CATEGORIES:The arts
END:VEVENT
BEGIN:VEVENT
DTSTART;TZID=America/Chicago:20241106T113000
DTEND;TZID=America/Chicago:20241106T130000
DTSTAMP:20260425T072750
CREATED:20241108T003312Z
LAST-MODIFIED:20241108T003312Z
UID:60233-1730892600-1730898000@kerrcountylead.com
SUMMARY:Kerr County Women’s Chamber Meeting
DESCRIPTION:
URL:https://kerrcountylead.com/event/kerr-county-womens-chamber-meeting-2/
LOCATION:Buzzie’s BBQ\, 213 Schreiner St\, Kerrville\, TX\, 78028
CATEGORIES:Community meeting
END:VEVENT
BEGIN:VEVENT
DTSTART;TZID=America/Chicago:20241106T130000
DTEND;TZID=America/Chicago:20241106T150000
DTSTAMP:20260425T072750
CREATED:20241108T003214Z
LAST-MODIFIED:20241108T003214Z
UID:60231-1730898000-1730905200@kerrcountylead.com
SUMMARY:Friends of the Library Book Sale
DESCRIPTION:
URL:https://kerrcountylead.com/event/friends-of-the-library-book-sale-104/
LOCATION:Butt-Holdsworth Memorial Library\, 505 Water St.\, Kerrville\, Texas\, 78028
CATEGORIES:Library event
END:VEVENT
BEGIN:VEVENT
DTSTART;TZID=America/Chicago:20241106T150000
DTEND;TZID=America/Chicago:20241106T160000
DTSTAMP:20260425T072750
CREATED:20241108T003413Z
LAST-MODIFIED:20241108T003413Z
UID:60235-1730905200-1730908800@kerrcountylead.com
SUMMARY:Building Confidence: Big & Loud for Life
DESCRIPTION:
URL:https://kerrcountylead.com/event/building-confidence-big-loud-for-life-6/
LOCATION:Peterson Wellness Center\, 250 Cully Dr\, Kerrville\, TX\, 78028
CATEGORIES:Outreach groups
END:VEVENT
BEGIN:VEVENT
DTSTART;TZID=America/Chicago:20241106T153000
DTEND;TZID=America/Chicago:20241106T173000
DTSTAMP:20260425T072750
CREATED:20241108T003459Z
LAST-MODIFIED:20241108T003459Z
UID:60237-1730907000-1730914200@kerrcountylead.com
SUMMARY:After School Lounge
DESCRIPTION:An after school hangout for teens and tweens with games\, snacks\, TV/WiFi\, and homework help.
URL:https://kerrcountylead.com/event/after-school-lounge-3/
LOCATION:Doyle Community Center\, 110 W. Barnett St.\, Kerrville\, Texas\, 78028
CATEGORIES:Outreach groups
END:VEVENT
BEGIN:VEVENT
DTSTART;TZID=America/Chicago:20241106T160000
DTEND;TZID=America/Chicago:20241106T170000
DTSTAMP:20260425T072750
CREATED:20241108T003607Z
LAST-MODIFIED:20241108T003607Z
UID:60239-1730908800-1730912400@kerrcountylead.com
SUMMARY:Parkinson’s Support Group
DESCRIPTION:
URL:https://kerrcountylead.com/event/parkinsons-support-group-4/
LOCATION:Peterson Hospice and Home Care Building\, 250 Cully Dr\, Kerrville\, TX\, 78028
CATEGORIES:Outreach groups
END:VEVENT
BEGIN:VEVENT
DTSTART;TZID=America/Chicago:20241106T170000
DTEND;TZID=America/Chicago:20241106T190000
DTSTAMP:20260425T072750
CREATED:20241108T003803Z
LAST-MODIFIED:20241108T003803Z
UID:60243-1730912400-1730919600@kerrcountylead.com
SUMMARY:Downtown Educational: Holiday Pairings
DESCRIPTION:RSVP to reserve your spot\, click here.
URL:https://kerrcountylead.com/event/downtown-educational-holiday-pairings/
LOCATION:Turtle Creek Olives & Vines\, 211 Earl Garrett St\, Kerrville\, TX\, 78028
CATEGORIES:Wine event
END:VEVENT
BEGIN:VEVENT
DTSTART;TZID=America/Chicago:20241106T173000
DTEND;TZID=America/Chicago:20241106T193000
DTSTAMP:20260425T072750
CREATED:20241108T003711Z
LAST-MODIFIED:20241108T003711Z
UID:60241-1730914200-1730921400@kerrcountylead.com
SUMMARY:Wild West Wine Wednesday
DESCRIPTION:Enjoy samples from Kerrville Hills Winery and a short presentation on what’s going on at MoWA. Free event.
URL:https://kerrcountylead.com/event/wild-west-wine-wednesday-17/
LOCATION:Museum of Western Art\, 1550 Bandera Hwy.\, Kerrville\, Texas\, 78028
CATEGORIES:The arts
END:VEVENT
BEGIN:VEVENT
DTSTART;TZID=America/Chicago:20241107T100000
DTEND;TZID=America/Chicago:20241107T110000
DTSTAMP:20260425T072750
CREATED:20241108T003901Z
LAST-MODIFIED:20241108T003901Z
UID:60245-1730973600-1730977200@kerrcountylead.com
SUMMARY:Cuentos for Kids
DESCRIPTION:Join us for a bilingual story time.
URL:https://kerrcountylead.com/event/cuentos-for-kids-21/
LOCATION:Butt-Holdsworth Memorial Library\, 505 Water St.\, Kerrville\, Texas\, 78028
CATEGORIES:Library event
END:VEVENT
BEGIN:VEVENT
DTSTART;TZID=America/Chicago:20241107T100000
DTEND;TZID=America/Chicago:20241107T160000
DTSTAMP:20260425T072750
CREATED:20241029T213551Z
LAST-MODIFIED:20241029T215404Z
UID:59807-1730973600-1730995200@kerrcountylead.com
SUMMARY:Texas Furniture Makers Show
DESCRIPTION:Through December 13.
URL:https://kerrcountylead.com/event/texas-furniture-makers-show-42/
LOCATION:Kerr Arts & Cultural Center\, 228 Earl Garrett St.\, Kerrville\, Texas\, 78028
CATEGORIES:The arts
END:VEVENT
BEGIN:VEVENT
DTSTART;TZID=America/Chicago:20241107T100000
DTEND;TZID=America/Chicago:20241107T160000
DTSTAMP:20260425T072750
CREATED:20241109T175911Z
LAST-MODIFIED:20241109T175911Z
UID:60379-1730973600-1730995200@kerrcountylead.com
SUMMARY:Al Glann: Poetry in Motion
DESCRIPTION:
URL:https://kerrcountylead.com/event/al-glann-poetry-in-motion-30/
LOCATION:Museum of Western Art\, 1550 Bandera Hwy.\, Kerrville\, Texas\, 78028
CATEGORIES:The arts
END:VEVENT
BEGIN:VEVENT
DTSTART;TZID=America/Chicago:20241107T100000
DTEND;TZID=America/Chicago:20241107T160000
DTSTAMP:20260425T072750
CREATED:20241109T183608Z
LAST-MODIFIED:20241109T183608Z
UID:60485-1730973600-1730995200@kerrcountylead.com
SUMMARY:Kerrville 101
DESCRIPTION:A standing exhibit that provides an introduction to local history and stories.
URL:https://kerrcountylead.com/event/kerrville-101-18/
LOCATION:Kerr Regional History Center\, 425 Water St.\, Kerrville\, TX\, 78028\, United States
CATEGORIES:History
END:VEVENT
BEGIN:VEVENT
DTSTART;TZID=America/Chicago:20241107T100000
DTEND;TZID=America/Chicago:20241107T160000
DTSTAMP:20260425T072750
CREATED:20241109T184629Z
LAST-MODIFIED:20241109T184629Z
UID:60511-1730973600-1730995200@kerrcountylead.com
SUMMARY:Kevin Macpherson: Reflections on a Pond
DESCRIPTION:
URL:https://kerrcountylead.com/event/kevin-macpherson-reflections-on-a-pond-7/
LOCATION:Museum of Western Art\, 1550 Bandera Hwy.\, Kerrville\, Texas\, 78028
CATEGORIES:The arts
END:VEVENT
END:VCALENDAR