BEGIN:VCALENDAR
VERSION:2.0
PRODID:-//The Kerr County Lead - ECPv6.15.17.1//NONSGML v1.0//EN
CALSCALE:GREGORIAN
METHOD:PUBLISH
X-WR-CALNAME:The Kerr County Lead
X-ORIGINAL-URL:https://kerrcountylead.com
X-WR-CALDESC:Events for The Kerr County Lead
REFRESH-INTERVAL;VALUE=DURATION:PT1H
X-Robots-Tag:noindex
X-PUBLISHED-TTL:PT1H
BEGIN:VTIMEZONE
TZID:America/Chicago
BEGIN:DAYLIGHT
TZOFFSETFROM:-0600
TZOFFSETTO:-0500
TZNAME:CDT
DTSTART:20230312T080000
END:DAYLIGHT
BEGIN:STANDARD
TZOFFSETFROM:-0500
TZOFFSETTO:-0600
TZNAME:CST
DTSTART:20231105T070000
END:STANDARD
BEGIN:DAYLIGHT
TZOFFSETFROM:-0600
TZOFFSETTO:-0500
TZNAME:CDT
DTSTART:20240310T080000
END:DAYLIGHT
BEGIN:STANDARD
TZOFFSETFROM:-0500
TZOFFSETTO:-0600
TZNAME:CST
DTSTART:20241103T070000
END:STANDARD
BEGIN:DAYLIGHT
TZOFFSETFROM:-0600
TZOFFSETTO:-0500
TZNAME:CDT
DTSTART:20250309T080000
END:DAYLIGHT
BEGIN:STANDARD
TZOFFSETFROM:-0500
TZOFFSETTO:-0600
TZNAME:CST
DTSTART:20251102T070000
END:STANDARD
END:VTIMEZONE
BEGIN:VEVENT
DTSTART;TZID=America/Chicago:20240513T183000
DTEND;TZID=America/Chicago:20240513T183000
DTSTAMP:20260421T055314
CREATED:20240506T163428Z
LAST-MODIFIED:20240506T163428Z
UID:51110-1715625000-1715625000@kerrcountylead.com
SUMMARY:Bingo
DESCRIPTION:Sales start at 5:30 p.m. Smoking and non-smoking rooms. The Dauber Cafe is open during games\, no outside food or drinks.
URL:https://kerrcountylead.com/event/bingo-176/
LOCATION:American Legion Post 208\, 3600 Riverside Dr\, Kerrville\, TX\, 78028
CATEGORIES:Games
END:VEVENT
BEGIN:VEVENT
DTSTART;TZID=America/Chicago:20240513T173000
DTEND;TZID=America/Chicago:20240513T173000
DTSTAMP:20260421T055314
CREATED:20240506T163352Z
LAST-MODIFIED:20240506T163352Z
UID:51108-1715621400-1715621400@kerrcountylead.com
SUMMARY:Veterans Yoga
DESCRIPTION:Join Rick Trzcinski of the Veterans Yoga Project every Monday for a session. The class is free for veterans.
URL:https://kerrcountylead.com/event/veterans-yoga-53/
LOCATION:Kerrville Elks Lodge\, 1907 Junction Hwy\, Kerrville\, TX\, 78028
CATEGORIES:Wellness
END:VEVENT
BEGIN:VEVENT
DTSTART;TZID=America/Chicago:20240513T100000
DTEND;TZID=America/Chicago:20240513T180000
DTSTAMP:20260421T055314
CREATED:20240422T235651Z
LAST-MODIFIED:20240422T235651Z
UID:50277-1715594400-1715623200@kerrcountylead.com
SUMMARY:Our Place in Space
DESCRIPTION:Come see the constellations in our planetarium\, learn about conserving our night skies and about our place in space!
URL:https://kerrcountylead.com/event/our-place-in-space-18/
LOCATION:Riverside Nature Center\, 150 Francisco Lemos St\, Kerrville\, Texas\, 78028
CATEGORIES:Science and nature
END:VEVENT
BEGIN:VEVENT
DTSTART;TZID=America/Chicago:20240513T100000
DTEND;TZID=America/Chicago:20240513T160000
DTSTAMP:20260421T055314
CREATED:20240424T174527Z
LAST-MODIFIED:20240424T174527Z
UID:50453-1715594400-1715616000@kerrcountylead.com
SUMMARY:Texas Watercolor Society Annual Show
DESCRIPTION:
URL:https://kerrcountylead.com/event/texas-watercolor-society-annual-show-9/
LOCATION:Hill Country Arts Foundation\, 120 Point Theatre Rd S\, Ingram\, Texas\, 78025
CATEGORIES:The arts
END:VEVENT
BEGIN:VEVENT
DTSTART;TZID=America/Chicago:20240513T100000
DTEND;TZID=America/Chicago:20240513T110000
DTSTAMP:20260421T055314
CREATED:20240506T163149Z
LAST-MODIFIED:20240506T163149Z
UID:51104-1715594400-1715598000@kerrcountylead.com
SUMMARY:Lap-Sit Story Time
DESCRIPTION:A story time program for ages 3 and under with songs\, rhymes\, and playtime.
URL:https://kerrcountylead.com/event/lap-sit-story-time-37/
LOCATION:Butt-Holdsworth Memorial Library\, 505 Water St.\, Kerrville\, Texas\, 78028
CATEGORIES:Library event
END:VEVENT
BEGIN:VEVENT
DTSTART;TZID=America/Chicago:20240512T143000
DTEND;TZID=America/Chicago:20240512T143000
DTSTAMP:20260421T055314
CREATED:20240504T211902Z
LAST-MODIFIED:20240504T211902Z
UID:50988-1715524200-1715524200@kerrcountylead.com
SUMMARY:The Explorers Club
DESCRIPTION:Indoor Theater. A farcical play written by Nell Benjamin. In 19th-century London\, a fictional club of elite explorers faces the crisis of a woman wanting to join. She has found a Lost City\, and though the president advocates for her admission\, other members are quite opposed. To purchase tickets\, click here. 
URL:https://kerrcountylead.com/event/the-explorers-club-8/
LOCATION:Hill Country Arts Foundation\, 120 Point Theatre Rd S\, Ingram\, Texas\, 78025
CATEGORIES:Performing arts
END:VEVENT
BEGIN:VEVENT
DTSTART;TZID=America/Chicago:20240512T140000
DTEND;TZID=America/Chicago:20240512T170000
DTSTAMP:20260421T055314
CREATED:20240504T211803Z
LAST-MODIFIED:20240504T211803Z
UID:50986-1715522400-1715533200@kerrcountylead.com
SUMMARY:Susan Herndon
DESCRIPTION:
URL:https://kerrcountylead.com/event/susan-herndon-22/
LOCATION:Bending Branch Winery\, 142 Lindner Branch Rd\, Comfort\, Texas\, 78013
CATEGORIES:Live music
END:VEVENT
BEGIN:VEVENT
DTSTART;TZID=America/Chicago:20240512T140000
DTEND;TZID=America/Chicago:20240512T140000
DTSTAMP:20260421T055314
CREATED:20240504T211732Z
LAST-MODIFIED:20240504T211732Z
UID:50984-1715522400-1715522400@kerrcountylead.com
SUMMARY:Fiddle Jam with Theresa Britt
DESCRIPTION:
URL:https://kerrcountylead.com/event/fiddle-jam-with-theresa-britt-8/
LOCATION:Pint & Plow Brewing Co.\, 332 Clay St\, Kerrville\, Texas\, 78028
CATEGORIES:Live music
END:VEVENT
BEGIN:VEVENT
DTSTART;TZID=America/Chicago:20240512T133000
DTEND;TZID=America/Chicago:20240512T133000
DTSTAMP:20260421T055314
CREATED:20240504T211621Z
LAST-MODIFIED:20240504T211621Z
UID:50980-1715520600-1715520600@kerrcountylead.com
SUMMARY:Bingo
DESCRIPTION:Sales start 12:30 p.m. Smoking and non-smoking rooms. The Dauber Cafe is open during games\, no outside food or drinks.
URL:https://kerrcountylead.com/event/bingo-175/
LOCATION:American Legion Post 208\, 3600 Riverside Dr\, Kerrville\, TX\, 78028
CATEGORIES:Games
END:VEVENT
BEGIN:VEVENT
DTSTART;TZID=America/Chicago:20240512T130000
DTEND;TZID=America/Chicago:20240512T180000
DTSTAMP:20260421T055314
CREATED:20240504T211541Z
LAST-MODIFIED:20240504T211541Z
UID:50978-1715518800-1715536800@kerrcountylead.com
SUMMARY:Shim's Be Blessed
DESCRIPTION:
URL:https://kerrcountylead.com/event/shims-be-blessed-62/
LOCATION:Trailhead Beer Garden\, 2100 Memorial Blvd Bldg #11\, Kerrville\, TX\, 78028\, United States
CATEGORIES:Food truck 411
END:VEVENT
BEGIN:VEVENT
DTSTART;TZID=America/Chicago:20240512T130000
DTEND;TZID=America/Chicago:20240512T150000
DTSTAMP:20260421T055314
CREATED:20240504T211311Z
LAST-MODIFIED:20240504T211311Z
UID:50972-1715518800-1715526000@kerrcountylead.com
SUMMARY:Mother's Day Afternoon Tea
DESCRIPTION:Call to make reservations.
URL:https://kerrcountylead.com/event/mothers-day-afternoon-tea/
LOCATION:The Fancy Finch Tea Cottage\, 3403 Junction Hwy\, Ingram\, TX\, 78025
CATEGORIES:Celebration
END:VEVENT
BEGIN:VEVENT
DTSTART;TZID=America/Chicago:20240512T130000
DTEND;TZID=America/Chicago:20240512T130000
DTSTAMP:20260421T055314
CREATED:20240504T211652Z
LAST-MODIFIED:20240504T211652Z
UID:50982-1715518800-1715518800@kerrcountylead.com
SUMMARY:Shane Stumpf
DESCRIPTION:
URL:https://kerrcountylead.com/event/shane-stumpf-13/
LOCATION:Gravity Check Saloon\, 3979 Bandera Hwy 173\, Kerrville\, TX\, 78028\, United States
CATEGORIES:Live music
END:VEVENT
BEGIN:VEVENT
DTSTART;TZID=America/Chicago:20240512T120000
DTEND;TZID=America/Chicago:20240512T190000
DTSTAMP:20260421T055314
CREATED:20240509T222209Z
LAST-MODIFIED:20240509T222209Z
UID:51265-1715515200-1715540400@kerrcountylead.com
SUMMARY:Munchy Machine
DESCRIPTION:
URL:https://kerrcountylead.com/event/munchy-machine-53/
LOCATION:Basement Brewers of Texas\, 521 Clay St\, Kerrville\, TX\, 78028
CATEGORIES:Food truck 411
END:VEVENT
BEGIN:VEVENT
DTSTART;TZID=America/Chicago:20240512T110000
DTEND;TZID=America/Chicago:20240512T140000
DTSTAMP:20260421T055314
CREATED:20240504T211500Z
LAST-MODIFIED:20240504T211500Z
UID:50976-1715511600-1715522400@kerrcountylead.com
SUMMARY:Sunday Brunch
DESCRIPTION:Reservations recommended.
URL:https://kerrcountylead.com/event/sunday-brunch-18/
LOCATION:Zanzenberg Tavern\, 217 FM 480\, Center Point\, TX\, 78010
END:VEVENT
BEGIN:VEVENT
DTSTART;TZID=America/Chicago:20240512T100000
DTEND;TZID=America/Chicago:20240512T143000
DTSTAMP:20260421T055314
CREATED:20240504T211353Z
LAST-MODIFIED:20240504T211353Z
UID:50974-1715508000-1715524200@kerrcountylead.com
SUMMARY:Brunch at Bridget's
DESCRIPTION:
URL:https://kerrcountylead.com/event/brunch-at-bridgets-6/
LOCATION:Bridget’s Basket\, 1551 TX-39\, Hunt\, Texas\, 78024
END:VEVENT
BEGIN:VEVENT
DTSTART;VALUE=DATE:20240512
DTEND;VALUE=DATE:20240513
DTSTAMP:20260421T055314
CREATED:20240504T211123Z
LAST-MODIFIED:20240504T211123Z
UID:50970-1715472000-1715558399@kerrcountylead.com
SUMMARY:Mother’s Day Special
DESCRIPTION:Mothers and mother figures get free admission to the park with the purchase of a child’s pass.
URL:https://kerrcountylead.com/event/mothers-day-special/
LOCATION:Kerrville Schreiner Park\, 2385 Bandera Hwy\, Kerrville\, TX\, 78028
END:VEVENT
BEGIN:VEVENT
DTSTART;TZID=America/Chicago:20240511T200000
DTEND;TZID=America/Chicago:20240511T200000
DTSTAMP:20260421T055314
CREATED:20240510T161341Z
LAST-MODIFIED:20240510T161341Z
UID:51277-1715457600-1715457600@kerrcountylead.com
SUMMARY:Heartbreak Outlaws
DESCRIPTION:
URL:https://kerrcountylead.com/event/heartbreak-outlaws-17/
LOCATION:Inn of the Hills Pub\, 1001 Junction Hwy.\, Kerrville\, Texas\, 78028
CATEGORIES:Live music
END:VEVENT
BEGIN:VEVENT
DTSTART;TZID=America/Chicago:20240511T193000
DTEND;TZID=America/Chicago:20240511T193000
DTSTAMP:20260421T055314
CREATED:20240504T210830Z
LAST-MODIFIED:20240504T210830Z
UID:50968-1715455800-1715455800@kerrcountylead.com
SUMMARY:The Explorers Club
DESCRIPTION:Indoor Theater. A farcical play written by Nell Benjamin. In 19th-century London\, a fictional club of elite explorers faces the crisis of a woman wanting to join. She has found a Lost City\, and though the president advocates for her admission\, other members are quite opposed. To purchase tickets\, click here. 
URL:https://kerrcountylead.com/event/the-explorers-club-7/
LOCATION:Hill Country Arts Foundation\, 120 Point Theatre Rd S\, Ingram\, Texas\, 78025
CATEGORIES:Performing arts
END:VEVENT
BEGIN:VEVENT
DTSTART;TZID=America/Chicago:20240511T193000
DTEND;TZID=America/Chicago:20240511T193000
DTSTAMP:20260421T055314
CREATED:20240504T210741Z
LAST-MODIFIED:20240504T210741Z
UID:50966-1715455800-1715455800@kerrcountylead.com
SUMMARY:Dreams: A Tribute to Fleetwood Mac
DESCRIPTION:
URL:https://kerrcountylead.com/event/dreams-a-tribute-to-fleetwood-mac/
LOCATION:Gravity Check Saloon\, 3979 Bandera Hwy 173\, Kerrville\, TX\, 78028\, United States
CATEGORIES:Live music
END:VEVENT
BEGIN:VEVENT
DTSTART;TZID=America/Chicago:20240511T190000
DTEND;TZID=America/Chicago:20240511T190000
DTSTAMP:20260421T055314
CREATED:20240504T210658Z
LAST-MODIFIED:20240504T210658Z
UID:50964-1715454000-1715454000@kerrcountylead.com
SUMMARY:The Habitat
DESCRIPTION:
URL:https://kerrcountylead.com/event/the-habitat/
LOCATION:Central Provisions\, 227 FM 480\, Center Point\, Texas\, 78010
CATEGORIES:Live music
END:VEVENT
BEGIN:VEVENT
DTSTART;TZID=America/Chicago:20240511T190000
DTEND;TZID=America/Chicago:20240511T190000
DTSTAMP:20260421T055314
CREATED:20240504T210529Z
LAST-MODIFIED:20240504T210529Z
UID:50962-1715454000-1715454000@kerrcountylead.com
SUMMARY:Jerialice Arsenault
DESCRIPTION:
URL:https://kerrcountylead.com/event/jerialice-arsenault/
LOCATION:Trailhead Beer Garden\, 2100 Memorial Blvd Bldg #11\, Kerrville\, TX\, 78028\, United States
CATEGORIES:Live music
END:VEVENT
BEGIN:VEVENT
DTSTART;TZID=America/Chicago:20240511T183000
DTEND;TZID=America/Chicago:20240511T183000
DTSTAMP:20260421T055314
CREATED:20240510T161108Z
LAST-MODIFIED:20240510T161108Z
UID:51275-1715452200-1715452200@kerrcountylead.com
SUMMARY:Danny Feller
DESCRIPTION:
URL:https://kerrcountylead.com/event/danny-feller-5/
LOCATION:Howdy’s Bar & Chill\, 101 Rowland Dr\, Kerrville\, TX\, 78028
CATEGORIES:Live music
END:VEVENT
BEGIN:VEVENT
DTSTART;TZID=America/Chicago:20240511T183000
DTEND;TZID=America/Chicago:20240511T183000
DTSTAMP:20260421T055314
CREATED:20240504T210448Z
LAST-MODIFIED:20240504T210448Z
UID:50960-1715452200-1715452200@kerrcountylead.com
SUMMARY:Saturday Night Tribute Series: Greatest Cowboy Songs with Dave Kemp & Son
DESCRIPTION:
URL:https://kerrcountylead.com/event/saturday-night-tribute-series-greatest-cowboy-songs-with-dave-kemp-son/
LOCATION:Singing Water Vineyards\, 316 Mill Dam Rd\, Comfort\, TX\, 78013
CATEGORIES:Live music
END:VEVENT
BEGIN:VEVENT
DTSTART;TZID=America/Chicago:20240511T180000
DTEND;TZID=America/Chicago:20240511T180000
DTSTAMP:20260421T055314
CREATED:20240504T210357Z
LAST-MODIFIED:20240504T210357Z
UID:50958-1715450400-1715450400@kerrcountylead.com
SUMMARY:Jim Turner
DESCRIPTION:
URL:https://kerrcountylead.com/event/jim-turner-14/
LOCATION:Cafe at the Ridge\, 13439 S. Ranch Road 783\, Kerrville\, Texas\, 78028
CATEGORIES:Live music
END:VEVENT
BEGIN:VEVENT
DTSTART;TZID=America/Chicago:20240511T170000
DTEND;TZID=America/Chicago:20240511T210000
DTSTAMP:20260421T055314
CREATED:20240504T205547Z
LAST-MODIFIED:20240504T205547Z
UID:50947-1715446800-1715461200@kerrcountylead.com
SUMMARY:Shim’s Be Blessed
DESCRIPTION:
URL:https://kerrcountylead.com/event/shims-be-blessed-61/
LOCATION:Trailhead Beer Garden\, 2100 Memorial Blvd Bldg #11\, Kerrville\, TX\, 78028\, United States
CATEGORIES:Food truck 411
END:VEVENT
BEGIN:VEVENT
DTSTART;TZID=America/Chicago:20240511T170000
DTEND;TZID=America/Chicago:20240511T210000
DTSTAMP:20260421T055314
CREATED:20240504T205504Z
LAST-MODIFIED:20240504T205504Z
UID:50945-1715446800-1715461200@kerrcountylead.com
SUMMARY:Vecinos Fruteria y Cocina
DESCRIPTION:
URL:https://kerrcountylead.com/event/vecinos-fruteria-y-cocina-94/
LOCATION:Trailhead Beer Garden\, 2100 Memorial Blvd Bldg #11\, Kerrville\, TX\, 78028\, United States
CATEGORIES:Food truck 411
END:VEVENT
BEGIN:VEVENT
DTSTART;TZID=America/Chicago:20240511T170000
DTEND;TZID=America/Chicago:20240511T170000
DTSTAMP:20260421T055314
CREATED:20240504T210241Z
LAST-MODIFIED:20240504T210241Z
UID:50954-1715446800-1715446800@kerrcountylead.com
SUMMARY:Sushi Saturday
DESCRIPTION:Three seating times: 5pm\, 6pm\, 7pm. See website for details and reservations.  \n 
URL:https://kerrcountylead.com/event/sushi-saturday-3/
LOCATION:Singing Water Vineyards\, 316 Mill Dam Rd\, Comfort\, TX\, 78013
CATEGORIES:Foodie event,Wine event
END:VEVENT
BEGIN:VEVENT
DTSTART;TZID=America/Chicago:20240511T160000
DTEND;TZID=America/Chicago:20240511T170000
DTSTAMP:20260421T055314
CREATED:20240504T204401Z
LAST-MODIFIED:20240504T204401Z
UID:50939-1715443200-1715446800@kerrcountylead.com
SUMMARY:Gardening 101: Heat-Tolerant Vegetables
DESCRIPTION:
URL:https://kerrcountylead.com/event/gardening-101-heat-tolerant-vegetables/
LOCATION:Butt-Holdsworth Memorial Library\, 505 Water St.\, Kerrville\, Texas\, 78028
CATEGORIES:Library event,Science and nature
END:VEVENT
BEGIN:VEVENT
DTSTART;TZID=America/Chicago:20240511T140000
DTEND;TZID=America/Chicago:20240511T160000
DTSTAMP:20260421T055314
CREATED:20240504T205950Z
LAST-MODIFIED:20240504T205950Z
UID:50949-1715436000-1715443200@kerrcountylead.com
SUMMARY:Mother's Day Tea
DESCRIPTION:Delightful teas\, finger sandwiches\, and decadent desserts will be served. There will be a hat contest and raffle prizes. Free event\, call to reserve your spot. 
URL:https://kerrcountylead.com/event/mothers-day-tea/
LOCATION:Dietert Center\, 451 Guadalupe St #203\, Kerrville\, Texas\, 78028
CATEGORIES:Celebration
END:VEVENT
BEGIN:VEVENT
DTSTART;TZID=America/Chicago:20240511T140000
DTEND;TZID=America/Chicago:20240511T140000
DTSTAMP:20260421T055314
CREATED:20240504T210047Z
LAST-MODIFIED:20240504T210108Z
UID:50951-1715436000-1715436000@kerrcountylead.com
SUMMARY:MOWA Crafters: Summer Fun
DESCRIPTION:Geared toward ages 5 and up.
URL:https://kerrcountylead.com/event/mowa-crafters-10/
LOCATION:Museum of Western Art\, 1550 Bandera Hwy.\, Kerrville\, Texas\, 78028
CATEGORIES:Crafts
END:VEVENT
END:VCALENDAR