BEGIN:VCALENDAR
VERSION:2.0
PRODID:-//The Kerr County Lead - ECPv6.15.17.1//NONSGML v1.0//EN
CALSCALE:GREGORIAN
METHOD:PUBLISH
X-WR-CALNAME:The Kerr County Lead
X-ORIGINAL-URL:https://kerrcountylead.com
X-WR-CALDESC:Events for The Kerr County Lead
REFRESH-INTERVAL;VALUE=DURATION:PT1H
X-Robots-Tag:noindex
X-PUBLISHED-TTL:PT1H
BEGIN:VTIMEZONE
TZID:America/Chicago
BEGIN:DAYLIGHT
TZOFFSETFROM:-0600
TZOFFSETTO:-0500
TZNAME:CDT
DTSTART:20230312T080000
END:DAYLIGHT
BEGIN:STANDARD
TZOFFSETFROM:-0500
TZOFFSETTO:-0600
TZNAME:CST
DTSTART:20231105T070000
END:STANDARD
BEGIN:DAYLIGHT
TZOFFSETFROM:-0600
TZOFFSETTO:-0500
TZNAME:CDT
DTSTART:20240310T080000
END:DAYLIGHT
BEGIN:STANDARD
TZOFFSETFROM:-0500
TZOFFSETTO:-0600
TZNAME:CST
DTSTART:20241103T070000
END:STANDARD
BEGIN:DAYLIGHT
TZOFFSETFROM:-0600
TZOFFSETTO:-0500
TZNAME:CDT
DTSTART:20250309T080000
END:DAYLIGHT
BEGIN:STANDARD
TZOFFSETFROM:-0500
TZOFFSETTO:-0600
TZNAME:CST
DTSTART:20251102T070000
END:STANDARD
END:VTIMEZONE
BEGIN:VEVENT
DTSTART;TZID=America/Chicago:20240824T100000
DTEND;TZID=America/Chicago:20240824T160000
DTSTAMP:20260423T065527
CREATED:20240731T154653Z
LAST-MODIFIED:20240731T154653Z
UID:55212-1724493600-1724515200@kerrcountylead.com
SUMMARY:Two Perspectives: Scott Christensen & Quang Ho
DESCRIPTION:
URL:https://kerrcountylead.com/event/two-perspectives-scott-christensen-quang-ho-25/
LOCATION:Museum of Western Art\, 1550 Bandera Hwy.\, Kerrville\, Texas\, 78028
CATEGORIES:The arts
END:VEVENT
BEGIN:VEVENT
DTSTART;TZID=America/Chicago:20240824T100000
DTEND;TZID=America/Chicago:20240824T140000
DTSTAMP:20260423T065527
CREATED:20240820T004145Z
LAST-MODIFIED:20240820T004145Z
UID:55926-1724493600-1724508000@kerrcountylead.com
SUMMARY:Fertile Ground: Landscapes of the Mind
DESCRIPTION:
URL:https://kerrcountylead.com/event/fertile-ground-landscapes-of-the-mind-2/
LOCATION:Hill Country Arts Foundation\, 120 Point Theatre Rd S\, Ingram\, Texas\, 78025
CATEGORIES:The arts
END:VEVENT
BEGIN:VEVENT
DTSTART;TZID=America/Chicago:20240824T100000
DTEND;TZID=America/Chicago:20240824T120000
DTSTAMP:20260423T065527
CREATED:20240818T205025Z
LAST-MODIFIED:20240818T205025Z
UID:55856-1724493600-1724500800@kerrcountylead.com
SUMMARY:Plant Swap Til You Drop
DESCRIPTION:
URL:https://kerrcountylead.com/event/plant-swap-til-you-drop/
LOCATION:The Ridge Marketplace\, 13439 S Ranch Road 783\, Kerrville\, TX\, 78028
CATEGORIES:Markets
END:VEVENT
BEGIN:VEVENT
DTSTART;TZID=America/Chicago:20240824T093000
DTEND;TZID=America/Chicago:20240824T123000
DTSTAMP:20260423T065527
CREATED:20240822T193453Z
LAST-MODIFIED:20240822T193453Z
UID:55962-1724491800-1724502600@kerrcountylead.com
SUMMARY:Kitten & Cat Adoptions
DESCRIPTION:
URL:https://kerrcountylead.com/event/kitten-cat-adoptions/
LOCATION:KPA! Safe House\, 2102 Memorial Blvd\, Kerrville\, TX\, 78028
CATEGORIES:Pet event
END:VEVENT
BEGIN:VEVENT
DTSTART;TZID=America/Chicago:20240824T090000
DTEND;TZID=America/Chicago:20240824T130000
DTSTAMP:20260423T065527
CREATED:20240818T204740Z
LAST-MODIFIED:20240818T204740Z
UID:55852-1724490000-1724504400@kerrcountylead.com
SUMMARY:Farmers Market
DESCRIPTION:
URL:https://kerrcountylead.com/event/farmers-market-56/
LOCATION:Parking Lot @ 741 Water St\, 741 Water St\, Kerrville\, TX\, 78028
CATEGORIES:Markets
END:VEVENT
BEGIN:VEVENT
DTSTART;TZID=America/Chicago:20240824T090000
DTEND;TZID=America/Chicago:20240824T090000
DTSTAMP:20260423T065527
CREATED:20240818T204625Z
LAST-MODIFIED:20240818T204625Z
UID:55850-1724490000-1724490000@kerrcountylead.com
SUMMARY:Coffee & Kayak
DESCRIPTION:Meet at Central Provisions for coffee and then head down to the Center Point dam for a kayak outing. 
URL:https://kerrcountylead.com/event/coffee-kayak-2/
LOCATION:Central Provisions\, 227 FM 480\, Center Point\, Texas\, 78010
CATEGORIES:Outdoor activities
END:VEVENT
BEGIN:VEVENT
DTSTART;TZID=America/Chicago:20240824T080000
DTEND;TZID=America/Chicago:20240824T080000
DTSTAMP:20260423T065527
CREATED:20240818T204926Z
LAST-MODIFIED:20240818T204926Z
UID:55854-1724486400-1724486400@kerrcountylead.com
SUMMARY:Hillside Harvest Market
DESCRIPTION:
URL:https://kerrcountylead.com/event/hillside-harvest-market-34/
LOCATION:Parking Lot @ 5 Points\, 301 Junction Hwy\, Kerrville\, TX\, 78028
CATEGORIES:Markets
END:VEVENT
BEGIN:VEVENT
DTSTART;TZID=America/Chicago:20240824T073000
DTEND;TZID=America/Chicago:20240824T073000
DTSTAMP:20260423T065527
CREATED:20240818T204528Z
LAST-MODIFIED:20240822T193111Z
UID:55848-1724484600-1724484600@kerrcountylead.com
SUMMARY:Kerrville Walking Group
DESCRIPTION:Location: Wharton Rd – River Rd. Join the KWG on Saturday mornings for nature walks. Most routes are 2-4 miles. Visit website for exact meeting location and further details.
URL:https://kerrcountylead.com/event/kerrville-walking-group-25/
LOCATION:Various Locations
CATEGORIES:Outdoor activities
END:VEVENT
BEGIN:VEVENT
DTSTART;TZID=America/Chicago:20240823T190000
DTEND;TZID=America/Chicago:20240823T220000
DTSTAMP:20260423T065527
CREATED:20240818T200754Z
LAST-MODIFIED:20240818T200754Z
UID:55836-1724439600-1724450400@kerrcountylead.com
SUMMARY:Jimmie Lee Jones
DESCRIPTION:
URL:https://kerrcountylead.com/event/jimmie-lee-jones-3/
LOCATION:Howdy’s Bar & Chill\, 101 Rowland Dr\, Kerrville\, TX\, 78028
CATEGORIES:Live music
END:VEVENT
BEGIN:VEVENT
DTSTART;TZID=America/Chicago:20240823T180000
DTEND;TZID=America/Chicago:20240823T200000
DTSTAMP:20260423T065527
CREATED:20240818T195646Z
LAST-MODIFIED:20240818T195646Z
UID:55829-1724436000-1724443200@kerrcountylead.com
SUMMARY:Misty Dawn
DESCRIPTION:
URL:https://kerrcountylead.com/event/misty-dawn-2/
LOCATION:Pint & Plow Brewing Co.\, 332 Clay St\, Kerrville\, Texas\, 78028
CATEGORIES:Live music
END:VEVENT
BEGIN:VEVENT
DTSTART;TZID=America/Chicago:20240823T170000
DTEND;TZID=America/Chicago:20240823T210000
DTSTAMP:20260423T065527
CREATED:20240822T203540Z
LAST-MODIFIED:20240822T203540Z
UID:55967-1724432400-1724446800@kerrcountylead.com
SUMMARY:Munchy Machine
DESCRIPTION:
URL:https://kerrcountylead.com/event/munchy-machine-68/
LOCATION:Basement Brewers of Texas\, 521 Clay St\, Kerrville\, TX\, 78028
CATEGORIES:Food truck 411
END:VEVENT
BEGIN:VEVENT
DTSTART;TZID=America/Chicago:20240823T170000
DTEND;TZID=America/Chicago:20240823T210000
DTSTAMP:20260423T065527
CREATED:20240820T005847Z
LAST-MODIFIED:20240820T005847Z
UID:55942-1724432400-1724446800@kerrcountylead.com
SUMMARY:Shim's Be Blessed
DESCRIPTION:
URL:https://kerrcountylead.com/event/shims-be-blessed-94/
LOCATION:Tailchasers Patio + Pub\, 516 Jefferson St\, Kerrville\, TX\, 78028
CATEGORIES:Food truck 411
END:VEVENT
BEGIN:VEVENT
DTSTART;TZID=America/Chicago:20240823T170000
DTEND;TZID=America/Chicago:20240823T210000
DTSTAMP:20260423T065527
CREATED:20240818T195407Z
LAST-MODIFIED:20240818T195407Z
UID:55823-1724432400-1724446800@kerrcountylead.com
SUMMARY:The Pearl
DESCRIPTION:
URL:https://kerrcountylead.com/event/the-pearl-10/
LOCATION:Trailhead Beer Garden\, 2100 Memorial Blvd Bldg #11\, Kerrville\, TX\, 78028\, United States
CATEGORIES:Food truck 411
END:VEVENT
BEGIN:VEVENT
DTSTART;TZID=America/Chicago:20240823T170000
DTEND;TZID=America/Chicago:20240823T200000
DTSTAMP:20260423T065527
CREATED:20240820T010024Z
LAST-MODIFIED:20240820T010024Z
UID:55944-1724432400-1724443200@kerrcountylead.com
SUMMARY:Matthew James Butler
DESCRIPTION:
URL:https://kerrcountylead.com/event/matthew-james-butler-6/
LOCATION:Turtle Creek Vineyard\, 183 Fall Creek Rd\, Kerrville\, TX\, 78028
CATEGORIES:Live music
END:VEVENT
BEGIN:VEVENT
DTSTART;TZID=America/Chicago:20240823T170000
DTEND;TZID=America/Chicago:20240823T190000
DTSTAMP:20260423T065527
CREATED:20240818T195551Z
LAST-MODIFIED:20240818T195551Z
UID:55827-1724432400-1724439600@kerrcountylead.com
SUMMARY:Artist Reception
DESCRIPTION:
URL:https://kerrcountylead.com/event/artist-reception-17/
LOCATION:Hill Country Arts Foundation\, 120 Point Theatre Rd S\, Ingram\, Texas\, 78025
CATEGORIES:The arts
END:VEVENT
BEGIN:VEVENT
DTSTART;TZID=America/Chicago:20240823T170000
DTEND;TZID=America/Chicago:20240823T170000
DTSTAMP:20260423T065527
CREATED:20240818T195456Z
LAST-MODIFIED:20240818T195456Z
UID:55825-1724432400-1724432400@kerrcountylead.com
SUMMARY:Youth Book Club
DESCRIPTION:
URL:https://kerrcountylead.com/event/youth-book-club-2/
LOCATION:Central Provisions\, 227 FM 480\, Center Point\, Texas\, 78010
CATEGORIES:Literary event
END:VEVENT
BEGIN:VEVENT
DTSTART;TZID=America/Chicago:20240823T120000
DTEND;TZID=America/Chicago:20240823T180000
DTSTAMP:20260423T065527
CREATED:20240820T005625Z
LAST-MODIFIED:20240820T005625Z
UID:55940-1724414400-1724436000@kerrcountylead.com
SUMMARY:Vecinos Fruteria y Cocina
DESCRIPTION:
URL:https://kerrcountylead.com/event/vecinos-fruteria-y-cocina-98/
LOCATION:Turtle Creek Vineyard\, 183 Fall Creek Rd\, Kerrville\, TX\, 78028
CATEGORIES:Food truck 411
END:VEVENT
BEGIN:VEVENT
DTSTART;TZID=America/Chicago:20240823T113000
DTEND;TZID=America/Chicago:20240823T113000
DTSTAMP:20260423T065527
CREATED:20240818T195142Z
LAST-MODIFIED:20240818T195142Z
UID:55817-1724412600-1724412600@kerrcountylead.com
SUMMARY:Fourth Friday Lunch & Bingo
DESCRIPTION:At the center’s Friendship Cafe. Lunch is at 11:30\, by donation for age 60+ and $8 for under 60. Bingo starts at 1 p.m. and is free.
URL:https://kerrcountylead.com/event/fourth-friday-lunch-bingo-5/
LOCATION:Dietert Center\, 451 Guadalupe St #203\, Kerrville\, Texas\, 78028
CATEGORIES:Games
END:VEVENT
BEGIN:VEVENT
DTSTART;TZID=America/Chicago:20240823T110000
DTEND;TZID=America/Chicago:20240823T200000
DTSTAMP:20260423T065527
CREATED:20240818T195317Z
LAST-MODIFIED:20240818T195317Z
UID:55821-1724410800-1724443200@kerrcountylead.com
SUMMARY:Que-Zeen BBQ
DESCRIPTION:
URL:https://kerrcountylead.com/event/que-zeen-bbq-141/
LOCATION:The Ingram Dam\, 610 TX 39\, Ingram\, TX\, 78025
CATEGORIES:Food truck 411
END:VEVENT
BEGIN:VEVENT
DTSTART;TZID=America/Chicago:20240823T100000
DTEND;TZID=America/Chicago:20240823T180000
DTSTAMP:20260423T065527
CREATED:20240729T194550Z
LAST-MODIFIED:20240729T194550Z
UID:55111-1724407200-1724436000@kerrcountylead.com
SUMMARY:Our Place in Space
DESCRIPTION:Come see the constellations in our planetarium\, learn about conserving our night skies and about our place in space!
URL:https://kerrcountylead.com/event/our-place-in-space-105/
LOCATION:Riverside Nature Center\, 150 Francisco Lemos St\, Kerrville\, Texas\, 78028
CATEGORIES:Science and nature
END:VEVENT
BEGIN:VEVENT
DTSTART;TZID=America/Chicago:20240823T100000
DTEND;TZID=America/Chicago:20240823T160000
DTSTAMP:20260423T065527
CREATED:20240820T004003Z
LAST-MODIFIED:20240820T004003Z
UID:55924-1724407200-1724428800@kerrcountylead.com
SUMMARY:Fertile Ground: Landscapes of the Mind
DESCRIPTION:
URL:https://kerrcountylead.com/event/fertile-ground-landscapes-of-the-mind/
LOCATION:Hill Country Arts Foundation\, 120 Point Theatre Rd S\, Ingram\, Texas\, 78025
CATEGORIES:The arts
END:VEVENT
BEGIN:VEVENT
DTSTART;TZID=America/Chicago:20240823T100000
DTEND;TZID=America/Chicago:20240823T160000
DTSTAMP:20260423T065527
CREATED:20240812T195116Z
LAST-MODIFIED:20240812T195116Z
UID:55700-1724407200-1724428800@kerrcountylead.com
SUMMARY:KACC Art Exhibits
DESCRIPTION:Zena Stetka Howe\, Images Judged Membership Show\, and Hill Country Camera Club Judged Exhibit. Through September 7. 
URL:https://kerrcountylead.com/event/kacc-art-exhibits-278/
LOCATION:Kerr Arts & Cultural Center\, 228 Earl Garrett St.\, Kerrville\, Texas\, 78028
CATEGORIES:The arts
END:VEVENT
BEGIN:VEVENT
DTSTART;TZID=America/Chicago:20240823T100000
DTEND;TZID=America/Chicago:20240823T160000
DTSTAMP:20260423T065527
CREATED:20240731T154620Z
LAST-MODIFIED:20240731T154620Z
UID:55210-1724407200-1724428800@kerrcountylead.com
SUMMARY:Two Perspectives: Scott Christensen & Quang Ho
DESCRIPTION:
URL:https://kerrcountylead.com/event/two-perspectives-scott-christensen-quang-ho-24/
LOCATION:Museum of Western Art\, 1550 Bandera Hwy.\, Kerrville\, Texas\, 78028
CATEGORIES:The arts
END:VEVENT
BEGIN:VEVENT
DTSTART;TZID=America/Chicago:20240823T100000
DTEND;TZID=America/Chicago:20240823T140000
DTSTAMP:20260423T065527
CREATED:20240818T195039Z
LAST-MODIFIED:20240818T195039Z
UID:55815-1724407200-1724421600@kerrcountylead.com
SUMMARY:Community Resource Fair
DESCRIPTION:Information on assistance with services\, support\, caregiving\, transport\, home weatherization\, and for veterans. 
URL:https://kerrcountylead.com/event/community-resource-fair-3/
LOCATION:Doyle Community Center\, 110 W. Barnett St.\, Kerrville\, Texas\, 78028
CATEGORIES:Outreach groups
END:VEVENT
BEGIN:VEVENT
DTSTART;TZID=America/Chicago:20240823T100000
DTEND;TZID=America/Chicago:20240823T120000
DTSTAMP:20260423T065527
CREATED:20240818T194929Z
LAST-MODIFIED:20240818T194929Z
UID:55813-1724407200-1724414400@kerrcountylead.com
SUMMARY:One-on-One with a Naturalist
DESCRIPTION:A Certified Texas Master Naturalist will be available to answer questions\, discuss various topics\, or listen to ideas about how to advance the stewardship and conservation of our environment.
URL:https://kerrcountylead.com/event/one-on-one-with-a-naturalist-35/
LOCATION:Riverside Nature Center\, 150 Francisco Lemos St\, Kerrville\, Texas\, 78028
CATEGORIES:Science and nature
END:VEVENT
BEGIN:VEVENT
DTSTART;TZID=America/Chicago:20240822T170000
DTEND;TZID=America/Chicago:20240822T210000
DTSTAMP:20260423T065527
CREATED:20240818T194014Z
LAST-MODIFIED:20240818T194014Z
UID:55807-1724346000-1724360400@kerrcountylead.com
SUMMARY:Shim’s Be Blessed: Burger Night!
DESCRIPTION:Burger Night at Trailhead! Shim’s will be serving burgers: 2 for $20 and Trailhead will have $4 P&P pints.
URL:https://kerrcountylead.com/event/shims-be-blessed-burger-night-33/
LOCATION:Trailhead Beer Garden\, 2100 Memorial Blvd Bldg #11\, Kerrville\, TX\, 78028\, United States
CATEGORIES:Food truck 411
END:VEVENT
BEGIN:VEVENT
DTSTART;TZID=America/Chicago:20240822T153000
DTEND;TZID=America/Chicago:20240822T173000
DTSTAMP:20260423T065527
CREATED:20240818T193418Z
LAST-MODIFIED:20240818T193418Z
UID:55799-1724340600-1724347800@kerrcountylead.com
SUMMARY:Teen Lounge
DESCRIPTION:
URL:https://kerrcountylead.com/event/teen-lounge-8/
LOCATION:Doyle Community Center\, 110 W. Barnett St.\, Kerrville\, Texas\, 78028
CATEGORIES:Outreach groups
END:VEVENT
BEGIN:VEVENT
DTSTART;TZID=America/Chicago:20240822T120000
DTEND;TZID=America/Chicago:20240822T130000
DTSTAMP:20260423T065527
CREATED:20240818T193714Z
LAST-MODIFIED:20240818T193714Z
UID:55803-1724328000-1724331600@kerrcountylead.com
SUMMARY:Talking Texas Book Club
DESCRIPTION:The club will discuss “The Broken Spoke” by Donna Marie Miller.
URL:https://kerrcountylead.com/event/talking-texas-book-club-16/
LOCATION:Kerr Regional History Center\, 425 Water St.\, Kerrville\, TX\, 78028\, United States
CATEGORIES:Library event
END:VEVENT
BEGIN:VEVENT
DTSTART;TZID=America/Chicago:20240822T110000
DTEND;TZID=America/Chicago:20240822T200000
DTSTAMP:20260423T065527
CREATED:20240818T193809Z
LAST-MODIFIED:20240818T193809Z
UID:55805-1724324400-1724356800@kerrcountylead.com
SUMMARY:Que-Zeen BBQ
DESCRIPTION:
URL:https://kerrcountylead.com/event/que-zeen-bbq-140/
LOCATION:The Ingram Dam\, 610 TX 39\, Ingram\, TX\, 78025
CATEGORIES:Food truck 411
END:VEVENT
BEGIN:VEVENT
DTSTART;TZID=America/Chicago:20240822T103000
DTEND;TZID=America/Chicago:20240822T113000
DTSTAMP:20260423T065527
CREATED:20240818T193505Z
LAST-MODIFIED:20240818T193505Z
UID:55801-1724322600-1724326200@kerrcountylead.com
SUMMARY:Sprouts
DESCRIPTION:Explore the wonders of nature through story time with your preschooler.
URL:https://kerrcountylead.com/event/sprouts-71/
LOCATION:Riverside Nature Center\, 150 Francisco Lemos St\, Kerrville\, Texas\, 78028
CATEGORIES:Science and nature
END:VEVENT
END:VCALENDAR