BEGIN:VCALENDAR
VERSION:2.0
PRODID:-//The Kerr County Lead - ECPv6.15.17.1//NONSGML v1.0//EN
CALSCALE:GREGORIAN
METHOD:PUBLISH
X-WR-CALNAME:The Kerr County Lead
X-ORIGINAL-URL:https://kerrcountylead.com
X-WR-CALDESC:Events for The Kerr County Lead
REFRESH-INTERVAL;VALUE=DURATION:PT1H
X-Robots-Tag:noindex
X-PUBLISHED-TTL:PT1H
BEGIN:VTIMEZONE
TZID:America/Chicago
BEGIN:DAYLIGHT
TZOFFSETFROM:-0600
TZOFFSETTO:-0500
TZNAME:CDT
DTSTART:20230312T080000
END:DAYLIGHT
BEGIN:STANDARD
TZOFFSETFROM:-0500
TZOFFSETTO:-0600
TZNAME:CST
DTSTART:20231105T070000
END:STANDARD
BEGIN:DAYLIGHT
TZOFFSETFROM:-0600
TZOFFSETTO:-0500
TZNAME:CDT
DTSTART:20240310T080000
END:DAYLIGHT
BEGIN:STANDARD
TZOFFSETFROM:-0500
TZOFFSETTO:-0600
TZNAME:CST
DTSTART:20241103T070000
END:STANDARD
BEGIN:DAYLIGHT
TZOFFSETFROM:-0600
TZOFFSETTO:-0500
TZNAME:CDT
DTSTART:20250309T080000
END:DAYLIGHT
BEGIN:STANDARD
TZOFFSETFROM:-0500
TZOFFSETTO:-0600
TZNAME:CST
DTSTART:20251102T070000
END:STANDARD
END:VTIMEZONE
BEGIN:VEVENT
DTSTART;TZID=America/Chicago:20240907T120000
DTEND;TZID=America/Chicago:20240907T160000
DTSTAMP:20260419T115308
CREATED:20240902T221104Z
LAST-MODIFIED:20240902T221104Z
UID:56337-1725710400-1725724800@kerrcountylead.com
SUMMARY:THCYP Poker Tournament
DESCRIPTION:
URL:https://kerrcountylead.com/event/thcyp-poker-tournament/
LOCATION:The Arcadia Live\, 717 Water St\, Kerrville\, TX\, 78028\, United States
CATEGORIES:Games
END:VEVENT
BEGIN:VEVENT
DTSTART;TZID=America/Chicago:20240907T120000
DTEND;TZID=America/Chicago:20240907T150000
DTSTAMP:20260419T115308
CREATED:20240902T220536Z
LAST-MODIFIED:20240906T181713Z
UID:56327-1725710400-1725721200@kerrcountylead.com
SUMMARY:Pet Adoptions
DESCRIPTION:Low-cost vax and chip clinic still has spots available. See facebook post for info.
URL:https://kerrcountylead.com/event/pet-adoptions-15/
LOCATION:KPA! Safe House\, 2102 Memorial Blvd\, Kerrville\, TX\, 78028
CATEGORIES:Pet event
END:VEVENT
BEGIN:VEVENT
DTSTART;TZID=America/Chicago:20240907T120000
DTEND;TZID=America/Chicago:20240907T120000
DTSTAMP:20260419T115308
CREATED:20240902T221015Z
LAST-MODIFIED:20240902T221015Z
UID:56335-1725710400-1725710400@kerrcountylead.com
SUMMARY:Luminaria Workshop
DESCRIPTION:
URL:https://kerrcountylead.com/event/luminaria-workshop/
LOCATION:The Color of Clay\, 93 Coronado Drive N Ste 2\, Kerrville\, TX\, 78028
CATEGORIES:Crafts
END:VEVENT
BEGIN:VEVENT
DTSTART;TZID=America/Chicago:20240907T113000
DTEND;TZID=America/Chicago:20240907T113000
DTSTAMP:20260419T115308
CREATED:20240902T220432Z
LAST-MODIFIED:20240902T220432Z
UID:56325-1725708600-1725708600@kerrcountylead.com
SUMMARY:A Round to Remember Golf Tournament
DESCRIPTION:Supporting the Dietert Center’s Dementia Care Advocates.
URL:https://kerrcountylead.com/event/a-round-to-remember-golf-tournament-2/
LOCATION:Riverhill Country Club\, 100 Riverhill Club Ln\, Kerrville\, TX\, 78028
CATEGORIES:Fundraiser,Sports
END:VEVENT
BEGIN:VEVENT
DTSTART;TZID=America/Chicago:20240907T110000
DTEND;TZID=America/Chicago:20240907T200000
DTSTAMP:20260419T115308
CREATED:20240902T220640Z
LAST-MODIFIED:20240902T220640Z
UID:56329-1725706800-1725739200@kerrcountylead.com
SUMMARY:Que-Zeen BBQ
DESCRIPTION:
URL:https://kerrcountylead.com/event/que-zeen-bbq-150/
LOCATION:The Ingram Dam\, 610 TX 39\, Ingram\, TX\, 78025
CATEGORIES:Food truck 411
END:VEVENT
BEGIN:VEVENT
DTSTART;TZID=America/Chicago:20240907T103000
DTEND;TZID=America/Chicago:20240907T113000
DTSTAMP:20260419T115308
CREATED:20240902T220049Z
LAST-MODIFIED:20240902T220049Z
UID:56319-1725705000-1725708600@kerrcountylead.com
SUMMARY:Adult Yoga: Stretch & Relax
DESCRIPTION:Offered by Humbling Bloom.
URL:https://kerrcountylead.com/event/adult-yoga-stretch-relax-20/
LOCATION:Butt-Holdsworth Memorial Library\, 505 Water St.\, Kerrville\, Texas\, 78028
CATEGORIES:Library event,Wellness
END:VEVENT
BEGIN:VEVENT
DTSTART;TZID=America/Chicago:20240907T103000
DTEND;TZID=America/Chicago:20240907T103000
DTSTAMP:20260419T115308
CREATED:20240902T220247Z
LAST-MODIFIED:20240902T220247Z
UID:56323-1725705000-1725705000@kerrcountylead.com
SUMMARY:Kerr County Texas Exes Meetup
DESCRIPTION:Texas vs Michigan Game Watching Party.
URL:https://kerrcountylead.com/event/kerr-county-texas-exes-meetup/
LOCATION:Gravity Check Saloon\, 3979 Bandera Hwy 173\, Kerrville\, TX\, 78028\, United States
END:VEVENT
BEGIN:VEVENT
DTSTART;TZID=America/Chicago:20240907T100000
DTEND;TZID=America/Chicago:20240907T180000
DTSTAMP:20260419T115308
CREATED:20240909T222016Z
LAST-MODIFIED:20240909T222016Z
UID:56804-1725703200-1725732000@kerrcountylead.com
SUMMARY:Our Place in Space
DESCRIPTION:Come see the constellations in our planetarium\, learn about conserving our night skies and about our place in space!
URL:https://kerrcountylead.com/event/our-place-in-space-117/
LOCATION:Riverside Nature Center\, 150 Francisco Lemos St\, Kerrville\, Texas\, 78028
CATEGORIES:Science and nature
END:VEVENT
BEGIN:VEVENT
DTSTART;TZID=America/Chicago:20240907T100000
DTEND;TZID=America/Chicago:20240907T160000
DTSTAMP:20260419T115308
CREATED:20240909T214526Z
LAST-MODIFIED:20240909T214526Z
UID:56740-1725703200-1725724800@kerrcountylead.com
SUMMARY:Two Perspectives: Scott Christensen & Quang Ho
DESCRIPTION:
URL:https://kerrcountylead.com/event/two-perspectives-scott-christensen-quang-ho-35/
LOCATION:Museum of Western Art\, 1550 Bandera Hwy.\, Kerrville\, Texas\, 78028
CATEGORIES:The arts
END:VEVENT
BEGIN:VEVENT
DTSTART;TZID=America/Chicago:20240907T100000
DTEND;TZID=America/Chicago:20240907T160000
DTSTAMP:20260419T115308
CREATED:20240909T212113Z
LAST-MODIFIED:20240909T212113Z
UID:56702-1725703200-1725724800@kerrcountylead.com
SUMMARY:KACC Art Exhibits
DESCRIPTION:Zena Stetka Howe\, Images Judged Membership Show\, and Hill Country Camera Club Judged Exhibit. Through September 7. 
URL:https://kerrcountylead.com/event/kacc-art-exhibits-290/
LOCATION:Kerr Arts & Cultural Center\, 228 Earl Garrett St.\, Kerrville\, Texas\, 78028
CATEGORIES:The arts
END:VEVENT
BEGIN:VEVENT
DTSTART;TZID=America/Chicago:20240907T100000
DTEND;TZID=America/Chicago:20240907T140000
DTSTAMP:20260419T115308
CREATED:20240909T215950Z
LAST-MODIFIED:20240909T215950Z
UID:56770-1725703200-1725717600@kerrcountylead.com
SUMMARY:Fertile Ground: Landscapes of the Mind
DESCRIPTION:
URL:https://kerrcountylead.com/event/fertile-ground-landscapes-of-the-mind-14/
LOCATION:Hill Country Arts Foundation\, 120 Point Theatre Rd S\, Ingram\, Texas\, 78025
CATEGORIES:The arts
END:VEVENT
BEGIN:VEVENT
DTSTART;TZID=America/Chicago:20240907T100000
DTEND;TZID=America/Chicago:20240907T103000
DTSTAMP:20260419T115308
CREATED:20240902T215923Z
LAST-MODIFIED:20240902T215923Z
UID:56317-1725703200-1725705000@kerrcountylead.com
SUMMARY:Family Storytime
DESCRIPTION:
URL:https://kerrcountylead.com/event/family-storytime/
LOCATION:Butt-Holdsworth Memorial Library\, 505 Water St.\, Kerrville\, Texas\, 78028
CATEGORIES:Library event
END:VEVENT
BEGIN:VEVENT
DTSTART;TZID=America/Chicago:20240907T090000
DTEND;TZID=America/Chicago:20240907T130000
DTSTAMP:20260419T115308
CREATED:20240902T215652Z
LAST-MODIFIED:20240902T215652Z
UID:56311-1725699600-1725714000@kerrcountylead.com
SUMMARY:Farmers Market
DESCRIPTION:
URL:https://kerrcountylead.com/event/farmers-market-58/
LOCATION:Parking Lot @ 741 Water St\, 741 Water St\, Kerrville\, TX\, 78028
CATEGORIES:Markets
END:VEVENT
BEGIN:VEVENT
DTSTART;TZID=America/Chicago:20240907T090000
DTEND;TZID=America/Chicago:20240907T090000
DTSTAMP:20260419T115308
CREATED:20240902T215836Z
LAST-MODIFIED:20240902T215836Z
UID:56315-1725699600-1725699600@kerrcountylead.com
SUMMARY:Plant Walk and Talk
DESCRIPTION:Kim Ort\, Texas Master Naturalist\, will be your guide to identifying wildflowers. RSVP required to reserve your spot. This is a free program.
URL:https://kerrcountylead.com/event/plant-walk-and-talk-6/
LOCATION:Riverside Nature Center\, 150 Francisco Lemos St\, Kerrville\, Texas\, 78028
CATEGORIES:Science and nature
END:VEVENT
BEGIN:VEVENT
DTSTART;TZID=America/Chicago:20240907T080000
DTEND;TZID=America/Chicago:20240907T150000
DTSTAMP:20260419T115308
CREATED:20240902T215505Z
LAST-MODIFIED:20240902T215505Z
UID:56309-1725696000-1725721200@kerrcountylead.com
SUMMARY:Hill Country Swap Meet and Kerr County Market Days
DESCRIPTION:A community garage sale and flea market with all types of merchandise. Buy\, sell and trade. Concessions available\, indoors\, free parking. Pets are welcome: stop by the KPA! tent to see what fun things they have for your furry friends. 
URL:https://kerrcountylead.com/event/hill-country-swap-meet-and-kerr-county-market-days-12/
LOCATION:Hill Country Youth Event Center\, 3785 TX 27\, Kerrville\, Texas\, 78028
CATEGORIES:Movies
END:VEVENT
BEGIN:VEVENT
DTSTART;TZID=America/Chicago:20240907T080000
DTEND;TZID=America/Chicago:20240907T080000
DTSTAMP:20260419T115308
CREATED:20240906T180744Z
LAST-MODIFIED:20240906T180744Z
UID:56407-1725696000-1725696000@kerrcountylead.com
SUMMARY:UGRA 21st Annual River Clean-Up
DESCRIPTION:This is the new date for this event. Click here for event and registration info.
URL:https://kerrcountylead.com/event/ugra-21st-annual-river-clean-up-2/
LOCATION:Flat Rock Park\, 3840 Riverside Dr\, Kerrville\, Texas\, 78028
CATEGORIES:Outdoor activities
END:VEVENT
BEGIN:VEVENT
DTSTART;TZID=America/Chicago:20240907T080000
DTEND;TZID=America/Chicago:20240907T080000
DTSTAMP:20260419T115308
CREATED:20240902T215747Z
LAST-MODIFIED:20240902T215747Z
UID:56313-1725696000-1725696000@kerrcountylead.com
SUMMARY:Hillside Harvest Market
DESCRIPTION:
URL:https://kerrcountylead.com/event/hillside-harvest-market-36/
LOCATION:Parking Lot @ 5 Points\, 301 Junction Hwy\, Kerrville\, TX\, 78028
CATEGORIES:Markets
END:VEVENT
BEGIN:VEVENT
DTSTART;TZID=America/Chicago:20240907T073000
DTEND;TZID=America/Chicago:20240907T073000
DTSTAMP:20260419T115308
CREATED:20240902T215350Z
LAST-MODIFIED:20240906T175644Z
UID:56307-1725694200-1725694200@kerrcountylead.com
SUMMARY:Kerrville Walking Group
DESCRIPTION:Location: Dietert Center Trailhead – G St Trailhead via River Trail. Join the KWG on Saturday mornings for nature walks. Most routes are 2-4 miles. Visit website for exact meeting location and further details.
URL:https://kerrcountylead.com/event/kerrville-walking-group-27/
LOCATION:Various Locations
CATEGORIES:Outdoor activities
END:VEVENT
BEGIN:VEVENT
DTSTART;TZID=America/Chicago:20240906T180000
DTEND;TZID=America/Chicago:20240906T200000
DTSTAMP:20260419T115308
CREATED:20240902T205449Z
LAST-MODIFIED:20240906T183550Z
UID:56292-1725645600-1725652800@kerrcountylead.com
SUMMARY:Bill Mahko with Ghosts of the Pleasure Garden
DESCRIPTION:
URL:https://kerrcountylead.com/event/bill-mahko-14/
LOCATION:Pint & Plow Brewing Co.\, 332 Clay St\, Kerrville\, Texas\, 78028
CATEGORIES:Live music
END:VEVENT
BEGIN:VEVENT
DTSTART;TZID=America/Chicago:20240906T180000
DTEND;TZID=America/Chicago:20240906T193000
DTSTAMP:20260419T115308
CREATED:20240902T205313Z
LAST-MODIFIED:20240902T205313Z
UID:56286-1725645600-1725651000@kerrcountylead.com
SUMMARY:First Friday Wine Share
DESCRIPTION:A fun way to meet new or different wines\, people\, and places. Please bring no more than one bottle of wine for every two people and your own wine glass.
URL:https://kerrcountylead.com/event/first-friday-wine-share-7/
LOCATION:River’s Edge Gallery\, 838 Water St\, Kerrville\, TX\, 78028
CATEGORIES:Wine event
END:VEVENT
BEGIN:VEVENT
DTSTART;TZID=America/Chicago:20240906T170000
DTEND;TZID=America/Chicago:20240906T210000
DTSTAMP:20260419T115308
CREATED:20240906T182643Z
LAST-MODIFIED:20240906T182643Z
UID:56410-1725642000-1725656400@kerrcountylead.com
SUMMARY:Munchy Machine
DESCRIPTION:
URL:https://kerrcountylead.com/event/munchy-machine-74/
LOCATION:Basement Brewers of Texas\, 521 Clay St\, Kerrville\, TX\, 78028
CATEGORIES:Food truck 411
END:VEVENT
BEGIN:VEVENT
DTSTART;TZID=America/Chicago:20240906T170000
DTEND;TZID=America/Chicago:20240906T210000
DTSTAMP:20260419T115308
CREATED:20240902T204600Z
LAST-MODIFIED:20240902T204600Z
UID:56276-1725642000-1725656400@kerrcountylead.com
SUMMARY:The Pearl
DESCRIPTION:
URL:https://kerrcountylead.com/event/the-pearl-14/
LOCATION:Trailhead Beer Garden\, 2100 Memorial Blvd Bldg #11\, Kerrville\, TX\, 78028\, United States
CATEGORIES:Food truck 411
END:VEVENT
BEGIN:VEVENT
DTSTART;TZID=America/Chicago:20240906T170000
DTEND;TZID=America/Chicago:20240906T174500
DTSTAMP:20260419T115308
CREATED:20240902T205048Z
LAST-MODIFIED:20240902T205048Z
UID:56284-1725642000-1725644700@kerrcountylead.com
SUMMARY:Meditative Sound Bath
DESCRIPTION:Offered by Humbling Bloom.
URL:https://kerrcountylead.com/event/meditative-sound-bath-13/
LOCATION:Butt-Holdsworth Memorial Library\, 505 Water St.\, Kerrville\, Texas\, 78028
CATEGORIES:Library event,Wellness
END:VEVENT
BEGIN:VEVENT
DTSTART;TZID=America/Chicago:20240906T170000
DTEND;TZID=America/Chicago:20240906T170000
DTSTAMP:20260419T115308
CREATED:20240902T204750Z
LAST-MODIFIED:20240902T204750Z
UID:56280-1725642000-1725642000@kerrcountylead.com
SUMMARY:SU Women's Soccer vs Huston-Tillotson
DESCRIPTION:
URL:https://kerrcountylead.com/event/su-womens-soccer-vs-huston-tillotson/
LOCATION:Schreiner University\, 2100 Memorial Blvd\, Kerrville\, Texas\, 78028
CATEGORIES:College sports
END:VEVENT
BEGIN:VEVENT
DTSTART;TZID=America/Chicago:20240906T160000
DTEND;TZID=America/Chicago:20240906T160000
DTSTAMP:20260419T115308
CREATED:20240902T204938Z
LAST-MODIFIED:20240902T204938Z
UID:56282-1725638400-1725638400@kerrcountylead.com
SUMMARY:Camerata: Quartets
DESCRIPTION:An all-quartet program performing Haydn\, Perkinson\, and Beethoven. To purchase tickets\, click here. 
URL:https://kerrcountylead.com/event/camerata-quartets/
LOCATION:First Presbyterian Church\, 800 Jefferson St\, Kerrville\, Texas\, 78028
CATEGORIES:Performing arts
END:VEVENT
BEGIN:VEVENT
DTSTART;TZID=America/Chicago:20240906T140000
DTEND;TZID=America/Chicago:20240906T153000
DTSTAMP:20260419T115308
CREATED:20240902T204220Z
LAST-MODIFIED:20240902T204220Z
UID:56270-1725631200-1725636600@kerrcountylead.com
SUMMARY:Caregiver Support Group
DESCRIPTION:
URL:https://kerrcountylead.com/event/caregiver-support-group-3/
LOCATION:Peterson Hospice and Home Care Building\, 250 Cully Dr\, Kerrville\, TX\, 78028
CATEGORIES:Outreach groups
END:VEVENT
BEGIN:VEVENT
DTSTART;TZID=America/Chicago:20240906T140000
DTEND;TZID=America/Chicago:20240906T140000
DTSTAMP:20260419T115308
CREATED:20240902T204659Z
LAST-MODIFIED:20240902T204659Z
UID:56278-1725631200-1725631200@kerrcountylead.com
SUMMARY:SU Men's Soccer vs Huston-Tillotson
DESCRIPTION:
URL:https://kerrcountylead.com/event/su-mens-soccer-vs-huston-tillotson/
LOCATION:Schreiner University\, 2100 Memorial Blvd\, Kerrville\, Texas\, 78028
CATEGORIES:College sports
END:VEVENT
BEGIN:VEVENT
DTSTART;TZID=America/Chicago:20240906T110000
DTEND;TZID=America/Chicago:20240906T200000
DTSTAMP:20260419T115308
CREATED:20240902T204519Z
LAST-MODIFIED:20240902T204519Z
UID:56274-1725620400-1725652800@kerrcountylead.com
SUMMARY:Que-Zeen BBQ
DESCRIPTION:
URL:https://kerrcountylead.com/event/que-zeen-bbq-149/
LOCATION:The Ingram Dam\, 610 TX 39\, Ingram\, TX\, 78025
CATEGORIES:Food truck 411
END:VEVENT
BEGIN:VEVENT
DTSTART;TZID=America/Chicago:20240906T110000
DTEND;TZID=America/Chicago:20240906T110000
DTSTAMP:20260419T115308
CREATED:20240902T204426Z
LAST-MODIFIED:20240902T204426Z
UID:56272-1725620400-1725620400@kerrcountylead.com
SUMMARY:Fredericksburg First Friday Art Online
DESCRIPTION:Western Galleries and the Hill Country Camera Club present “Scenes from Europe” by guest photographer and Kerr County resident Clif Hunt. These works will be available through October 3. Monthly gallery email subscribers are invited to view and purchase the artwork the day before the online exhibit opens. westerngalleries.com
URL:https://kerrcountylead.com/event/fredericksburg-first-friday-art-online/
LOCATION:Texas
CATEGORIES:The arts
END:VEVENT
BEGIN:VEVENT
DTSTART;TZID=America/Chicago:20240906T100000
DTEND;TZID=America/Chicago:20240906T180000
DTSTAMP:20260419T115308
CREATED:20240909T221928Z
LAST-MODIFIED:20240909T221928Z
UID:56802-1725616800-1725645600@kerrcountylead.com
SUMMARY:Our Place in Space
DESCRIPTION:Come see the constellations in our planetarium\, learn about conserving our night skies and about our place in space!
URL:https://kerrcountylead.com/event/our-place-in-space-116/
LOCATION:Riverside Nature Center\, 150 Francisco Lemos St\, Kerrville\, Texas\, 78028
CATEGORIES:Science and nature
END:VEVENT
END:VCALENDAR