BEGIN:VCALENDAR
VERSION:2.0
PRODID:-//The Kerr County Lead - ECPv6.15.17.1//NONSGML v1.0//EN
CALSCALE:GREGORIAN
METHOD:PUBLISH
X-WR-CALNAME:The Kerr County Lead
X-ORIGINAL-URL:https://kerrcountylead.com
X-WR-CALDESC:Events for The Kerr County Lead
REFRESH-INTERVAL;VALUE=DURATION:PT1H
X-Robots-Tag:noindex
X-PUBLISHED-TTL:PT1H
BEGIN:VTIMEZONE
TZID:America/Chicago
BEGIN:DAYLIGHT
TZOFFSETFROM:-0600
TZOFFSETTO:-0500
TZNAME:CDT
DTSTART:20230312T080000
END:DAYLIGHT
BEGIN:STANDARD
TZOFFSETFROM:-0500
TZOFFSETTO:-0600
TZNAME:CST
DTSTART:20231105T070000
END:STANDARD
BEGIN:DAYLIGHT
TZOFFSETFROM:-0600
TZOFFSETTO:-0500
TZNAME:CDT
DTSTART:20240310T080000
END:DAYLIGHT
BEGIN:STANDARD
TZOFFSETFROM:-0500
TZOFFSETTO:-0600
TZNAME:CST
DTSTART:20241103T070000
END:STANDARD
BEGIN:DAYLIGHT
TZOFFSETFROM:-0600
TZOFFSETTO:-0500
TZNAME:CDT
DTSTART:20250309T080000
END:DAYLIGHT
BEGIN:STANDARD
TZOFFSETFROM:-0500
TZOFFSETTO:-0600
TZNAME:CST
DTSTART:20251102T070000
END:STANDARD
END:VTIMEZONE
BEGIN:VEVENT
DTSTART;TZID=America/Chicago:20240917T100000
DTEND;TZID=America/Chicago:20240917T160000
DTSTAMP:20260421T053515
CREATED:20240909T212907Z
LAST-MODIFIED:20240909T212907Z
UID:56710-1726567200-1726588800@kerrcountylead.com
SUMMARY:KACC Art Exhibits
DESCRIPTION:Our Hectic Lives by Patty Thomas\, Kerrville Art Club Show and Sale\, and Magnificent Seven Rides Again.
URL:https://kerrcountylead.com/event/kacc-art-exhibits-294/
LOCATION:Kerr Arts & Cultural Center\, 228 Earl Garrett St.\, Kerrville\, Texas\, 78028
CATEGORIES:The arts
END:VEVENT
BEGIN:VEVENT
DTSTART;TZID=America/Chicago:20240917T100000
DTEND;TZID=America/Chicago:20240917T110000
DTSTAMP:20260421T053515
CREATED:20240916T151022Z
LAST-MODIFIED:20240916T151022Z
UID:56986-1726567200-1726570800@kerrcountylead.com
SUMMARY:Lap-Sit Story Time
DESCRIPTION:A story time program for ages 3 and under with songs\, rhymes\, and playtime.
URL:https://kerrcountylead.com/event/lap-sit-story-time-41/
LOCATION:Butt-Holdsworth Memorial Library\, 505 Water St.\, Kerrville\, Texas\, 78028
CATEGORIES:Library event
END:VEVENT
BEGIN:VEVENT
DTSTART;TZID=America/Chicago:20240917T083000
DTEND;TZID=America/Chicago:20240917T100000
DTSTAMP:20260421T053515
CREATED:20240916T150917Z
LAST-MODIFIED:20240916T150917Z
UID:56984-1726561800-1726567200@kerrcountylead.com
SUMMARY:Constitution Day
DESCRIPTION:In the CCAC Ballroom. Commemorating the signing of the Constitution in 1787 by 39 delegates. Dr. Scott Robinson will speak on “Keeping Our Republic – The Role of the Constitution Today.” This event is free and open to the public. There will be a buffet breakfast at 8:30am. Reservations are required for breakfast: email mdiffen@schreiner.edu.
URL:https://kerrcountylead.com/event/constitution-day/
LOCATION:Schreiner University\, 2100 Memorial Blvd\, Kerrville\, Texas\, 78028
CATEGORIES:History
END:VEVENT
BEGIN:VEVENT
DTSTART;TZID=America/Chicago:20240916T163000
DTEND;TZID=America/Chicago:20240916T163000
DTSTAMP:20260421T053515
CREATED:20240914T182809Z
LAST-MODIFIED:20240914T182809Z
UID:56920-1726504200-1726504200@kerrcountylead.com
SUMMARY:Kerr County Water Alliance Meeting
DESCRIPTION:The meeting will begin with a presentation by Dr. Robert Mace on groundwater issues. 
URL:https://kerrcountylead.com/event/kerr-county-water-alliance-meeting/
LOCATION:Riverside Nature Center\, 150 Francisco Lemos St\, Kerrville\, Texas\, 78028
END:VEVENT
BEGIN:VEVENT
DTSTART;TZID=America/Chicago:20240916T153000
DTEND;TZID=America/Chicago:20240916T173000
DTSTAMP:20260421T053515
CREATED:20240914T182945Z
LAST-MODIFIED:20240914T182945Z
UID:56922-1726500600-1726507800@kerrcountylead.com
SUMMARY:Teen Lounge
DESCRIPTION:
URL:https://kerrcountylead.com/event/teen-lounge-20/
LOCATION:Doyle Community Center\, 110 W. Barnett St.\, Kerrville\, Texas\, 78028
END:VEVENT
BEGIN:VEVENT
DTSTART;TZID=America/Chicago:20240916T120000
DTEND;TZID=America/Chicago:20240916T120000
DTSTAMP:20260421T053515
CREATED:20240914T182157Z
LAST-MODIFIED:20240914T182157Z
UID:56918-1726488000-1726488000@kerrcountylead.com
SUMMARY:Kerr County Historical Commission Meeting
DESCRIPTION:This month’s meeting will host speaker Mike McBride from the Hill Country Archeological Association\, who will be presenting on History and Current Projects. The meeting is open to the public and visitors are welcome.
URL:https://kerrcountylead.com/event/kerr-county-historical-commission-meeting-3/
LOCATION:Union Church\, 101 Travis St\, Kerrville\, TX\, 78028
END:VEVENT
BEGIN:VEVENT
DTSTART;TZID=America/Chicago:20240916T100000
DTEND;TZID=America/Chicago:20240916T180000
DTSTAMP:20260421T053515
CREATED:20240909T222459Z
LAST-MODIFIED:20240909T222459Z
UID:56818-1726480800-1726509600@kerrcountylead.com
SUMMARY:Our Place in Space
DESCRIPTION:Come see the constellations in our planetarium\, learn about conserving our night skies and about our place in space!
URL:https://kerrcountylead.com/event/our-place-in-space-124/
LOCATION:Riverside Nature Center\, 150 Francisco Lemos St\, Kerrville\, Texas\, 78028
CATEGORIES:Science and nature
END:VEVENT
BEGIN:VEVENT
DTSTART;TZID=America/Chicago:20240916T100000
DTEND;TZID=America/Chicago:20240916T160000
DTSTAMP:20260421T053515
CREATED:20240909T220440Z
LAST-MODIFIED:20240909T220440Z
UID:56784-1726480800-1726502400@kerrcountylead.com
SUMMARY:Fertile Ground: Landscapes of the Mind
DESCRIPTION:
URL:https://kerrcountylead.com/event/fertile-ground-landscapes-of-the-mind-21/
LOCATION:Hill Country Arts Foundation\, 120 Point Theatre Rd S\, Ingram\, Texas\, 78025
CATEGORIES:The arts
END:VEVENT
BEGIN:VEVENT
DTSTART;TZID=America/Chicago:20240915T140000
DTEND;TZID=America/Chicago:20240915T140000
DTSTAMP:20260421T053515
CREATED:20240909T195625Z
LAST-MODIFIED:20240909T195625Z
UID:56692-1726408800-1726408800@kerrcountylead.com
SUMMARY:Susan Herndon
DESCRIPTION:
URL:https://kerrcountylead.com/event/susan-herndon-30/
LOCATION:Trailhead Beer Garden\, 2100 Memorial Blvd Bldg #11\, Kerrville\, TX\, 78028\, United States
CATEGORIES:Live music
END:VEVENT
BEGIN:VEVENT
DTSTART;TZID=America/Chicago:20240915T133000
DTEND;TZID=America/Chicago:20240915T133000
DTSTAMP:20260421T053515
CREATED:20240909T195421Z
LAST-MODIFIED:20240909T195848Z
UID:56686-1726407000-1726407000@kerrcountylead.com
SUMMARY:Bingo
DESCRIPTION:Sales start 12:30 p.m. Smoking and non-smoking rooms. The Dauber Cafe is open during games\, no outside food or drinks.
URL:https://kerrcountylead.com/event/bingo-247/
LOCATION:American Legion Post 208\, 3600 Riverside Dr\, Kerrville\, TX\, 78028
CATEGORIES:Games
END:VEVENT
BEGIN:VEVENT
DTSTART;TZID=America/Chicago:20240915T130000
DTEND;TZID=America/Chicago:20240915T160000
DTSTAMP:20260421T053515
CREATED:20240909T195543Z
LAST-MODIFIED:20240909T195543Z
UID:56690-1726405200-1726416000@kerrcountylead.com
SUMMARY:Jeff Wood
DESCRIPTION:
URL:https://kerrcountylead.com/event/jeff-wood/
LOCATION:Singing Water Vineyards\, 316 Mill Dam Rd\, Comfort\, TX\, 78013
CATEGORIES:Live music
END:VEVENT
BEGIN:VEVENT
DTSTART;TZID=America/Chicago:20240915T130000
DTEND;TZID=America/Chicago:20240915T130000
DTSTAMP:20260421T053515
CREATED:20240909T195501Z
LAST-MODIFIED:20240909T195950Z
UID:56688-1726405200-1726405200@kerrcountylead.com
SUMMARY:Bob Stewart
DESCRIPTION:
URL:https://kerrcountylead.com/event/bob-stewart-32/
LOCATION:Gravity Check Saloon\, 3979 Bandera Hwy 173\, Kerrville\, TX\, 78028\, United States
CATEGORIES:Live music
END:VEVENT
BEGIN:VEVENT
DTSTART;TZID=America/Chicago:20240915T120000
DTEND;TZID=America/Chicago:20240915T190000
DTSTAMP:20260421T053515
CREATED:20240913T171128Z
LAST-MODIFIED:20240913T171128Z
UID:56913-1726401600-1726426800@kerrcountylead.com
SUMMARY:Munchy Machine
DESCRIPTION:
URL:https://kerrcountylead.com/event/munchy-machine-79/
LOCATION:Basement Brewers of Texas\, 521 Clay St\, Kerrville\, TX\, 78028
CATEGORIES:Food truck 411
END:VEVENT
BEGIN:VEVENT
DTSTART;TZID=America/Chicago:20240915T120000
DTEND;TZID=America/Chicago:20240915T180000
DTSTAMP:20260421T053515
CREATED:20240909T195207Z
LAST-MODIFIED:20240909T195818Z
UID:56684-1726401600-1726423200@kerrcountylead.com
SUMMARY:Shim’s Be Blessed
DESCRIPTION:
URL:https://kerrcountylead.com/event/shims-be-blessed-100/
LOCATION:Trailhead Beer Garden\, 2100 Memorial Blvd Bldg #11\, Kerrville\, TX\, 78028\, United States
CATEGORIES:Food truck 411
END:VEVENT
BEGIN:VEVENT
DTSTART;TZID=America/Chicago:20240915T110000
DTEND;TZID=America/Chicago:20240915T200000
DTSTAMP:20260421T053515
CREATED:20240909T195126Z
LAST-MODIFIED:20240909T195732Z
UID:56682-1726398000-1726430400@kerrcountylead.com
SUMMARY:Que-Zeen BBQ
DESCRIPTION:
URL:https://kerrcountylead.com/event/que-zeen-bbq-155/
LOCATION:The Ingram Dam\, 610 TX 39\, Ingram\, TX\, 78025
CATEGORIES:Food truck 411
END:VEVENT
BEGIN:VEVENT
DTSTART;TZID=America/Chicago:20240915T100000
DTEND;TZID=America/Chicago:20240915T160000
DTSTAMP:20260421T053515
CREATED:20240909T195026Z
LAST-MODIFIED:20240909T200031Z
UID:56680-1726394400-1726416000@kerrcountylead.com
SUMMARY:Texas Gun & Knife Show
DESCRIPTION:
URL:https://kerrcountylead.com/event/texas-gun-knife-show-15/
LOCATION:Hill Country Youth Event Center\, 3785 TX 27\, Kerrville\, Texas\, 78028
CATEGORIES:Markets
END:VEVENT
BEGIN:VEVENT
DTSTART;TZID=America/Chicago:20240914T200000
DTEND;TZID=America/Chicago:20240914T230000
DTSTAMP:20260421T053515
CREATED:20240913T170445Z
LAST-MODIFIED:20240913T170445Z
UID:56905-1726344000-1726354800@kerrcountylead.com
SUMMARY:Luis Hayze
DESCRIPTION:
URL:https://kerrcountylead.com/event/luis-hayze/
LOCATION:Howdy’s Bar & Chill\, 101 Rowland Dr\, Kerrville\, TX\, 78028
CATEGORIES:Live music
END:VEVENT
BEGIN:VEVENT
DTSTART;TZID=America/Chicago:20240914T180000
DTEND;TZID=America/Chicago:20240914T200000
DTSTAMP:20260421T053515
CREATED:20240913T170829Z
LAST-MODIFIED:20240913T170829Z
UID:56909-1726336800-1726344000@kerrcountylead.com
SUMMARY:Nick Zamora
DESCRIPTION:
URL:https://kerrcountylead.com/event/nick-zamora-2/
LOCATION:Tailchasers Patio + Pub\, 516 Jefferson St\, Kerrville\, TX\, 78028
CATEGORIES:Live music
END:VEVENT
BEGIN:VEVENT
DTSTART;TZID=America/Chicago:20240914T180000
DTEND;TZID=America/Chicago:20240914T200000
DTSTAMP:20260421T053515
CREATED:20240913T170412Z
LAST-MODIFIED:20240913T170412Z
UID:56903-1726336800-1726344000@kerrcountylead.com
SUMMARY:Bob Stewart
DESCRIPTION:
URL:https://kerrcountylead.com/event/bob-stewart-33/
LOCATION:Howdy’s Bar & Chill\, 101 Rowland Dr\, Kerrville\, TX\, 78028
CATEGORIES:Live music
END:VEVENT
BEGIN:VEVENT
DTSTART;TZID=America/Chicago:20240914T160000
DTEND;TZID=America/Chicago:20240914T200000
DTSTAMP:20260421T053515
CREATED:20240909T194418Z
LAST-MODIFIED:20240909T194418Z
UID:56664-1726329600-1726344000@kerrcountylead.com
SUMMARY:Diez y Seis de Septiembre
DESCRIPTION:Mariachis\, food & drinks\, and a loteria cake walk!
URL:https://kerrcountylead.com/event/diez-y-seis-de-septiembre/
LOCATION:Doyle Community Center\, 110 W. Barnett St.\, Kerrville\, Texas\, 78028
CATEGORIES:Celebration
END:VEVENT
BEGIN:VEVENT
DTSTART;TZID=America/Chicago:20240914T150000
DTEND;TZID=America/Chicago:20240914T210000
DTSTAMP:20260421T053515
CREATED:20240909T194321Z
LAST-MODIFIED:20240909T194321Z
UID:56662-1726326000-1726347600@kerrcountylead.com
SUMMARY:Summer Saturdays
DESCRIPTION:Farm tours\, exploring\, and the farm restaurant will be serving pizza\, tacos\, and other fresh fare! Be sure to stop by the farm store inside the restaurant for some produce and goods to take home. 
URL:https://kerrcountylead.com/event/summer-saturdays-8/
LOCATION:Sovereignty Ranch\, 165 Wyatt Ranch Road E\, Bandera\, TX\, 78003
END:VEVENT
BEGIN:VEVENT
DTSTART;TZID=America/Chicago:20240914T140000
DTEND;TZID=America/Chicago:20240914T160000
DTSTAMP:20260421T053515
CREATED:20240909T194234Z
LAST-MODIFIED:20240909T194234Z
UID:56660-1726322400-1726329600@kerrcountylead.com
SUMMARY:Artist Reception
DESCRIPTION:
URL:https://kerrcountylead.com/event/artist-reception-18/
LOCATION:Kerr Arts & Cultural Center\, 228 Earl Garrett St.\, Kerrville\, Texas\, 78028
CATEGORIES:The arts
END:VEVENT
BEGIN:VEVENT
DTSTART;TZID=America/Chicago:20240914T140000
DTEND;TZID=America/Chicago:20240914T140000
DTSTAMP:20260421T053515
CREATED:20240909T194147Z
LAST-MODIFIED:20240909T194147Z
UID:56658-1726322400-1726322400@kerrcountylead.com
SUMMARY:MOWA Crafters
DESCRIPTION:
URL:https://kerrcountylead.com/event/mowa-crafters-11/
LOCATION:Museum of Western Art\, 1550 Bandera Hwy.\, Kerrville\, Texas\, 78028
CATEGORIES:Crafts,The arts
END:VEVENT
BEGIN:VEVENT
DTSTART;TZID=America/Chicago:20240914T140000
DTEND;TZID=America/Chicago:20240914T140000
DTSTAMP:20260421T053515
CREATED:20240909T193640Z
LAST-MODIFIED:20240909T193640Z
UID:56648-1726322400-1726322400@kerrcountylead.com
SUMMARY:Divinity Family Services Tailgate Fundraiser
DESCRIPTION:Texas A&M vs Florida Gators game watch party\, sandbag tournament\, raffles. Proceeds go toward holiday gifts for children.
URL:https://kerrcountylead.com/event/divinity-family-services-tailgate-fundraiser/
LOCATION:Basement Brewers of Texas\, 521 Clay St\, Kerrville\, TX\, 78028
CATEGORIES:Fundraiser,Games
END:VEVENT
BEGIN:VEVENT
DTSTART;TZID=America/Chicago:20240914T130000
DTEND;TZID=America/Chicago:20240914T160000
DTSTAMP:20260421T053515
CREATED:20240909T194501Z
LAST-MODIFIED:20240909T194501Z
UID:56666-1726318800-1726329600@kerrcountylead.com
SUMMARY:Andy Garcia
DESCRIPTION:
URL:https://kerrcountylead.com/event/andy-garcia-11/
LOCATION:Singing Water Vineyards\, 316 Mill Dam Rd\, Comfort\, TX\, 78013
CATEGORIES:Live music
END:VEVENT
BEGIN:VEVENT
DTSTART;TZID=America/Chicago:20240914T120000
DTEND;TZID=America/Chicago:20240914T210000
DTSTAMP:20260421T053515
CREATED:20240913T170213Z
LAST-MODIFIED:20240913T170213Z
UID:56901-1726315200-1726347600@kerrcountylead.com
SUMMARY:Munchy Machine
DESCRIPTION:
URL:https://kerrcountylead.com/event/munchy-machine-78/
LOCATION:Basement Brewers of Texas\, 521 Clay St\, Kerrville\, TX\, 78028
CATEGORIES:Food truck 411
END:VEVENT
BEGIN:VEVENT
DTSTART;TZID=America/Chicago:20240914T120000
DTEND;TZID=America/Chicago:20240914T210000
DTSTAMP:20260421T053515
CREATED:20240909T194052Z
LAST-MODIFIED:20240909T194052Z
UID:56656-1726315200-1726347600@kerrcountylead.com
SUMMARY:Shim’s Be Blessed
DESCRIPTION:
URL:https://kerrcountylead.com/event/shims-be-blessed-99/
LOCATION:Trailhead Beer Garden\, 2100 Memorial Blvd Bldg #11\, Kerrville\, TX\, 78028\, United States
CATEGORIES:Food truck 411
END:VEVENT
BEGIN:VEVENT
DTSTART;TZID=America/Chicago:20240914T120000
DTEND;TZID=America/Chicago:20240914T200000
DTSTAMP:20260421T053515
CREATED:20240913T170625Z
LAST-MODIFIED:20240913T170708Z
UID:56907-1726315200-1726344000@kerrcountylead.com
SUMMARY:Sassy Fries
DESCRIPTION:
URL:https://kerrcountylead.com/event/sassy-fries-2/
LOCATION:Tailchasers Patio + Pub\, 516 Jefferson St\, Kerrville\, TX\, 78028
CATEGORIES:Food truck 411
END:VEVENT
BEGIN:VEVENT
DTSTART;TZID=America/Chicago:20240914T110000
DTEND;TZID=America/Chicago:20240914T200000
DTSTAMP:20260421T053515
CREATED:20240909T193948Z
LAST-MODIFIED:20240909T193948Z
UID:56654-1726311600-1726344000@kerrcountylead.com
SUMMARY:Que-Zeen BBQ
DESCRIPTION:
URL:https://kerrcountylead.com/event/que-zeen-bbq-154/
LOCATION:The Ingram Dam\, 610 TX 39\, Ingram\, TX\, 78025
CATEGORIES:Food truck 411
END:VEVENT
BEGIN:VEVENT
DTSTART;TZID=America/Chicago:20240914T103000
DTEND;TZID=America/Chicago:20240914T113000
DTSTAMP:20260421T053515
CREATED:20240909T193857Z
LAST-MODIFIED:20240909T193857Z
UID:56652-1726309800-1726313400@kerrcountylead.com
SUMMARY:Gardening 101: Herbs
DESCRIPTION:
URL:https://kerrcountylead.com/event/gardening-101-herbs/
LOCATION:Butt-Holdsworth Memorial Library\, 505 Water St.\, Kerrville\, Texas\, 78028
CATEGORIES:Library event,Science and nature
END:VEVENT
END:VCALENDAR