BEGIN:VCALENDAR
VERSION:2.0
PRODID:-//The Kerr County Lead - ECPv6.15.17.1//NONSGML v1.0//EN
CALSCALE:GREGORIAN
METHOD:PUBLISH
X-WR-CALNAME:The Kerr County Lead
X-ORIGINAL-URL:https://kerrcountylead.com
X-WR-CALDESC:Events for The Kerr County Lead
REFRESH-INTERVAL;VALUE=DURATION:PT1H
X-Robots-Tag:noindex
X-PUBLISHED-TTL:PT1H
BEGIN:VTIMEZONE
TZID:America/Chicago
BEGIN:DAYLIGHT
TZOFFSETFROM:-0600
TZOFFSETTO:-0500
TZNAME:CDT
DTSTART:20230312T080000
END:DAYLIGHT
BEGIN:STANDARD
TZOFFSETFROM:-0500
TZOFFSETTO:-0600
TZNAME:CST
DTSTART:20231105T070000
END:STANDARD
BEGIN:DAYLIGHT
TZOFFSETFROM:-0600
TZOFFSETTO:-0500
TZNAME:CDT
DTSTART:20240310T080000
END:DAYLIGHT
BEGIN:STANDARD
TZOFFSETFROM:-0500
TZOFFSETTO:-0600
TZNAME:CST
DTSTART:20241103T070000
END:STANDARD
BEGIN:DAYLIGHT
TZOFFSETFROM:-0600
TZOFFSETTO:-0500
TZNAME:CDT
DTSTART:20250309T080000
END:DAYLIGHT
BEGIN:STANDARD
TZOFFSETFROM:-0500
TZOFFSETTO:-0600
TZNAME:CST
DTSTART:20251102T070000
END:STANDARD
END:VTIMEZONE
BEGIN:VEVENT
DTSTART;TZID=America/Chicago:20241101T100000
DTEND;TZID=America/Chicago:20241101T180000
DTSTAMP:20260421T091234
CREATED:20241109T180301Z
LAST-MODIFIED:20241109T180301Z
UID:60385-1730455200-1730484000@kerrcountylead.com
SUMMARY:Our Place in Space
DESCRIPTION:Come see the constellations in our planetarium\, learn about conserving our night skies and about our place in space!
URL:https://kerrcountylead.com/event/our-place-in-space-165/
LOCATION:Riverside Nature Center\, 150 Francisco Lemos St\, Kerrville\, Texas\, 78028
CATEGORIES:Science and nature
END:VEVENT
BEGIN:VEVENT
DTSTART;TZID=America/Chicago:20241101T100000
DTEND;TZID=America/Chicago:20241101T160000
DTSTAMP:20260421T091234
CREATED:20241109T184408Z
LAST-MODIFIED:20241109T184408Z
UID:60503-1730455200-1730476800@kerrcountylead.com
SUMMARY:Kevin Macpherson: Reflections on a Pond
DESCRIPTION:
URL:https://kerrcountylead.com/event/kevin-macpherson-reflections-on-a-pond-3/
LOCATION:Museum of Western Art\, 1550 Bandera Hwy.\, Kerrville\, Texas\, 78028
CATEGORIES:The arts
END:VEVENT
BEGIN:VEVENT
DTSTART;TZID=America/Chicago:20241101T100000
DTEND;TZID=America/Chicago:20241101T160000
DTSTAMP:20260421T091234
CREATED:20241109T175705Z
LAST-MODIFIED:20241109T175705Z
UID:60371-1730455200-1730476800@kerrcountylead.com
SUMMARY:Al Glann: Poetry in Motion
DESCRIPTION:
URL:https://kerrcountylead.com/event/al-glann-poetry-in-motion-26/
LOCATION:Museum of Western Art\, 1550 Bandera Hwy.\, Kerrville\, Texas\, 78028
CATEGORIES:The arts
END:VEVENT
BEGIN:VEVENT
DTSTART;TZID=America/Chicago:20241101T100000
DTEND;TZID=America/Chicago:20241101T160000
DTSTAMP:20260421T091234
CREATED:20241029T213323Z
LAST-MODIFIED:20241029T213323Z
UID:59799-1730455200-1730476800@kerrcountylead.com
SUMMARY:Texas Furniture Makers Show
DESCRIPTION:Through December 13.
URL:https://kerrcountylead.com/event/texas-furniture-makers-show-38/
LOCATION:Kerr Arts & Cultural Center\, 228 Earl Garrett St.\, Kerrville\, Texas\, 78028
CATEGORIES:The arts
END:VEVENT
BEGIN:VEVENT
DTSTART;TZID=America/Chicago:20241101T100000
DTEND;TZID=America/Chicago:20241101T120000
DTSTAMP:20260421T091234
CREATED:20241029T192901Z
LAST-MODIFIED:20241029T192901Z
UID:59709-1730455200-1730462400@kerrcountylead.com
SUMMARY:One-on-One with a Naturalist
DESCRIPTION:A Certified Texas Master Naturalist will be available to answer questions\, discuss various topics\, or listen to ideas about how to advance the stewardship and conservation of our environment.
URL:https://kerrcountylead.com/event/one-on-one-with-a-naturalist-40/
LOCATION:Riverside Nature Center\, 150 Francisco Lemos St\, Kerrville\, Texas\, 78028
CATEGORIES:Science and nature
END:VEVENT
BEGIN:VEVENT
DTSTART;TZID=America/Chicago:20241101T100000
DTEND;TZID=America/Chicago:20241101T110000
DTSTAMP:20260421T091234
CREATED:20241029T192946Z
LAST-MODIFIED:20241029T192946Z
UID:59711-1730455200-1730458800@kerrcountylead.com
SUMMARY:Grief Support Group
DESCRIPTION:
URL:https://kerrcountylead.com/event/grief-support-group-35/
LOCATION:First Presbyterian Church\, 800 Jefferson St\, Kerrville\, Texas\, 78028
CATEGORIES:Outreach groups
END:VEVENT
BEGIN:VEVENT
DTSTART;TZID=America/Chicago:20241031T173000
DTEND;TZID=America/Chicago:20241031T200000
DTSTAMP:20260421T091234
CREATED:20241027T214721Z
LAST-MODIFIED:20241027T214721Z
UID:59659-1730395800-1730404800@kerrcountylead.com
SUMMARY:Beetlejuice Beetle Bash
DESCRIPTION:Free open house for families and kids of all ages.
URL:https://kerrcountylead.com/event/beetlejuice-beetle-bash/
LOCATION:Tango Homes\, 1701 Water St\, Kerrville\, TX\, 78028
CATEGORIES:Celebration
END:VEVENT
BEGIN:VEVENT
DTSTART;TZID=America/Chicago:20241031T170000
DTEND;TZID=America/Chicago:20241031T200000
DTSTAMP:20260421T091234
CREATED:20241027T214617Z
LAST-MODIFIED:20241027T214617Z
UID:59657-1730394000-1730404800@kerrcountylead.com
SUMMARY:Fall Festival
DESCRIPTION:
URL:https://kerrcountylead.com/event/fall-festival-3/
LOCATION:Schreiner University\, 2100 Memorial Blvd\, Kerrville\, Texas\, 78028
CATEGORIES:Celebration
END:VEVENT
BEGIN:VEVENT
DTSTART;TZID=America/Chicago:20241031T103000
DTEND;TZID=America/Chicago:20241031T113000
DTSTAMP:20260421T091234
CREATED:20241027T214505Z
LAST-MODIFIED:20241027T214505Z
UID:59655-1730370600-1730374200@kerrcountylead.com
SUMMARY:Sprouts
DESCRIPTION:Explore the wonders of nature through story time with your preschooler.
URL:https://kerrcountylead.com/event/sprouts-81/
LOCATION:Riverside Nature Center\, 150 Francisco Lemos St\, Kerrville\, Texas\, 78028
CATEGORIES:Science and nature
END:VEVENT
BEGIN:VEVENT
DTSTART;TZID=America/Chicago:20241031T100000
DTEND;TZID=America/Chicago:20241031T180000
DTSTAMP:20260421T091234
CREATED:20241003T210926Z
LAST-MODIFIED:20241003T210926Z
UID:58062-1730368800-1730397600@kerrcountylead.com
SUMMARY:Our Place in Space
DESCRIPTION:Come see the constellations in our planetarium\, learn about conserving our night skies and about our place in space!
URL:https://kerrcountylead.com/event/our-place-in-space-163/
LOCATION:Riverside Nature Center\, 150 Francisco Lemos St\, Kerrville\, Texas\, 78028
CATEGORIES:Science and nature
END:VEVENT
BEGIN:VEVENT
DTSTART;TZID=America/Chicago:20241031T100000
DTEND;TZID=America/Chicago:20241031T160000
DTSTAMP:20260421T091234
CREATED:20241101T215905Z
LAST-MODIFIED:20241101T215905Z
UID:60056-1730368800-1730390400@kerrcountylead.com
SUMMARY:Kevin Macpherson: Reflections on a Pond
DESCRIPTION:Through November 30.
URL:https://kerrcountylead.com/event/kevin-macpherson-reflections-on-a-pond-2/
LOCATION:Museum of Western Art\, 1550 Bandera Hwy.\, Kerrville\, Texas\, 78028
CATEGORIES:The arts
END:VEVENT
BEGIN:VEVENT
DTSTART;TZID=America/Chicago:20241031T100000
DTEND;TZID=America/Chicago:20241031T160000
DTSTAMP:20260421T091234
CREATED:20241029T213243Z
LAST-MODIFIED:20241029T213243Z
UID:59797-1730368800-1730390400@kerrcountylead.com
SUMMARY:Texas Furniture Makers Show
DESCRIPTION:Through December 13.
URL:https://kerrcountylead.com/event/texas-furniture-makers-show-37/
LOCATION:Kerr Arts & Cultural Center\, 228 Earl Garrett St.\, Kerrville\, Texas\, 78028
CATEGORIES:The arts
END:VEVENT
BEGIN:VEVENT
DTSTART;TZID=America/Chicago:20241031T100000
DTEND;TZID=America/Chicago:20241031T160000
DTSTAMP:20260421T091234
CREATED:20241003T220826Z
LAST-MODIFIED:20241003T220826Z
UID:58182-1730368800-1730390400@kerrcountylead.com
SUMMARY:Al Glann: Poetry in Motion
DESCRIPTION:
URL:https://kerrcountylead.com/event/al-glann-poetry-in-motion-24/
LOCATION:Museum of Western Art\, 1550 Bandera Hwy.\, Kerrville\, Texas\, 78028
CATEGORIES:The arts
END:VEVENT
BEGIN:VEVENT
DTSTART;TZID=America/Chicago:20241031T100000
DTEND;TZID=America/Chicago:20241031T160000
DTSTAMP:20260421T091234
CREATED:20241003T214439Z
LAST-MODIFIED:20241003T214439Z
UID:58134-1730368800-1730390400@kerrcountylead.com
SUMMARY:Kerrville 101
DESCRIPTION:A standing exhibit that provides an introduction to local history and stories.
URL:https://kerrcountylead.com/event/kerrville-101-16/
LOCATION:Kerr Regional History Center\, 425 Water St.\, Kerrville\, TX\, 78028\, United States
CATEGORIES:History
END:VEVENT
BEGIN:VEVENT
DTSTART;TZID=America/Chicago:20241031T100000
DTEND;TZID=America/Chicago:20241031T100000
DTSTAMP:20260421T091234
CREATED:20241027T214426Z
LAST-MODIFIED:20241027T214426Z
UID:59653-1730368800-1730368800@kerrcountylead.com
SUMMARY:Thursday Gardener Series: Right Plants in the Right Place
DESCRIPTION:
URL:https://kerrcountylead.com/event/thursday-gardener-series-right-plants-in-the-right-place/
LOCATION:The Ridge Marketplace\, 13439 S Ranch Road 783\, Kerrville\, TX\, 78028
CATEGORIES:Science and nature
END:VEVENT
BEGIN:VEVENT
DTSTART;TZID=America/Chicago:20241030T173000
DTEND;TZID=America/Chicago:20241030T193000
DTSTAMP:20260421T091234
CREATED:20241027T214250Z
LAST-MODIFIED:20241027T214250Z
UID:59649-1730309400-1730316600@kerrcountylead.com
SUMMARY:Opening Reception: Kevin Macpherson\, Reflections on a Pond
DESCRIPTION:
URL:https://kerrcountylead.com/event/opening-reception-kevin-macpherson-reflections-on-a-pond/
LOCATION:Museum of Western Art\, 1550 Bandera Hwy.\, Kerrville\, Texas\, 78028
CATEGORIES:The arts
END:VEVENT
BEGIN:VEVENT
DTSTART;TZID=America/Chicago:20241030T170000
DTEND;TZID=America/Chicago:20241030T170000
DTSTAMP:20260421T091234
CREATED:20241027T214100Z
LAST-MODIFIED:20241027T214100Z
UID:59645-1730307600-1730307600@kerrcountylead.com
SUMMARY:Colin Boutwell
DESCRIPTION:
URL:https://kerrcountylead.com/event/colin-boutwell-2/
LOCATION:Trailhead Beer Garden\, 2100 Memorial Blvd Bldg #11\, Kerrville\, TX\, 78028\, United States
CATEGORIES:Live music
END:VEVENT
BEGIN:VEVENT
DTSTART;TZID=America/Chicago:20241030T130000
DTEND;TZID=America/Chicago:20241030T150000
DTSTAMP:20260421T091234
CREATED:20241027T214026Z
LAST-MODIFIED:20241027T214026Z
UID:59643-1730293200-1730300400@kerrcountylead.com
SUMMARY:Friends of the Library Book Sale
DESCRIPTION:
URL:https://kerrcountylead.com/event/friends-of-the-library-book-sale-103/
LOCATION:Butt-Holdsworth Memorial Library\, 505 Water St.\, Kerrville\, Texas\, 78028
CATEGORIES:Library event
END:VEVENT
BEGIN:VEVENT
DTSTART;TZID=America/Chicago:20241030T100000
DTEND;TZID=America/Chicago:20241030T180000
DTSTAMP:20260421T091234
CREATED:20241003T210854Z
LAST-MODIFIED:20241003T210854Z
UID:58060-1730282400-1730311200@kerrcountylead.com
SUMMARY:Our Place in Space
DESCRIPTION:Come see the constellations in our planetarium\, learn about conserving our night skies and about our place in space!
URL:https://kerrcountylead.com/event/our-place-in-space-162/
LOCATION:Riverside Nature Center\, 150 Francisco Lemos St\, Kerrville\, Texas\, 78028
CATEGORIES:Science and nature
END:VEVENT
BEGIN:VEVENT
DTSTART;TZID=America/Chicago:20241030T100000
DTEND;TZID=America/Chicago:20241030T160000
DTSTAMP:20260421T091234
CREATED:20241101T215819Z
LAST-MODIFIED:20241101T215819Z
UID:60054-1730282400-1730304000@kerrcountylead.com
SUMMARY:Kevin Macpherson: Reflections on a Pond
DESCRIPTION:Through November 30
URL:https://kerrcountylead.com/event/kevin-macpherson-reflections-on-a-pond/
LOCATION:Museum of Western Art\, 1550 Bandera Hwy.\, Kerrville\, Texas\, 78028
CATEGORIES:The arts
END:VEVENT
BEGIN:VEVENT
DTSTART;TZID=America/Chicago:20241030T100000
DTEND;TZID=America/Chicago:20241030T160000
DTSTAMP:20260421T091234
CREATED:20241029T213200Z
LAST-MODIFIED:20241029T213200Z
UID:59795-1730282400-1730304000@kerrcountylead.com
SUMMARY:Texas Furniture Makers Show
DESCRIPTION:Through December 13.
URL:https://kerrcountylead.com/event/texas-furniture-makers-show-36/
LOCATION:Kerr Arts & Cultural Center\, 228 Earl Garrett St.\, Kerrville\, Texas\, 78028
CATEGORIES:The arts
END:VEVENT
BEGIN:VEVENT
DTSTART;TZID=America/Chicago:20241030T100000
DTEND;TZID=America/Chicago:20241030T160000
DTSTAMP:20260421T091234
CREATED:20241003T220754Z
LAST-MODIFIED:20241003T220754Z
UID:58180-1730282400-1730304000@kerrcountylead.com
SUMMARY:Al Glann: Poetry in Motion
DESCRIPTION:
URL:https://kerrcountylead.com/event/al-glann-poetry-in-motion-23/
LOCATION:Museum of Western Art\, 1550 Bandera Hwy.\, Kerrville\, Texas\, 78028
CATEGORIES:The arts
END:VEVENT
BEGIN:VEVENT
DTSTART;TZID=America/Chicago:20241030T100000
DTEND;TZID=America/Chicago:20241030T160000
DTSTAMP:20260421T091234
CREATED:20241003T214408Z
LAST-MODIFIED:20241003T214408Z
UID:58132-1730282400-1730304000@kerrcountylead.com
SUMMARY:Kerrville 101
DESCRIPTION:A standing exhibit that provides an introduction to local history and stories.
URL:https://kerrcountylead.com/event/kerrville-101-15/
LOCATION:Kerr Regional History Center\, 425 Water St.\, Kerrville\, TX\, 78028\, United States
CATEGORIES:History
END:VEVENT
BEGIN:VEVENT
DTSTART;TZID=America/Chicago:20241030T100000
DTEND;TZID=America/Chicago:20241030T110000
DTSTAMP:20260421T091234
CREATED:20241027T213932Z
LAST-MODIFIED:20241027T213932Z
UID:59641-1730282400-1730286000@kerrcountylead.com
SUMMARY:Story Time
DESCRIPTION:
URL:https://kerrcountylead.com/event/story-time-48/
LOCATION:Butt-Holdsworth Memorial Library\, 505 Water St.\, Kerrville\, Texas\, 78028
CATEGORIES:Library event
END:VEVENT
BEGIN:VEVENT
DTSTART;TZID=America/Chicago:20241029T180000
DTEND;TZID=America/Chicago:20241029T200000
DTSTAMP:20260421T091234
CREATED:20241027T213831Z
LAST-MODIFIED:20241027T213831Z
UID:59639-1730224800-1730232000@kerrcountylead.com
SUMMARY:Celebrate the Night
DESCRIPTION:Join the RNC for an evening of nocturnal exploring! Learn about the stars and night creatures\, watch a film about lights and bird migration (6:30pm)\, play games\, and bring a lightbulb to exchange. Bring an outdoor bulb and exchange it for a night-sky friendly bulb for free! See website for more details. 
URL:https://kerrcountylead.com/event/celebrate-the-night/
LOCATION:Riverside Nature Center\, 150 Francisco Lemos St\, Kerrville\, Texas\, 78028
CATEGORIES:Science and nature
END:VEVENT
BEGIN:VEVENT
DTSTART;TZID=America/Chicago:20241029T173000
DTEND;TZID=America/Chicago:20241029T183000
DTSTAMP:20260421T091234
CREATED:20241027T213124Z
LAST-MODIFIED:20241027T213124Z
UID:59629-1730223000-1730226600@kerrcountylead.com
SUMMARY:Prose & Poetry Group
DESCRIPTION:“Autumn/Seasonal” is the theme this month. 
URL:https://kerrcountylead.com/event/prose-poetry-group-4/
LOCATION:Butt-Holdsworth Memorial Library\, 505 Water St.\, Kerrville\, Texas\, 78028
CATEGORIES:Library event
END:VEVENT
BEGIN:VEVENT
DTSTART;TZID=America/Chicago:20241029T160000
DTEND;TZID=America/Chicago:20241029T190000
DTSTAMP:20260421T091234
CREATED:20241027T213457Z
LAST-MODIFIED:20241027T213457Z
UID:59633-1730217600-1730228400@kerrcountylead.com
SUMMARY:Girls’ Night Out
DESCRIPTION:Ingram businesses are hosting a GNO experience with drinks\, sales\, prizes\, and live music by Josh Murley.
URL:https://kerrcountylead.com/event/girls-night-out-3/
LOCATION:Old Ingram Loop
END:VEVENT
BEGIN:VEVENT
DTSTART;TZID=America/Chicago:20241029T130000
DTEND;TZID=America/Chicago:20241029T150000
DTSTAMP:20260421T091234
CREATED:20241027T213332Z
LAST-MODIFIED:20241027T213332Z
UID:59631-1730206800-1730214000@kerrcountylead.com
SUMMARY:Creating a Legacy Planned Giving Event
DESCRIPTION:Learn about estate planning and including charitable giving. This event is free and open to the public. See website for more details.
URL:https://kerrcountylead.com/event/creating-a-legacy-planned-giving-event/
LOCATION:Dietert Center\, 451 Guadalupe St #203\, Kerrville\, Texas\, 78028
END:VEVENT
BEGIN:VEVENT
DTSTART;TZID=America/Chicago:20241029T100000
DTEND;TZID=America/Chicago:20241029T180000
DTSTAMP:20260421T091234
CREATED:20241003T210821Z
LAST-MODIFIED:20241003T210821Z
UID:58058-1730196000-1730224800@kerrcountylead.com
SUMMARY:Our Place in Space
DESCRIPTION:Come see the constellations in our planetarium\, learn about conserving our night skies and about our place in space!
URL:https://kerrcountylead.com/event/our-place-in-space-161/
LOCATION:Riverside Nature Center\, 150 Francisco Lemos St\, Kerrville\, Texas\, 78028
CATEGORIES:Science and nature
END:VEVENT
BEGIN:VEVENT
DTSTART;TZID=America/Chicago:20241029T100000
DTEND;TZID=America/Chicago:20241029T160000
DTSTAMP:20260421T091234
CREATED:20241029T213116Z
LAST-MODIFIED:20241029T213116Z
UID:59793-1730196000-1730217600@kerrcountylead.com
SUMMARY:Texas Furniture Makers Show
DESCRIPTION:Through December 13. 
URL:https://kerrcountylead.com/event/texas-furniture-makers-show-35/
LOCATION:Kerr Arts & Cultural Center\, 228 Earl Garrett St.\, Kerrville\, Texas\, 78028
CATEGORIES:The arts
END:VEVENT
END:VCALENDAR