BEGIN:VCALENDAR
VERSION:2.0
PRODID:-//The Kerr County Lead - ECPv6.15.17.1//NONSGML v1.0//EN
CALSCALE:GREGORIAN
METHOD:PUBLISH
X-WR-CALNAME:The Kerr County Lead
X-ORIGINAL-URL:https://kerrcountylead.com
X-WR-CALDESC:Events for The Kerr County Lead
REFRESH-INTERVAL;VALUE=DURATION:PT1H
X-Robots-Tag:noindex
X-PUBLISHED-TTL:PT1H
BEGIN:VTIMEZONE
TZID:America/Chicago
BEGIN:DAYLIGHT
TZOFFSETFROM:-0600
TZOFFSETTO:-0500
TZNAME:CDT
DTSTART:20240310T080000
END:DAYLIGHT
BEGIN:STANDARD
TZOFFSETFROM:-0500
TZOFFSETTO:-0600
TZNAME:CST
DTSTART:20241103T070000
END:STANDARD
BEGIN:DAYLIGHT
TZOFFSETFROM:-0600
TZOFFSETTO:-0500
TZNAME:CDT
DTSTART:20250309T080000
END:DAYLIGHT
BEGIN:STANDARD
TZOFFSETFROM:-0500
TZOFFSETTO:-0600
TZNAME:CST
DTSTART:20251102T070000
END:STANDARD
BEGIN:DAYLIGHT
TZOFFSETFROM:-0600
TZOFFSETTO:-0500
TZNAME:CDT
DTSTART:20260308T080000
END:DAYLIGHT
BEGIN:STANDARD
TZOFFSETFROM:-0500
TZOFFSETTO:-0600
TZNAME:CST
DTSTART:20261101T070000
END:STANDARD
END:VTIMEZONE
BEGIN:VEVENT
DTSTART;TZID=America/Chicago:20251202T173000
DTEND;TZID=America/Chicago:20251202T183000
DTSTAMP:20260424T055309
CREATED:20251130T185406Z
LAST-MODIFIED:20251130T185406Z
UID:84706-1764696600-1764700200@kerrcountylead.com
SUMMARY:Grief Support Group
DESCRIPTION:
URL:https://kerrcountylead.com/event/grief-support-group/
LOCATION:Peterson Hospice and Home Care Building\, 250 Cully Dr\, Kerrville\, TX\, 78028
CATEGORIES:Outreach groups
END:VEVENT
BEGIN:VEVENT
DTSTART;TZID=America/Chicago:20251202T163000
DTEND;TZID=America/Chicago:20251202T173000
DTSTAMP:20260424T055309
CREATED:20251130T185312Z
LAST-MODIFIED:20251130T185312Z
UID:84704-1764693000-1764696600@kerrcountylead.com
SUMMARY:Becoming a Mother: Childbirth Class
DESCRIPTION:In Classroom B.
URL:https://kerrcountylead.com/event/becoming-a-mother-childbirth-class-6/
LOCATION:Peterson Health\, 551 Hill Country Dr\, Kerrville\, TX\, 78028
CATEGORIES:Outreach groups
END:VEVENT
BEGIN:VEVENT
DTSTART;TZID=America/Chicago:20251202T110000
DTEND;TZID=America/Chicago:20251202T170000
DTSTAMP:20260424T055309
CREATED:20251130T185732Z
LAST-MODIFIED:20251130T185732Z
UID:84710-1764673200-1764694800@kerrcountylead.com
SUMMARY:Hill Country Chapter of Texas Democratic Women Meeting
DESCRIPTION:Featuring guest speaker Robert Rios. The meeting is open to everyone\, to RSVP email treasurer4hcctdw@gmail.com.
URL:https://kerrcountylead.com/event/hill-country-chapter-of-texas-democratic-women-meeting-3/
LOCATION:Guadalupe Basin Natural Resource Center\, 125 Lehmann Dr Ste 100\, Kerrville\, TX\, 78028
CATEGORIES:Community meeting
END:VEVENT
BEGIN:VEVENT
DTSTART;TZID=America/Chicago:20251202T100000
DTEND;TZID=America/Chicago:20251202T160000
DTSTAMP:20260424T055309
CREATED:20251124T003438Z
LAST-MODIFIED:20251124T003438Z
UID:84465-1764669600-1764691200@kerrcountylead.com
SUMMARY:Silver Saddles & The Silver Screen: The Golden Age of Hollywood
DESCRIPTION:
URL:https://kerrcountylead.com/event/silver-saddles-the-silver-screen-the-golden-age-of-hollywood-11/
LOCATION:Museum of Western Art\, 1550 Bandera Hwy.\, Kerrville\, Texas\, 78028
CATEGORIES:The arts
END:VEVENT
BEGIN:VEVENT
DTSTART;TZID=America/Chicago:20251202T100000
DTEND;TZID=America/Chicago:20251202T160000
DTSTAMP:20260424T055309
CREATED:20251123T234633Z
LAST-MODIFIED:20251123T234633Z
UID:84402-1764669600-1764691200@kerrcountylead.com
SUMMARY:The New American West by Brush and by Bronze
DESCRIPTION:Paintings by Kathleen Frank and work by Mark Yale Harris.
URL:https://kerrcountylead.com/event/the-new-american-west-by-brush-and-by-bronze-11/
LOCATION:Museum of Western Art\, 1550 Bandera Hwy.\, Kerrville\, Texas\, 78028
CATEGORIES:The arts
END:VEVENT
BEGIN:VEVENT
DTSTART;TZID=America/Chicago:20251202T100000
DTEND;TZID=America/Chicago:20251202T160000
DTSTAMP:20260424T055309
CREATED:20251123T232106Z
LAST-MODIFIED:20251123T232106Z
UID:84364-1764669600-1764691200@kerrcountylead.com
SUMMARY:ArtMart Annual Christmas Showcase
DESCRIPTION:
URL:https://kerrcountylead.com/event/artmart-annual-christmas-showcase-12/
LOCATION:Hill Country Arts Foundation\, 120 Point Theatre Rd S\, Ingram\, Texas\, 78025
CATEGORIES:Markets
END:VEVENT
BEGIN:VEVENT
DTSTART;TZID=America/Chicago:20251202T100000
DTEND;TZID=America/Chicago:20251202T160000
DTSTAMP:20260424T055309
CREATED:20251102T144852Z
LAST-MODIFIED:20251102T144852Z
UID:82995-1764669600-1764691200@kerrcountylead.com
SUMMARY:Texas Furniture Makers Show
DESCRIPTION:
URL:https://kerrcountylead.com/event/texas-furniture-makers-show-82/
LOCATION:Kerr Arts & Cultural Center\, 228 Earl Garrett St.\, Kerrville\, Texas\, 78028
CATEGORIES:The arts
END:VEVENT
BEGIN:VEVENT
DTSTART;TZID=America/Chicago:20251202T100000
DTEND;TZID=America/Chicago:20251202T110000
DTSTAMP:20260424T055310
CREATED:20251130T185058Z
LAST-MODIFIED:20251130T185058Z
UID:84702-1764669600-1764673200@kerrcountylead.com
SUMMARY:Lap-Sit Story Time
DESCRIPTION:A story time program for ages 3 and under with songs\, rhymes\, and playtime.
URL:https://kerrcountylead.com/event/lap-sit-story-time-6/
LOCATION:Butt-Holdsworth Memorial Library\, 505 Water St.\, Kerrville\, Texas\, 78028
CATEGORIES:Library event
END:VEVENT
BEGIN:VEVENT
DTSTART;TZID=America/Chicago:20251201T150000
DTEND;TZID=America/Chicago:20251201T150000
DTSTAMP:20260424T055310
CREATED:20251130T184754Z
LAST-MODIFIED:20251130T184754Z
UID:84700-1764601200-1764601200@kerrcountylead.com
SUMMARY:Veterans Yoga
DESCRIPTION:Join Rick Trzcinski of the Veterans Yoga Project every Monday for a session. The class is free for veterans.
URL:https://kerrcountylead.com/event/veterans-yoga-8/
LOCATION:Kerrville Elks Lodge\, 1907 Junction Hwy\, Kerrville\, TX\, 78028
CATEGORIES:Wellness
END:VEVENT
BEGIN:VEVENT
DTSTART;TZID=America/Chicago:20251130T150000
DTEND;TZID=America/Chicago:20251130T180000
DTSTAMP:20260424T055310
CREATED:20251123T215400Z
LAST-MODIFIED:20251123T215400Z
UID:84338-1764514800-1764525600@kerrcountylead.com
SUMMARY:Steve Garry
DESCRIPTION:
URL:https://kerrcountylead.com/event/steve-garry-4/
LOCATION:Turtle Creek Vineyard\, 183 Fall Creek Rd\, Kerrville\, TX\, 78028
CATEGORIES:Live music
END:VEVENT
BEGIN:VEVENT
DTSTART;TZID=America/Chicago:20251130T150000
DTEND;TZID=America/Chicago:20251130T150000
DTSTAMP:20260424T055310
CREATED:20251123T215319Z
LAST-MODIFIED:20251123T215319Z
UID:84336-1764514800-1764514800@kerrcountylead.com
SUMMARY:Abby Hankins
DESCRIPTION:
URL:https://kerrcountylead.com/event/abby-hankins-2/
LOCATION:Tailchasers Patio + Pub\, 516 Jefferson St\, Kerrville\, TX\, 78028
CATEGORIES:Live music
END:VEVENT
BEGIN:VEVENT
DTSTART;TZID=America/Chicago:20251130T130000
DTEND;TZID=America/Chicago:20251130T160000
DTSTAMP:20260424T055310
CREATED:20251102T000751Z
LAST-MODIFIED:20251102T000751Z
UID:82819-1764507600-1764518400@kerrcountylead.com
SUMMARY:Jeff Jacobs
DESCRIPTION:
URL:https://kerrcountylead.com/event/jeff-jacobs-5/
LOCATION:Singing Water Vineyards\, 316 Mill Dam Rd\, Comfort\, TX\, 78013
CATEGORIES:Live music
END:VEVENT
BEGIN:VEVENT
DTSTART;TZID=America/Chicago:20251130T130000
DTEND;TZID=America/Chicago:20251130T130000
DTSTAMP:20260424T055310
CREATED:20251123T215205Z
LAST-MODIFIED:20251123T215223Z
UID:84334-1764507600-1764507600@kerrcountylead.com
SUMMARY:Bob Stewart
DESCRIPTION:
URL:https://kerrcountylead.com/event/bob-stewart-2/
LOCATION:Gravity Check Saloon\, 3979 Bandera Hwy 173\, Kerrville\, TX\, 78028\, United States
CATEGORIES:Live music
END:VEVENT
BEGIN:VEVENT
DTSTART;TZID=America/Chicago:20251129T180000
DTEND;TZID=America/Chicago:20251129T210000
DTSTAMP:20260424T055310
CREATED:20251101T020106Z
LAST-MODIFIED:20251123T214348Z
UID:82525-1764439200-1764450000@kerrcountylead.com
SUMMARY:Susan Herndon
DESCRIPTION:
URL:https://kerrcountylead.com/event/brent-ryan/
LOCATION:Cafe at the Ridge\, 13439 S. Ranch Road 783\, Kerrville\, Texas\, 78028
CATEGORIES:Live music
END:VEVENT
BEGIN:VEVENT
DTSTART;TZID=America/Chicago:20251129T180000
DTEND;TZID=America/Chicago:20251129T200000
DTSTAMP:20260424T055310
CREATED:20251031T233431Z
LAST-MODIFIED:20251031T233431Z
UID:82446-1764439200-1764446400@kerrcountylead.com
SUMMARY:Lederhosen Junkies
DESCRIPTION:
URL:https://kerrcountylead.com/event/lederhosen-junkies/
LOCATION:Trailhead Beer Garden\, 2100 Memorial Blvd Bldg #11\, Kerrville\, TX\, 78028\, United States
CATEGORIES:Live music
END:VEVENT
BEGIN:VEVENT
DTSTART;TZID=America/Chicago:20251129T150000
DTEND;TZID=America/Chicago:20251129T180000
DTSTAMP:20260424T055310
CREATED:20251123T214909Z
LAST-MODIFIED:20251123T214909Z
UID:84325-1764428400-1764439200@kerrcountylead.com
SUMMARY:Jojo Fire
DESCRIPTION:
URL:https://kerrcountylead.com/event/jojo-fire-4/
LOCATION:Turtle Creek Vineyard\, 183 Fall Creek Rd\, Kerrville\, TX\, 78028
CATEGORIES:Live music
END:VEVENT
BEGIN:VEVENT
DTSTART;TZID=America/Chicago:20251129T120000
DTEND;TZID=America/Chicago:20251129T150000
DTSTAMP:20260424T055310
CREATED:20251102T000136Z
LAST-MODIFIED:20251102T000136Z
UID:82815-1764417600-1764428400@kerrcountylead.com
SUMMARY:David Selbo
DESCRIPTION:
URL:https://kerrcountylead.com/event/david-selbo/
LOCATION:Singing Water Vineyards\, 316 Mill Dam Rd\, Comfort\, TX\, 78013
CATEGORIES:Live music
END:VEVENT
BEGIN:VEVENT
DTSTART;TZID=America/Chicago:20251129T100000
DTEND;TZID=America/Chicago:20251129T180000
DTSTAMP:20260424T055310
CREATED:20251123T214827Z
LAST-MODIFIED:20251123T214827Z
UID:84323-1764410400-1764439200@kerrcountylead.com
SUMMARY:Trunk Show: Twice Sheared Sheep
DESCRIPTION:For more info\, click here.
URL:https://kerrcountylead.com/event/trunk-show-twice-sheared-sheep/
LOCATION:The Rogue Skein\, 1013 Main St\, Kerrville\, TX\, 78028
CATEGORIES:Markets
END:VEVENT
BEGIN:VEVENT
DTSTART;TZID=America/Chicago:20251129T100000
DTEND;TZID=America/Chicago:20251129T180000
DTSTAMP:20260424T055310
CREATED:20251102T144822Z
LAST-MODIFIED:20251124T005020Z
UID:82993-1764410400-1764439200@kerrcountylead.com
SUMMARY:Texas Furniture Makers Show
DESCRIPTION:
URL:https://kerrcountylead.com/event/texas-furniture-makers-show-81/
LOCATION:Kerr Arts & Cultural Center\, 228 Earl Garrett St.\, Kerrville\, Texas\, 78028
CATEGORIES:The arts
END:VEVENT
BEGIN:VEVENT
DTSTART;TZID=America/Chicago:20251129T100000
DTEND;TZID=America/Chicago:20251129T160000
DTSTAMP:20260424T055310
CREATED:20251124T002626Z
LAST-MODIFIED:20251124T002626Z
UID:84463-1764410400-1764432000@kerrcountylead.com
SUMMARY:Silver Saddles & The Silver Screen: The Golden Age of Hollywood
DESCRIPTION:
URL:https://kerrcountylead.com/event/silver-saddles-the-silver-screen-the-golden-age-of-hollywood-10/
LOCATION:Museum of Western Art\, 1550 Bandera Hwy.\, Kerrville\, Texas\, 78028
CATEGORIES:The arts
END:VEVENT
BEGIN:VEVENT
DTSTART;TZID=America/Chicago:20251129T100000
DTEND;TZID=America/Chicago:20251129T160000
DTSTAMP:20260424T055310
CREATED:20251123T234442Z
LAST-MODIFIED:20251123T234442Z
UID:84400-1764410400-1764432000@kerrcountylead.com
SUMMARY:The New American West by Brush and by Bronze
DESCRIPTION:Paintings by Kathleen Frank and work by Mark Yale Harris.
URL:https://kerrcountylead.com/event/the-new-american-west-by-brush-and-by-bronze-10/
LOCATION:Museum of Western Art\, 1550 Bandera Hwy.\, Kerrville\, Texas\, 78028
CATEGORIES:The arts
END:VEVENT
BEGIN:VEVENT
DTSTART;TZID=America/Chicago:20251129T100000
DTEND;TZID=America/Chicago:20251129T160000
DTSTAMP:20260424T055310
CREATED:20251102T141943Z
LAST-MODIFIED:20251102T141943Z
UID:82943-1764410400-1764432000@kerrcountylead.com
SUMMARY:Family Free Day
DESCRIPTION:
URL:https://kerrcountylead.com/event/family-free-day-2/
LOCATION:Museum of Western Art\, 1550 Bandera Hwy.\, Kerrville\, Texas\, 78028
CATEGORIES:The arts
END:VEVENT
BEGIN:VEVENT
DTSTART;TZID=America/Chicago:20251129T100000
DTEND;TZID=America/Chicago:20251129T140000
DTSTAMP:20260424T055310
CREATED:20251123T232002Z
LAST-MODIFIED:20251123T232002Z
UID:84362-1764410400-1764424800@kerrcountylead.com
SUMMARY:ArtMart Annual Christmas Showcase
DESCRIPTION:
URL:https://kerrcountylead.com/event/artmart-annual-christmas-showcase-11/
LOCATION:Hill Country Arts Foundation\, 120 Point Theatre Rd S\, Ingram\, Texas\, 78025
CATEGORIES:Markets
END:VEVENT
BEGIN:VEVENT
DTSTART;TZID=America/Chicago:20251129T090000
DTEND;TZID=America/Chicago:20251129T130000
DTSTAMP:20260424T055310
CREATED:20251102T141219Z
LAST-MODIFIED:20251102T141219Z
UID:82937-1764406800-1764421200@kerrcountylead.com
SUMMARY:Heart of the Hills Farmers Market
DESCRIPTION:
URL:https://kerrcountylead.com/event/heart-of-the-hills-farmers-market-24/
LOCATION:Parking Lot @ 741 Water St\, 741 Water St\, Kerrville\, TX\, 78028
CATEGORIES:Markets
END:VEVENT
BEGIN:VEVENT
DTSTART;TZID=America/Chicago:20251129T090000
DTEND;TZID=America/Chicago:20251129T130000
DTSTAMP:20260424T055310
CREATED:20251102T141142Z
LAST-MODIFIED:20251102T141142Z
UID:82935-1764406800-1764421200@kerrcountylead.com
SUMMARY:Hill Country Heritage Farmers Market
DESCRIPTION:
URL:https://kerrcountylead.com/event/hill-country-heritage-farmers-market-24/
LOCATION:Parking Lot @ 5 Points\, 301 Junction Hwy\, Kerrville\, TX\, 78028
CATEGORIES:Markets
END:VEVENT
BEGIN:VEVENT
DTSTART;TZID=America/Chicago:20251129T080000
DTEND;TZID=America/Chicago:20251129T080000
DTSTAMP:20260424T055310
CREATED:20251123T214632Z
LAST-MODIFIED:20251128T200247Z
UID:84319-1764403200-1764403200@kerrcountylead.com
SUMMARY:Kerrville Walking Group
DESCRIPTION:Location: Riverhill North. Join the KWG on Saturday mornings for nature walks. Most routes are 2-4 miles. Visit website for exact meeting location and further details.
URL:https://kerrcountylead.com/event/kerrville-walking-group-74/
LOCATION:Various Locations
CATEGORIES:Outdoor activities
END:VEVENT
BEGIN:VEVENT
DTSTART;TZID=America/Chicago:20251128T190000
DTEND;TZID=America/Chicago:20251128T220000
DTSTAMP:20260424T055310
CREATED:20251128T200331Z
LAST-MODIFIED:20251128T200331Z
UID:84633-1764356400-1764367200@kerrcountylead.com
SUMMARY:Heartbreak Outlaws
DESCRIPTION:
URL:https://kerrcountylead.com/event/heartbreak-outlaws-4/
LOCATION:Elm Waterhole Saloon at the YO Hotel\, 2033 Sidney Baker St\, Kerrville\, Texas\, 78029
CATEGORIES:Live music
END:VEVENT
BEGIN:VEVENT
DTSTART;TZID=America/Chicago:20251128T190000
DTEND;TZID=America/Chicago:20251128T210000
DTSTAMP:20260424T055310
CREATED:20251123T214433Z
LAST-MODIFIED:20251123T214536Z
UID:84315-1764356400-1764363600@kerrcountylead.com
SUMMARY:November Paint & Sip
DESCRIPTION:
URL:https://kerrcountylead.com/event/november-paint-sip/
LOCATION:The Color of Clay\, 93 Coronado Drive N Ste 2\, Kerrville\, TX\, 78028
CATEGORIES:Crafts
END:VEVENT
BEGIN:VEVENT
DTSTART;TZID=America/Chicago:20251128T180000
DTEND;TZID=America/Chicago:20251128T210000
DTSTAMP:20260424T055310
CREATED:20251101T020024Z
LAST-MODIFIED:20251123T214255Z
UID:82523-1764352800-1764363600@kerrcountylead.com
SUMMARY:Noel Bullard
DESCRIPTION:
URL:https://kerrcountylead.com/event/tim-gary-10/
LOCATION:Cafe at the Ridge\, 13439 S. Ranch Road 783\, Kerrville\, Texas\, 78028
CATEGORIES:Live music
END:VEVENT
BEGIN:VEVENT
DTSTART;TZID=America/Chicago:20251128T180000
DTEND;TZID=America/Chicago:20251128T210000
DTSTAMP:20260424T055310
CREATED:20250906T020829Z
LAST-MODIFIED:20250906T020829Z
UID:77546-1764352800-1764363600@kerrcountylead.com
SUMMARY:Checkmate Duo
DESCRIPTION:
URL:https://kerrcountylead.com/event/checkmate-duo-4/
LOCATION:Truffles & Vines\, 321 TX 39\, Ingram\, TX\, 78025
CATEGORIES:Live music
END:VEVENT
END:VCALENDAR