BEGIN:VCALENDAR
VERSION:2.0
PRODID:-//The Kerr County Lead - ECPv6.15.17.1//NONSGML v1.0//EN
CALSCALE:GREGORIAN
METHOD:PUBLISH
X-ORIGINAL-URL:https://kerrcountylead.com
X-WR-CALDESC:Events for The Kerr County Lead
REFRESH-INTERVAL;VALUE=DURATION:PT1H
X-Robots-Tag:noindex
X-PUBLISHED-TTL:PT1H
BEGIN:VTIMEZONE
TZID:America/Chicago
BEGIN:DAYLIGHT
TZOFFSETFROM:-0600
TZOFFSETTO:-0500
TZNAME:CDT
DTSTART:20230312T080000
END:DAYLIGHT
BEGIN:STANDARD
TZOFFSETFROM:-0500
TZOFFSETTO:-0600
TZNAME:CST
DTSTART:20231105T070000
END:STANDARD
BEGIN:DAYLIGHT
TZOFFSETFROM:-0600
TZOFFSETTO:-0500
TZNAME:CDT
DTSTART:20240310T080000
END:DAYLIGHT
BEGIN:STANDARD
TZOFFSETFROM:-0500
TZOFFSETTO:-0600
TZNAME:CST
DTSTART:20241103T070000
END:STANDARD
BEGIN:DAYLIGHT
TZOFFSETFROM:-0600
TZOFFSETTO:-0500
TZNAME:CDT
DTSTART:20250309T080000
END:DAYLIGHT
BEGIN:STANDARD
TZOFFSETFROM:-0500
TZOFFSETTO:-0600
TZNAME:CST
DTSTART:20251102T070000
END:STANDARD
END:VTIMEZONE
BEGIN:VEVENT
DTSTART;TZID=America/Chicago:20240802T100000
DTEND;TZID=America/Chicago:20240802T160000
DTSTAMP:20260422T040044
CREATED:20240731T152242Z
LAST-MODIFIED:20240731T152242Z
UID:55180-1722592800-1722614400@kerrcountylead.com
SUMMARY:Two Perspectives: Scott Christensen & Quang Ho
DESCRIPTION:
URL:https://kerrcountylead.com/event/two-perspectives-scott-christensen-quang-ho-9/
LOCATION:Museum of Western Art\, 1550 Bandera Hwy.\, Kerrville\, Texas\, 78028
CATEGORIES:The arts
END:VEVENT
BEGIN:VEVENT
DTSTART;TZID=America/Chicago:20240802T100000
DTEND;TZID=America/Chicago:20240802T160000
DTSTAMP:20260422T040044
CREATED:20240731T155333Z
LAST-MODIFIED:20240731T155333Z
UID:55226-1722592800-1722614400@kerrcountylead.com
SUMMARY:KACC Art Exhibits
DESCRIPTION:Three galleries with exhibits: Photo Color Lampshades\, Fiber and Light\, and Come Together.
URL:https://kerrcountylead.com/event/kacc-art-exhibits-268/
LOCATION:Kerr Arts & Cultural Center\, 228 Earl Garrett St.\, Kerrville\, Texas\, 78028
CATEGORIES:The arts
END:VEVENT
BEGIN:VEVENT
DTSTART;TZID=America/Chicago:20240802T100000
DTEND;TZID=America/Chicago:20240802T180000
DTSTAMP:20260422T040044
CREATED:20240729T192051Z
LAST-MODIFIED:20240729T192051Z
UID:55075-1722592800-1722621600@kerrcountylead.com
SUMMARY:Our Place in Space
DESCRIPTION:Come see the constellations in our planetarium\, learn about conserving our night skies and about our place in space!
URL:https://kerrcountylead.com/event/our-place-in-space-87/
LOCATION:Riverside Nature Center\, 150 Francisco Lemos St\, Kerrville\, Texas\, 78028
CATEGORIES:Science and nature
END:VEVENT
BEGIN:VEVENT
DTSTART;TZID=America/Chicago:20240802T110000
DTEND;TZID=America/Chicago:20240802T200000
DTSTAMP:20260422T040044
CREATED:20240729T173700Z
LAST-MODIFIED:20240729T173700Z
UID:55009-1722596400-1722628800@kerrcountylead.com
SUMMARY:Que-Zeen BBQ
DESCRIPTION:
URL:https://kerrcountylead.com/event/que-zeen-bbq-129/
LOCATION:The Ingram Dam\, 610 TX 39\, Ingram\, TX\, 78025
CATEGORIES:Food truck 411
END:VEVENT
BEGIN:VEVENT
DTSTART;TZID=America/Chicago:20240802T140000
DTEND;TZID=America/Chicago:20240802T153000
DTSTAMP:20260422T040044
CREATED:20240729T173606Z
LAST-MODIFIED:20240729T173606Z
UID:55007-1722607200-1722612600@kerrcountylead.com
SUMMARY:Caregiver Support Group
DESCRIPTION:
URL:https://kerrcountylead.com/event/caregiver-support-group/
LOCATION:Peterson Hospice and Home Care Building\, 250 Cully Dr\, Kerrville\, TX\, 78028
CATEGORIES:Outreach groups
END:VEVENT
BEGIN:VEVENT
DTSTART;TZID=America/Chicago:20240802T150000
DTEND;TZID=America/Chicago:20240802T210000
DTSTAMP:20260422T040044
CREATED:20240731T161944Z
LAST-MODIFIED:20240731T161944Z
UID:55230-1722610800-1722632400@kerrcountylead.com
SUMMARY:Shim's Be Blessed
DESCRIPTION:
URL:https://kerrcountylead.com/event/shims-be-blessed-85/
LOCATION:Tailchasers Patio + Pub\, 516 Jefferson St\, Kerrville\, TX\, 78028
CATEGORIES:Food truck 411
END:VEVENT
BEGIN:VEVENT
DTSTART;TZID=America/Chicago:20240802T170000
DTEND;TZID=America/Chicago:20240802T174500
DTSTAMP:20260422T040044
CREATED:20240802T171248Z
LAST-MODIFIED:20240802T171248Z
UID:55293-1722618000-1722620700@kerrcountylead.com
SUMMARY:Meditative Sound Bath
DESCRIPTION:Offered by Humbling Bloom.
URL:https://kerrcountylead.com/event/meditative-sound-bath-12/
LOCATION:Butt-Holdsworth Memorial Library\, 505 Water St.\, Kerrville\, Texas\, 78028
CATEGORIES:Library event,Wellness
END:VEVENT
BEGIN:VEVENT
DTSTART;TZID=America/Chicago:20240802T170000
DTEND;TZID=America/Chicago:20240802T210000
DTSTAMP:20260422T040044
CREATED:20240729T173810Z
LAST-MODIFIED:20240731T162037Z
UID:55011-1722618000-1722632400@kerrcountylead.com
SUMMARY:The Pearl
DESCRIPTION:
URL:https://kerrcountylead.com/event/vecinos-fruteria-y-cocina-taco-night-24/
LOCATION:Trailhead Beer Garden\, 2100 Memorial Blvd Bldg #11\, Kerrville\, TX\, 78028\, United States
CATEGORIES:Food truck 411
END:VEVENT
BEGIN:VEVENT
DTSTART;TZID=America/Chicago:20240802T170000
DTEND;TZID=America/Chicago:20240802T210000
DTSTAMP:20260422T040044
CREATED:20240802T172359Z
LAST-MODIFIED:20240802T172359Z
UID:55297-1722618000-1722632400@kerrcountylead.com
SUMMARY:Munchy Machine
DESCRIPTION:
URL:https://kerrcountylead.com/event/munchy-machine-65/
LOCATION:Basement Brewers of Texas\, 521 Clay St\, Kerrville\, TX\, 78028
CATEGORIES:Food truck 411
END:VEVENT
BEGIN:VEVENT
DTSTART;TZID=America/Chicago:20240802T171500
DTEND;TZID=America/Chicago:20240802T193000
DTSTAMP:20260422T040044
CREATED:20240729T173922Z
LAST-MODIFIED:20240729T173922Z
UID:55013-1722618900-1722627000@kerrcountylead.com
SUMMARY:Chamber Business Expo & Wine Share
DESCRIPTION:Hosting the First Friday Wine Share and expo preview. 
URL:https://kerrcountylead.com/event/chamber-business-expo-wine-share/
LOCATION:Hill Country Youth Event Center\, 3785 TX 27\, Kerrville\, Texas\, 78028
END:VEVENT
BEGIN:VEVENT
DTSTART;TZID=America/Chicago:20240802T180000
DTEND;TZID=America/Chicago:20240802T200000
DTSTAMP:20260422T040044
CREATED:20240729T174032Z
LAST-MODIFIED:20240729T174032Z
UID:55017-1722621600-1722628800@kerrcountylead.com
SUMMARY:Dave Maroney
DESCRIPTION:
URL:https://kerrcountylead.com/event/dave-maroney-6/
LOCATION:Pint & Plow Brewing Co.\, 332 Clay St\, Kerrville\, Texas\, 78028
CATEGORIES:Live music
END:VEVENT
BEGIN:VEVENT
DTSTART;TZID=America/Chicago:20240803T073000
DTEND;TZID=America/Chicago:20240803T073000
DTSTAMP:20260422T040044
CREATED:20240729T174435Z
LAST-MODIFIED:20240731T162138Z
UID:55029-1722670200-1722670200@kerrcountylead.com
SUMMARY:Kerrville Walking Group
DESCRIPTION:Location: Trailhead – G Street. Join the KWG on Saturday mornings for nature walks. Most routes are 2-4 miles. Visit website for exact meeting location and further details.
URL:https://kerrcountylead.com/event/kerrville-walking-group-22/
LOCATION:Various Locations
CATEGORIES:Outdoor activities
END:VEVENT
BEGIN:VEVENT
DTSTART;TZID=America/Chicago:20240803T080000
DTEND;TZID=America/Chicago:20240803T080000
DTSTAMP:20260422T040044
CREATED:20240729T174609Z
LAST-MODIFIED:20240729T174609Z
UID:55033-1722672000-1722672000@kerrcountylead.com
SUMMARY:Hillside Harvest Market
DESCRIPTION:
URL:https://kerrcountylead.com/event/hillside-harvest-market-31/
LOCATION:Parking Lot @ 5 Points\, 301 Junction Hwy\, Kerrville\, TX\, 78028
CATEGORIES:Markets
END:VEVENT
BEGIN:VEVENT
DTSTART;TZID=America/Chicago:20240803T090000
DTEND;TZID=America/Chicago:20240803T090000
DTSTAMP:20260422T040044
CREATED:20240731T162342Z
LAST-MODIFIED:20240731T162342Z
UID:55234-1722675600-1722675600@kerrcountylead.com
SUMMARY:Meditation Group
DESCRIPTION:Michael Wurth\, LPC-S will lead a meditation session.
URL:https://kerrcountylead.com/event/meditation-group-10/
LOCATION:UUCHC\, 960 Barnett St\, Kerrville\, TX\, 78028
CATEGORIES:Wellness
END:VEVENT
BEGIN:VEVENT
DTSTART;TZID=America/Chicago:20240803T090000
DTEND;TZID=America/Chicago:20240803T130000
DTSTAMP:20260422T040044
CREATED:20240729T174520Z
LAST-MODIFIED:20240729T174520Z
UID:55031-1722675600-1722690000@kerrcountylead.com
SUMMARY:Farmers Market
DESCRIPTION:
URL:https://kerrcountylead.com/event/farmers-market-53/
LOCATION:Parking Lot @ 741 Water St\, 741 Water St\, Kerrville\, TX\, 78028
CATEGORIES:Markets
END:VEVENT
BEGIN:VEVENT
DTSTART;TZID=America/Chicago:20240803T093000
DTEND;TZID=America/Chicago:20240803T123000
DTSTAMP:20260422T040044
CREATED:20240729T174723Z
LAST-MODIFIED:20240729T174723Z
UID:55035-1722677400-1722688200@kerrcountylead.com
SUMMARY:Pet Adoptions
DESCRIPTION:Including Snip & Chip Registration from 9:30 a.m. to 10:30 a.m.
URL:https://kerrcountylead.com/event/pet-adoptions-13/
LOCATION:KPA! Safe House\, 2102 Memorial Blvd\, Kerrville\, TX\, 78028
CATEGORIES:Pet event
END:VEVENT
BEGIN:VEVENT
DTSTART;TZID=America/Chicago:20240803T100000
DTEND;TZID=America/Chicago:20240803T140000
DTSTAMP:20260422T040044
CREATED:20240730T173813Z
LAST-MODIFIED:20240730T173813Z
UID:55136-1722679200-1722693600@kerrcountylead.com
SUMMARY:Summer Art Mart
DESCRIPTION:
URL:https://kerrcountylead.com/event/summer-art-mart-20/
LOCATION:Hill Country Arts Foundation\, 120 Point Theatre Rd S\, Ingram\, Texas\, 78025
CATEGORIES:The arts
END:VEVENT
BEGIN:VEVENT
DTSTART;TZID=America/Chicago:20240803T100000
DTEND;TZID=America/Chicago:20240803T150000
DTSTAMP:20260422T040044
CREATED:20240729T174812Z
LAST-MODIFIED:20240729T174812Z
UID:55037-1722679200-1722697200@kerrcountylead.com
SUMMARY:Chamber Business Expo
DESCRIPTION:
URL:https://kerrcountylead.com/event/chamber-business-expo-2/
LOCATION:Hill Country Youth Event Center\, 3785 TX 27\, Kerrville\, Texas\, 78028
END:VEVENT
BEGIN:VEVENT
DTSTART;TZID=America/Chicago:20240803T100000
DTEND;TZID=America/Chicago:20240803T160000
DTSTAMP:20260422T040044
CREATED:20240731T152314Z
LAST-MODIFIED:20240731T152314Z
UID:55182-1722679200-1722700800@kerrcountylead.com
SUMMARY:Two Perspectives: Scott Christensen & Quang Ho
DESCRIPTION:
URL:https://kerrcountylead.com/event/two-perspectives-scott-christensen-quang-ho-10/
LOCATION:Museum of Western Art\, 1550 Bandera Hwy.\, Kerrville\, Texas\, 78028
CATEGORIES:The arts
END:VEVENT
BEGIN:VEVENT
DTSTART;TZID=America/Chicago:20240803T100000
DTEND;TZID=America/Chicago:20240803T160000
DTSTAMP:20260422T040044
CREATED:20240731T155415Z
LAST-MODIFIED:20240731T155415Z
UID:55228-1722679200-1722700800@kerrcountylead.com
SUMMARY:KACC Art Exhibits
DESCRIPTION:Three galleries with exhibits: Photo Color Lampshades\, Fiber and Light\, and Come Together.
URL:https://kerrcountylead.com/event/kacc-art-exhibits-269/
LOCATION:Kerr Arts & Cultural Center\, 228 Earl Garrett St.\, Kerrville\, Texas\, 78028
CATEGORIES:The arts
END:VEVENT
BEGIN:VEVENT
DTSTART;TZID=America/Chicago:20240803T100000
DTEND;TZID=America/Chicago:20240803T180000
DTSTAMP:20260422T040044
CREATED:20240729T192133Z
LAST-MODIFIED:20240729T192133Z
UID:55077-1722679200-1722708000@kerrcountylead.com
SUMMARY:Our Place in Space
DESCRIPTION:Come see the constellations in our planetarium\, learn about conserving our night skies and about our place in space!
URL:https://kerrcountylead.com/event/our-place-in-space-88/
LOCATION:Riverside Nature Center\, 150 Francisco Lemos St\, Kerrville\, Texas\, 78028
CATEGORIES:Science and nature
END:VEVENT
BEGIN:VEVENT
DTSTART;TZID=America/Chicago:20240803T103000
DTEND;TZID=America/Chicago:20240803T113000
DTSTAMP:20260422T040044
CREATED:20240802T171736Z
LAST-MODIFIED:20240802T171736Z
UID:55295-1722681000-1722684600@kerrcountylead.com
SUMMARY:Adult Yoga: Stretch & Relax
DESCRIPTION:Offered by Humbling Bloom.
URL:https://kerrcountylead.com/event/adult-yoga-stretch-relax-18/
LOCATION:Butt-Holdsworth Memorial Library\, 505 Water St.\, Kerrville\, Texas\, 78028
CATEGORIES:Library event,Wellness
END:VEVENT
BEGIN:VEVENT
DTSTART;TZID=America/Chicago:20240803T110000
DTEND;TZID=America/Chicago:20240803T200000
DTSTAMP:20260422T040044
CREATED:20240729T174910Z
LAST-MODIFIED:20240729T174910Z
UID:55039-1722682800-1722715200@kerrcountylead.com
SUMMARY:Que-Zeen BBQ
DESCRIPTION:
URL:https://kerrcountylead.com/event/que-zeen-bbq-130/
LOCATION:The Ingram Dam\, 610 TX 39\, Ingram\, TX\, 78025
CATEGORIES:Food truck 411
END:VEVENT
BEGIN:VEVENT
DTSTART;TZID=America/Chicago:20240803T120000
DTEND;TZID=America/Chicago:20240803T140000
DTSTAMP:20260422T040044
CREATED:20240729T175105Z
LAST-MODIFIED:20240729T175105Z
UID:55043-1722686400-1722693600@kerrcountylead.com
SUMMARY:Wall Planters Workshop
DESCRIPTION:
URL:https://kerrcountylead.com/event/wall-planters-workshop/
LOCATION:The Color of Clay\, 93 Coronado Drive N Ste 2\, Kerrville\, TX\, 78028
CATEGORIES:Crafts
END:VEVENT
BEGIN:VEVENT
DTSTART;TZID=America/Chicago:20240803T120000
DTEND;TZID=America/Chicago:20240803T210000
DTSTAMP:20260422T040044
CREATED:20240729T175003Z
LAST-MODIFIED:20240729T175003Z
UID:55041-1722686400-1722718800@kerrcountylead.com
SUMMARY:Shim’s Be Blessed
DESCRIPTION:
URL:https://kerrcountylead.com/event/shims-be-blessed-83/
LOCATION:Trailhead Beer Garden\, 2100 Memorial Blvd Bldg #11\, Kerrville\, TX\, 78028\, United States
CATEGORIES:Food truck 411
END:VEVENT
BEGIN:VEVENT
DTSTART;TZID=America/Chicago:20240803T120000
DTEND;TZID=America/Chicago:20240803T210000
DTSTAMP:20260422T040044
CREATED:20240802T172632Z
LAST-MODIFIED:20240802T172632Z
UID:55299-1722686400-1722718800@kerrcountylead.com
SUMMARY:Munchy Machine
DESCRIPTION:
URL:https://kerrcountylead.com/event/munchy-machine-66/
LOCATION:Basement Brewers of Texas\, 521 Clay St\, Kerrville\, TX\, 78028
CATEGORIES:Food truck 411
END:VEVENT
BEGIN:VEVENT
DTSTART;TZID=America/Chicago:20240803T130000
DTEND;TZID=America/Chicago:20240803T160000
DTSTAMP:20260422T040044
CREATED:20240729T175239Z
LAST-MODIFIED:20240729T175239Z
UID:55047-1722690000-1722700800@kerrcountylead.com
SUMMARY:Ryan Jones
DESCRIPTION:
URL:https://kerrcountylead.com/event/ryan-jones-6/
LOCATION:Singing Water Vineyards\, 316 Mill Dam Rd\, Comfort\, TX\, 78013
CATEGORIES:Live music
END:VEVENT
BEGIN:VEVENT
DTSTART;TZID=America/Chicago:20240803T150000
DTEND;TZID=America/Chicago:20240803T210000
DTSTAMP:20260422T040044
CREATED:20240729T175203Z
LAST-MODIFIED:20240729T175203Z
UID:55045-1722697200-1722718800@kerrcountylead.com
SUMMARY:Summer Saturdays
DESCRIPTION:Farm tours\, exploring\, and the farm restaurant will be serving pizza\, tacos\, and other fresh fare! Be sure to stop by the farm store inside the restaurant for some produce and goods to take home. 
URL:https://kerrcountylead.com/event/summer-saturdays-2/
LOCATION:Sovereignty Ranch\, 165 Wyatt Ranch Road E\, Bandera\, TX\, 78003
CATEGORIES:On the farm
END:VEVENT
BEGIN:VEVENT
DTSTART;TZID=America/Chicago:20240803T160000
DTEND;TZID=America/Chicago:20240803T210000
DTSTAMP:20260422T040044
CREATED:20240731T162622Z
LAST-MODIFIED:20240731T162622Z
UID:55236-1722700800-1722718800@kerrcountylead.com
SUMMARY:The Pearl
DESCRIPTION:
URL:https://kerrcountylead.com/event/the-pearl-2/
LOCATION:Tailchasers Patio + Pub\, 516 Jefferson St\, Kerrville\, TX\, 78028
CATEGORIES:Food truck 411
END:VEVENT
BEGIN:VEVENT
DTSTART;TZID=America/Chicago:20240803T160000
DTEND;TZID=America/Chicago:20240803T210000
DTSTAMP:20260422T040044
CREATED:20240731T162713Z
LAST-MODIFIED:20240731T162713Z
UID:55238-1722700800-1722718800@kerrcountylead.com
SUMMARY:Vecinos
DESCRIPTION:
URL:https://kerrcountylead.com/event/vecinos/
LOCATION:Tailchasers Patio + Pub\, 516 Jefferson St\, Kerrville\, TX\, 78028
CATEGORIES:Food truck 411
END:VEVENT
END:VCALENDAR