BEGIN:VCALENDAR
VERSION:2.0
PRODID:-//The Kerr County Lead - ECPv6.15.17.1//NONSGML v1.0//EN
CALSCALE:GREGORIAN
METHOD:PUBLISH
X-WR-CALNAME:The Kerr County Lead
X-ORIGINAL-URL:https://kerrcountylead.com
X-WR-CALDESC:Events for The Kerr County Lead
REFRESH-INTERVAL;VALUE=DURATION:PT1H
X-Robots-Tag:noindex
X-PUBLISHED-TTL:PT1H
BEGIN:VTIMEZONE
TZID:America/Chicago
BEGIN:DAYLIGHT
TZOFFSETFROM:-0600
TZOFFSETTO:-0500
TZNAME:CDT
DTSTART:20240310T080000
END:DAYLIGHT
BEGIN:STANDARD
TZOFFSETFROM:-0500
TZOFFSETTO:-0600
TZNAME:CST
DTSTART:20241103T070000
END:STANDARD
BEGIN:DAYLIGHT
TZOFFSETFROM:-0600
TZOFFSETTO:-0500
TZNAME:CDT
DTSTART:20250309T080000
END:DAYLIGHT
BEGIN:STANDARD
TZOFFSETFROM:-0500
TZOFFSETTO:-0600
TZNAME:CST
DTSTART:20251102T070000
END:STANDARD
BEGIN:DAYLIGHT
TZOFFSETFROM:-0600
TZOFFSETTO:-0500
TZNAME:CDT
DTSTART:20260308T080000
END:DAYLIGHT
BEGIN:STANDARD
TZOFFSETFROM:-0500
TZOFFSETTO:-0600
TZNAME:CST
DTSTART:20261101T070000
END:STANDARD
END:VTIMEZONE
BEGIN:VEVENT
DTSTART;TZID=America/Chicago:20251005T150000
DTEND;TZID=America/Chicago:20251005T180000
DTSTAMP:20260425T140632
CREATED:20250928T183817Z
LAST-MODIFIED:20250928T183817Z
UID:78978-1759676400-1759687200@kerrcountylead.com
SUMMARY:Doc Fields
DESCRIPTION:
URL:https://kerrcountylead.com/event/doc-fields/
LOCATION:Tailchasers Patio + Pub\, 516 Jefferson St\, Kerrville\, TX\, 78028
CATEGORIES:Live music
END:VEVENT
BEGIN:VEVENT
DTSTART;TZID=America/Chicago:20251005T150000
DTEND;TZID=America/Chicago:20251005T180000
DTSTAMP:20260425T140632
CREATED:20251005T210132Z
LAST-MODIFIED:20251005T210132Z
UID:79726-1759676400-1759687200@kerrcountylead.com
SUMMARY:Steve Garry
DESCRIPTION:
URL:https://kerrcountylead.com/event/steve-garry/
LOCATION:Turtle Creek Vineyard\, 183 Fall Creek Rd\, Kerrville\, TX\, 78028
CATEGORIES:Live music
END:VEVENT
BEGIN:VEVENT
DTSTART;TZID=America/Chicago:20251006T150000
DTEND;TZID=America/Chicago:20251006T150000
DTSTAMP:20260425T140632
CREATED:20251005T222007Z
LAST-MODIFIED:20251005T222007Z
UID:79850-1759762800-1759762800@kerrcountylead.com
SUMMARY:Veterans Yoga
DESCRIPTION:Join Rick Trzcinski of the Veterans Yoga Project every Monday for a session. The class is free for veterans.
URL:https://kerrcountylead.com/event/veterans-yoga/
LOCATION:Kerrville Elks Lodge\, 1907 Junction Hwy\, Kerrville\, TX\, 78028
CATEGORIES:Wellness
END:VEVENT
BEGIN:VEVENT
DTSTART;TZID=America/Chicago:20251006T170000
DTEND;TZID=America/Chicago:20251006T170000
DTSTAMP:20260425T140632
CREATED:20251005T222205Z
LAST-MODIFIED:20251005T222205Z
UID:79852-1759770000-1759770000@kerrcountylead.com
SUMMARY:Public Art Presentation and Ribbon Cutting
DESCRIPTION:Ribbon cutting near Trailhead at 5 p.m.\, followed by a presentation at 5:30 p.m. in the Junkin Center. For more info\, click here.
URL:https://kerrcountylead.com/event/public-art-presentation-and-ribbon-cutting/
LOCATION:Schreiner University\, 2100 Memorial Blvd\, Kerrville\, Texas\, 78028
CATEGORIES:The arts
END:VEVENT
BEGIN:VEVENT
DTSTART;TZID=America/Chicago:20251007T100000
DTEND;TZID=America/Chicago:20251007T110000
DTSTAMP:20260425T140632
CREATED:20251005T222439Z
LAST-MODIFIED:20251005T222439Z
UID:79856-1759831200-1759834800@kerrcountylead.com
SUMMARY:Lap-Sit Story Time
DESCRIPTION:A story time program for ages 3 and under with songs\, rhymes\, and playtime.
URL:https://kerrcountylead.com/event/lap-sit-story-time/
LOCATION:Butt-Holdsworth Memorial Library\, 505 Water St.\, Kerrville\, Texas\, 78028
CATEGORIES:Library event
END:VEVENT
BEGIN:VEVENT
DTSTART;TZID=America/Chicago:20251007T100000
DTEND;TZID=America/Chicago:20251007T110000
DTSTAMP:20260425T140632
CREATED:20251005T222647Z
LAST-MODIFIED:20251005T222647Z
UID:79860-1759831200-1759834800@kerrcountylead.com
SUMMARY:Toddler Time
DESCRIPTION:
URL:https://kerrcountylead.com/event/toddler-time/
LOCATION:The Ridge Marketplace\, 13439 S Ranch Road 783\, Kerrville\, TX\, 78028
END:VEVENT
BEGIN:VEVENT
DTSTART;TZID=America/Chicago:20251007T100000
DTEND;TZID=America/Chicago:20251007T160000
DTSTAMP:20260425T140632
CREATED:20251005T212338Z
LAST-MODIFIED:20251005T212338Z
UID:79736-1759831200-1759852800@kerrcountylead.com
SUMMARY:American Landscape
DESCRIPTION:Sept 12-Oct 24. HCAF Annual Juried Exhibit.
URL:https://kerrcountylead.com/event/american-landscape-5/
LOCATION:Hill Country Arts Foundation\, 120 Point Theatre Rd S\, Ingram\, Texas\, 78025
CATEGORIES:The arts
END:VEVENT
BEGIN:VEVENT
DTSTART;TZID=America/Chicago:20251007T100000
DTEND;TZID=America/Chicago:20251007T160000
DTSTAMP:20260425T140632
CREATED:20251005T213955Z
LAST-MODIFIED:20251005T213955Z
UID:79772-1759831200-1759852800@kerrcountylead.com
SUMMARY:Walt Gonske: The Church Series
DESCRIPTION:
URL:https://kerrcountylead.com/event/walt-gonske-the-church-series-5/
LOCATION:Museum of Western Art\, 1550 Bandera Hwy.\, Kerrville\, Texas\, 78028
CATEGORIES:The arts
END:VEVENT
BEGIN:VEVENT
DTSTART;TZID=America/Chicago:20251007T100000
DTEND;TZID=America/Chicago:20251007T160000
DTSTAMP:20260425T140632
CREATED:20251005T220339Z
LAST-MODIFIED:20251005T220339Z
UID:79830-1759831200-1759852800@kerrcountylead.com
SUMMARY:KACC Exhibits
DESCRIPTION:Sept 23-Oct 18. Phyllis & Doug Garey\, Hardy Lewis\, and Tony Schaub.
URL:https://kerrcountylead.com/event/kacc-exhibits-52/
LOCATION:Kerr Arts & Cultural Center\, 228 Earl Garrett St.\, Kerrville\, Texas\, 78028
CATEGORIES:The arts
END:VEVENT
BEGIN:VEVENT
DTSTART;TZID=America/Chicago:20251007T103000
DTEND;TZID=America/Chicago:20251007T163000
DTSTAMP:20260425T140632
CREATED:20251005T223006Z
LAST-MODIFIED:20251005T223006Z
UID:79864-1759833000-1759854600@kerrcountylead.com
SUMMARY:Hospice Volunteer Training
DESCRIPTION:
URL:https://kerrcountylead.com/event/hospice-volunteer-training/
LOCATION:Peterson Hospice and Home Care Building\, 250 Cully Dr\, Kerrville\, TX\, 78028
CATEGORIES:Outreach groups
END:VEVENT
BEGIN:VEVENT
DTSTART;TZID=America/Chicago:20251007T110000
DTEND;TZID=America/Chicago:20251007T110000
DTSTAMP:20260425T140632
CREATED:20251005T222902Z
LAST-MODIFIED:20251005T222902Z
UID:79862-1759834800-1759834800@kerrcountylead.com
SUMMARY:Hill Country Chapter of Texas Democratic Women Meeting
DESCRIPTION:125 Lehman Drive. Featuring guest speaker Bee Moorhead. To RSVP\, email treasurer4hcctdw@gmail.com.
URL:https://kerrcountylead.com/event/hill-country-chapter-of-texas-democratic-women-meeting/
LOCATION:Texas
CATEGORIES:Community meeting
END:VEVENT
BEGIN:VEVENT
DTSTART;TZID=America/Chicago:20251007T120000
DTEND;TZID=America/Chicago:20251007T133000
DTSTAMP:20260425T140632
CREATED:20251005T222555Z
LAST-MODIFIED:20251005T222555Z
UID:79858-1759838400-1759843800@kerrcountylead.com
SUMMARY:Great Decisions Discussion Group
DESCRIPTION:The group will discuss the topic “AI and American National Security” this month.
URL:https://kerrcountylead.com/event/great-decisions-discussion-group-24/
LOCATION:Butt-Holdsworth Memorial Library\, 505 Water St.\, Kerrville\, Texas\, 78028
END:VEVENT
BEGIN:VEVENT
DTSTART;TZID=America/Chicago:20251007T163000
DTEND;TZID=America/Chicago:20251007T173000
DTSTAMP:20260425T140632
CREATED:20251005T223106Z
LAST-MODIFIED:20251005T223106Z
UID:79866-1759854600-1759858200@kerrcountylead.com
SUMMARY:Becoming a Mother: Childbirth Class
DESCRIPTION:In Classroom B.
URL:https://kerrcountylead.com/event/becoming-a-mother-childbirth-class-4/
LOCATION:Peterson Health\, 551 Hill Country Dr\, Kerrville\, TX\, 78028
CATEGORIES:Outreach groups
END:VEVENT
BEGIN:VEVENT
DTSTART;TZID=America/Chicago:20251007T170000
DTEND;TZID=America/Chicago:20251007T190000
DTSTAMP:20260425T140632
CREATED:20251005T223351Z
LAST-MODIFIED:20251005T223351Z
UID:79870-1759856400-1759863600@kerrcountylead.com
SUMMARY:Flu Clinic
DESCRIPTION:
URL:https://kerrcountylead.com/event/flu-clinic/
LOCATION:Doyle Community Center\, 110 W. Barnett St.\, Kerrville\, Texas\, 78028
CATEGORIES:Outreach groups
END:VEVENT
BEGIN:VEVENT
DTSTART;TZID=America/Chicago:20251007T170000
DTEND;TZID=America/Chicago:20251007T190000
DTSTAMP:20260425T140632
CREATED:20251005T223457Z
LAST-MODIFIED:20251005T223457Z
UID:79872-1759856400-1759863600@kerrcountylead.com
SUMMARY:National Night Out
DESCRIPTION:
URL:https://kerrcountylead.com/event/national-night-out-2/
LOCATION:Doyle Community Center\, 110 W. Barnett St.\, Kerrville\, Texas\, 78028
CATEGORIES:Community event
END:VEVENT
BEGIN:VEVENT
DTSTART;TZID=America/Chicago:20251007T173000
DTEND;TZID=America/Chicago:20251007T183000
DTSTAMP:20260425T140632
CREATED:20251005T223258Z
LAST-MODIFIED:20251005T223258Z
UID:79868-1759858200-1759861800@kerrcountylead.com
SUMMARY:Grief Support Group
DESCRIPTION:
URL:https://kerrcountylead.com/event/grief-support-group-72/
LOCATION:Peterson Hospice and Home Care Building\, 250 Cully Dr\, Kerrville\, TX\, 78028
CATEGORIES:Outreach groups
END:VEVENT
BEGIN:VEVENT
DTSTART;TZID=America/Chicago:20251008T090000
DTEND;TZID=America/Chicago:20251008T090000
DTSTAMP:20260425T140632
CREATED:20251005T165505Z
LAST-MODIFIED:20251005T165505Z
UID:79655-1759914000-1759914000@kerrcountylead.com
SUMMARY:Wildflower Bunch
DESCRIPTION:Join the group and learn about native wildflowers. For more info and to register\, click here.
URL:https://kerrcountylead.com/event/wildflower-bunch-15/
LOCATION:Riverside Nature Center\, 150 Francisco Lemos St\, Kerrville\, Texas\, 78028
CATEGORIES:Science and nature
END:VEVENT
BEGIN:VEVENT
DTSTART;TZID=America/Chicago:20251008T100000
DTEND;TZID=America/Chicago:20251008T110000
DTSTAMP:20260425T140632
CREATED:20251005T223824Z
LAST-MODIFIED:20251005T223824Z
UID:79876-1759917600-1759921200@kerrcountylead.com
SUMMARY:Storytime with KFD
DESCRIPTION:
URL:https://kerrcountylead.com/event/storytime-with-kfd/
LOCATION:Butt-Holdsworth Memorial Library\, 505 Water St.\, Kerrville\, Texas\, 78028
CATEGORIES:Library event
END:VEVENT
BEGIN:VEVENT
DTSTART;TZID=America/Chicago:20251008T100000
DTEND;TZID=America/Chicago:20251008T160000
DTSTAMP:20260425T140632
CREATED:20251005T212454Z
LAST-MODIFIED:20251005T212454Z
UID:79738-1759917600-1759939200@kerrcountylead.com
SUMMARY:American Landscape
DESCRIPTION:Sept 12-Oct 24. HCAF Annual Juried Exhibit.
URL:https://kerrcountylead.com/event/american-landscape-6/
LOCATION:Hill Country Arts Foundation\, 120 Point Theatre Rd S\, Ingram\, Texas\, 78025
CATEGORIES:The arts
END:VEVENT
BEGIN:VEVENT
DTSTART;TZID=America/Chicago:20251008T100000
DTEND;TZID=America/Chicago:20251008T160000
DTSTAMP:20260425T140632
CREATED:20251005T220432Z
LAST-MODIFIED:20251005T220432Z
UID:79832-1759917600-1759939200@kerrcountylead.com
SUMMARY:KACC Exhibits
DESCRIPTION:Sept 23-Oct 18. Phyllis & Doug Garey\, Hardy Lewis\, and Tony Schaub.
URL:https://kerrcountylead.com/event/kacc-exhibits-53/
LOCATION:Kerr Arts & Cultural Center\, 228 Earl Garrett St.\, Kerrville\, Texas\, 78028
CATEGORIES:The arts
END:VEVENT
BEGIN:VEVENT
DTSTART;TZID=America/Chicago:20251008T110000
DTEND;TZID=America/Chicago:20251008T140000
DTSTAMP:20260425T140632
CREATED:20250906T133428Z
LAST-MODIFIED:20250906T133428Z
UID:77611-1759921200-1759932000@kerrcountylead.com
SUMMARY:Friends of the Library Book Sale
DESCRIPTION:
URL:https://kerrcountylead.com/event/friends-of-the-library-book-sale-142/
LOCATION:Butt-Holdsworth Memorial Library\, 505 Water St.\, Kerrville\, Texas\, 78028
CATEGORIES:Library event
END:VEVENT
BEGIN:VEVENT
DTSTART;TZID=America/Chicago:20251008T170000
DTEND;TZID=America/Chicago:20251008T170000
DTSTAMP:20260425T140632
CREATED:20251005T224114Z
LAST-MODIFIED:20251005T224114Z
UID:79880-1759942800-1759942800@kerrcountylead.com
SUMMARY:Hill Country Guitar Club
DESCRIPTION:
URL:https://kerrcountylead.com/event/hill-country-guitar-club-4/
LOCATION:Trailhead Beer Garden\, 2100 Memorial Blvd Bldg #11\, Kerrville\, TX\, 78028\, United States
CATEGORIES:Live music
END:VEVENT
BEGIN:VEVENT
DTSTART;TZID=America/Chicago:20251009T100000
DTEND;TZID=America/Chicago:20251009T110000
DTSTAMP:20260425T140632
CREATED:20251005T224530Z
LAST-MODIFIED:20251005T224530Z
UID:79888-1760004000-1760007600@kerrcountylead.com
SUMMARY:Duplo Club
DESCRIPTION:
URL:https://kerrcountylead.com/event/duplo-club-5/
LOCATION:Butt-Holdsworth Memorial Library\, 505 Water St.\, Kerrville\, Texas\, 78028
CATEGORIES:Library event
END:VEVENT
BEGIN:VEVENT
DTSTART;TZID=America/Chicago:20251009T100000
DTEND;TZID=America/Chicago:20251009T160000
DTSTAMP:20260425T140632
CREATED:20250824T180540Z
LAST-MODIFIED:20250824T180540Z
UID:76467-1760004000-1760025600@kerrcountylead.com
SUMMARY:Autumn Fall Decor Retreat
DESCRIPTION:October 9-11\, 10am-4pm. With Andrea Rummel. For more info and to register\, click here.
URL:https://kerrcountylead.com/event/autumn-fall-decor-retreat/
LOCATION:Hill Country Arts Foundation\, 120 Point Theatre Rd S\, Ingram\, Texas\, 78025
CATEGORIES:Crafts,The arts,Workshop
END:VEVENT
BEGIN:VEVENT
DTSTART;TZID=America/Chicago:20251009T100000
DTEND;TZID=America/Chicago:20251009T160000
DTSTAMP:20260425T140632
CREATED:20251005T212544Z
LAST-MODIFIED:20251005T212544Z
UID:79740-1760004000-1760025600@kerrcountylead.com
SUMMARY:American Landscape
DESCRIPTION:Sept 12-Oct 24. HCAF Annual Juried Exhibit.
URL:https://kerrcountylead.com/event/american-landscape-7/
LOCATION:Hill Country Arts Foundation\, 120 Point Theatre Rd S\, Ingram\, Texas\, 78025
CATEGORIES:The arts
END:VEVENT
BEGIN:VEVENT
DTSTART;TZID=America/Chicago:20251009T100000
DTEND;TZID=America/Chicago:20251009T160000
DTSTAMP:20260425T140632
CREATED:20251005T214125Z
LAST-MODIFIED:20251005T214125Z
UID:79776-1760004000-1760025600@kerrcountylead.com
SUMMARY:Walt Gonske: The Church Series
DESCRIPTION:
URL:https://kerrcountylead.com/event/walt-gonske-the-church-series-7/
LOCATION:Museum of Western Art\, 1550 Bandera Hwy.\, Kerrville\, Texas\, 78028
CATEGORIES:The arts
END:VEVENT
BEGIN:VEVENT
DTSTART;TZID=America/Chicago:20251009T103000
DTEND;TZID=America/Chicago:20251009T103000
DTSTAMP:20260425T140632
CREATED:20251005T165632Z
LAST-MODIFIED:20251005T165632Z
UID:79657-1760005800-1760005800@kerrcountylead.com
SUMMARY:Sprouts
DESCRIPTION:Explore the wonders of nature through story time with your preschooler.
URL:https://kerrcountylead.com/event/sprouts-2/
LOCATION:Riverside Nature Center\, 150 Francisco Lemos St\, Kerrville\, Texas\, 78028
CATEGORIES:Science and nature
END:VEVENT
BEGIN:VEVENT
DTSTART;TZID=America/Chicago:20251009T120000
DTEND;TZID=America/Chicago:20251009T130000
DTSTAMP:20260425T140632
CREATED:20251005T224610Z
LAST-MODIFIED:20251005T224837Z
UID:79890-1760011200-1760014800@kerrcountylead.com
SUMMARY:Readers Mix Book Club
DESCRIPTION:The group will discuss “The Flower Sisters” by Michelle Collins Anderson.
URL:https://kerrcountylead.com/event/readers-mix-book-club/
LOCATION:Butt-Holdsworth Memorial Library\, 505 Water St.\, Kerrville\, Texas\, 78028
CATEGORIES:Library event
END:VEVENT
BEGIN:VEVENT
DTSTART;TZID=America/Chicago:20251009T160000
DTEND;TZID=America/Chicago:20251009T200000
DTSTAMP:20260425T140632
CREATED:20251005T224722Z
LAST-MODIFIED:20251005T224722Z
UID:79892-1760025600-1760040000@kerrcountylead.com
SUMMARY:Social Gathering
DESCRIPTION:For more info\, click here.
URL:https://kerrcountylead.com/event/social-gathering-8/
LOCATION:The Rogue Skein\, 1013 Main St\, Kerrville\, TX\, 78028
CATEGORIES:Crafts
END:VEVENT
BEGIN:VEVENT
DTSTART;TZID=America/Chicago:20251009T163000
DTEND;TZID=America/Chicago:20251009T173000
DTSTAMP:20260425T140632
CREATED:20251005T225251Z
LAST-MODIFIED:20251005T225251Z
UID:79894-1760027400-1760031000@kerrcountylead.com
SUMMARY:Stroke Support Group
DESCRIPTION:
URL:https://kerrcountylead.com/event/stroke-support-group-10/
LOCATION:Peterson Hospice and Home Care Building\, 250 Cully Dr\, Kerrville\, TX\, 78028
CATEGORIES:Outreach groups
END:VEVENT
END:VCALENDAR