BEGIN:VCALENDAR
VERSION:2.0
PRODID:-//The Kerr County Lead - ECPv6.15.17.1//NONSGML v1.0//EN
CALSCALE:GREGORIAN
METHOD:PUBLISH
X-ORIGINAL-URL:https://kerrcountylead.com
X-WR-CALDESC:Events for The Kerr County Lead
REFRESH-INTERVAL;VALUE=DURATION:PT1H
X-Robots-Tag:noindex
X-PUBLISHED-TTL:PT1H
BEGIN:VTIMEZONE
TZID:America/Chicago
BEGIN:DAYLIGHT
TZOFFSETFROM:-0600
TZOFFSETTO:-0500
TZNAME:CDT
DTSTART:20250309T080000
END:DAYLIGHT
BEGIN:STANDARD
TZOFFSETFROM:-0500
TZOFFSETTO:-0600
TZNAME:CST
DTSTART:20251102T070000
END:STANDARD
BEGIN:DAYLIGHT
TZOFFSETFROM:-0600
TZOFFSETTO:-0500
TZNAME:CDT
DTSTART:20260308T080000
END:DAYLIGHT
BEGIN:STANDARD
TZOFFSETFROM:-0500
TZOFFSETTO:-0600
TZNAME:CST
DTSTART:20261101T070000
END:STANDARD
BEGIN:DAYLIGHT
TZOFFSETFROM:-0600
TZOFFSETTO:-0500
TZNAME:CDT
DTSTART:20270314T080000
END:DAYLIGHT
BEGIN:STANDARD
TZOFFSETFROM:-0500
TZOFFSETTO:-0600
TZNAME:CST
DTSTART:20271107T070000
END:STANDARD
END:VTIMEZONE
BEGIN:VEVENT
DTSTART;TZID=America/Chicago:20260207T090000
DTEND;TZID=America/Chicago:20260207T090000
DTSTAMP:20260421T091337
CREATED:20260202T023510Z
LAST-MODIFIED:20260202T023510Z
UID:88248-1770454800-1770454800@kerrcountylead.com
SUMMARY:SU Tennis vs Howard Payne
DESCRIPTION:
URL:https://kerrcountylead.com/event/su-tennis-vs-howard-payne/
LOCATION:Schreiner University\, 2100 Memorial Blvd\, Kerrville\, Texas\, 78028
CATEGORIES:College sports
END:VEVENT
BEGIN:VEVENT
DTSTART;TZID=America/Chicago:20260207T090000
DTEND;TZID=America/Chicago:20260207T100000
DTSTAMP:20260421T091337
CREATED:20260202T023119Z
LAST-MODIFIED:20260202T023119Z
UID:88240-1770454800-1770458400@kerrcountylead.com
SUMMARY:Pancakes & Princesses
DESCRIPTION:
URL:https://kerrcountylead.com/event/pancakes-princesses-2/
LOCATION:Cafe at the Ridge\, 13439 S. Ranch Road 783\, Kerrville\, Texas\, 78028
END:VEVENT
BEGIN:VEVENT
DTSTART;TZID=America/Chicago:20260207T090000
DTEND;TZID=America/Chicago:20260207T130000
DTSTAMP:20260421T091337
CREATED:20260202T020716Z
LAST-MODIFIED:20260202T020716Z
UID:88234-1770454800-1770469200@kerrcountylead.com
SUMMARY:Hill Country Heritage Farmers Market
DESCRIPTION:
URL:https://kerrcountylead.com/event/hill-country-heritage-farmers-market-32/
LOCATION:Parking Lot @ 5 Points\, 301 Junction Hwy\, Kerrville\, TX\, 78028
CATEGORIES:Markets
END:VEVENT
BEGIN:VEVENT
DTSTART;TZID=America/Chicago:20260207T090000
DTEND;TZID=America/Chicago:20260207T130000
DTSTAMP:20260421T091337
CREATED:20260202T021106Z
LAST-MODIFIED:20260202T021106Z
UID:88238-1770454800-1770469200@kerrcountylead.com
SUMMARY:Heart of the Hills Farmers Market
DESCRIPTION:
URL:https://kerrcountylead.com/event/heart-of-the-hills-farmers-market-31/
LOCATION:Parking Lot @ 741 Water St\, 741 Water St\, Kerrville\, TX\, 78028
CATEGORIES:Markets
END:VEVENT
BEGIN:VEVENT
DTSTART;TZID=America/Chicago:20260207T093000
DTEND;TZID=America/Chicago:20260207T123000
DTSTAMP:20260421T091337
CREATED:20260202T024452Z
LAST-MODIFIED:20260202T024452Z
UID:88258-1770456600-1770467400@kerrcountylead.com
SUMMARY:Weaving on a Frame Loom
DESCRIPTION:For more info\, click here.
URL:https://kerrcountylead.com/event/weaving-on-a-frame-loom/
LOCATION:The Rogue Skein\, 1013 Main St\, Kerrville\, TX\, 78028
CATEGORIES:Crafts
END:VEVENT
BEGIN:VEVENT
DTSTART;TZID=America/Chicago:20260207T093000
DTEND;TZID=America/Chicago:20260207T123000
DTSTAMP:20260421T091337
CREATED:20260206T185728Z
LAST-MODIFIED:20260206T185728Z
UID:88368-1770456600-1770467400@kerrcountylead.com
SUMMARY:Life Drawing
DESCRIPTION:Join Saturday mornings for Life Drawing with local artists. No instruction. Drop-in (no registration)\, $15 per session. The first Saturday of the month is a long pose\, costumed figure\, which is open to teens. For more info\, click here.
URL:https://kerrcountylead.com/event/life-drawing/
LOCATION:Hill Country Atelier\, 741 Water St\, Ste 104\, Kerrville\, TX\, 78028
CATEGORIES:The arts
END:VEVENT
BEGIN:VEVENT
DTSTART;TZID=America/Chicago:20260207T100000
DTEND;TZID=America/Chicago:20260207T100000
DTSTAMP:20260421T091337
CREATED:20260202T024638Z
LAST-MODIFIED:20260202T024638Z
UID:88260-1770458400-1770458400@kerrcountylead.com
SUMMARY:Handmade Paper Workshop
DESCRIPTION:
URL:https://kerrcountylead.com/event/handmade-paper-workshop/
LOCATION:Kerr Arts & Cultural Center\, 228 Earl Garrett St.\, Kerrville\, Texas\, 78028
CATEGORIES:Crafts
END:VEVENT
BEGIN:VEVENT
DTSTART;TZID=America/Chicago:20260207T100000
DTEND;TZID=America/Chicago:20260207T120000
DTSTAMP:20260421T091337
CREATED:20260202T023321Z
LAST-MODIFIED:20260202T023321Z
UID:88244-1770458400-1770465600@kerrcountylead.com
SUMMARY:Riverside Rangers
DESCRIPTION:Junior naturalists (ages 8-12) explore nature through science and art. For more info and to register\, click here.
URL:https://kerrcountylead.com/event/riverside-rangers-7/
LOCATION:Riverside Nature Center\, 150 Francisco Lemos St\, Kerrville\, Texas\, 78028
CATEGORIES:Science and nature
END:VEVENT
BEGIN:VEVENT
DTSTART;TZID=America/Chicago:20260207T103000
DTEND;TZID=America/Chicago:20260207T113000
DTSTAMP:20260421T091337
CREATED:20260202T023211Z
LAST-MODIFIED:20260202T023211Z
UID:88242-1770460200-1770463800@kerrcountylead.com
SUMMARY:Pancakes & Princesses
DESCRIPTION:
URL:https://kerrcountylead.com/event/pancakes-princesses-3/
LOCATION:Cafe at the Ridge\, 13439 S. Ranch Road 783\, Kerrville\, Texas\, 78028
END:VEVENT
BEGIN:VEVENT
DTSTART;TZID=America/Chicago:20260207T103000
DTEND;TZID=America/Chicago:20260207T113000
DTSTAMP:20260421T091337
CREATED:20260202T024348Z
LAST-MODIFIED:20260202T024348Z
UID:88256-1770460200-1770463800@kerrcountylead.com
SUMMARY:Adult Yoga with Humbling Bloom
DESCRIPTION:
URL:https://kerrcountylead.com/event/adult-yoga-with-humbling-bloom-4/
LOCATION:Butt-Holdsworth Memorial Library\, 505 Water St.\, Kerrville\, Texas\, 78028
CATEGORIES:Library event,Wellness
END:VEVENT
BEGIN:VEVENT
DTSTART;TZID=America/Chicago:20260207T120000
DTEND;TZID=America/Chicago:20260207T140000
DTSTAMP:20260421T091337
CREATED:20260202T024735Z
LAST-MODIFIED:20260202T024735Z
UID:88262-1770465600-1770472800@kerrcountylead.com
SUMMARY:Charcuterie Tray Workshop
DESCRIPTION:
URL:https://kerrcountylead.com/event/charcuterie-tray-workshop/
LOCATION:The Color of Clay\, 93 Coronado Drive N Ste 2\, Kerrville\, TX\, 78028
CATEGORIES:Crafts
END:VEVENT
BEGIN:VEVENT
DTSTART;TZID=America/Chicago:20260207T120000
DTEND;TZID=America/Chicago:20260207T220000
DTSTAMP:20260421T091337
CREATED:20260202T025323Z
LAST-MODIFIED:20260202T025323Z
UID:88272-1770465600-1770501600@kerrcountylead.com
SUMMARY:Galentine’s Day
DESCRIPTION:
URL:https://kerrcountylead.com/event/galentines-day-3/
LOCATION:Off Main Brewing\, 703 Water St\, Kerrville\, TX\, 78028
END:VEVENT
BEGIN:VEVENT
DTSTART;TZID=America/Chicago:20260207T123000
DTEND;TZID=America/Chicago:20260207T163000
DTSTAMP:20260421T091337
CREATED:20260202T024901Z
LAST-MODIFIED:20260202T024901Z
UID:88264-1770467400-1770481800@kerrcountylead.com
SUMMARY:Intro to Weaving
DESCRIPTION:For more info\, click here.
URL:https://kerrcountylead.com/event/intro-to-weaving/
LOCATION:The Rogue Skein\, 1013 Main St\, Kerrville\, TX\, 78028
CATEGORIES:Crafts
END:VEVENT
BEGIN:VEVENT
DTSTART;TZID=America/Chicago:20260207T130000
DTEND;TZID=America/Chicago:20260207T130000
DTSTAMP:20260421T091337
CREATED:20260202T023630Z
LAST-MODIFIED:20260202T023630Z
UID:88250-1770469200-1770469200@kerrcountylead.com
SUMMARY:SU Softball vs Mary Hardin-Baylor
DESCRIPTION:
URL:https://kerrcountylead.com/event/su-softball-vs-mary-hardin-baylor/
LOCATION:Schreiner University\, 2100 Memorial Blvd\, Kerrville\, Texas\, 78028
CATEGORIES:College sports
END:VEVENT
BEGIN:VEVENT
DTSTART;TZID=America/Chicago:20260207T130000
DTEND;TZID=America/Chicago:20260207T160000
DTSTAMP:20260421T091337
CREATED:20260202T025017Z
LAST-MODIFIED:20260202T025017Z
UID:88266-1770469200-1770480000@kerrcountylead.com
SUMMARY:Wet Felting Class: Poppies
DESCRIPTION:For more info\, click here.
URL:https://kerrcountylead.com/event/wet-felting-class-poppies/
LOCATION:The Rogue Skein\, 1013 Main St\, Kerrville\, TX\, 78028
CATEGORIES:Crafts
END:VEVENT
BEGIN:VEVENT
DTSTART;TZID=America/Chicago:20260207T133000
DTEND;TZID=America/Chicago:20260207T163000
DTSTAMP:20260421T091337
CREATED:20260202T025121Z
LAST-MODIFIED:20260202T025121Z
UID:88268-1770471000-1770481800@kerrcountylead.com
SUMMARY:Beginner Weaving
DESCRIPTION:For more info\, click here.
URL:https://kerrcountylead.com/event/beginner-weaving-10/
LOCATION:The Rogue Skein\, 1013 Main St\, Kerrville\, TX\, 78028
CATEGORIES:Crafts
END:VEVENT
BEGIN:VEVENT
DTSTART;TZID=America/Chicago:20260207T143000
DTEND;TZID=America/Chicago:20260207T173000
DTSTAMP:20260421T091337
CREATED:20260202T025734Z
LAST-MODIFIED:20260202T025734Z
UID:88280-1770474600-1770485400@kerrcountylead.com
SUMMARY:Jojo Fire
DESCRIPTION:
URL:https://kerrcountylead.com/event/jojo-fire-9/
LOCATION:Turtle Creek Vineyard\, 183 Fall Creek Rd\, Kerrville\, TX\, 78028
CATEGORIES:Live music
END:VEVENT
BEGIN:VEVENT
DTSTART;TZID=America/Chicago:20260207T150000
DTEND;TZID=America/Chicago:20260207T150000
DTSTAMP:20260421T091337
CREATED:20260202T023407Z
LAST-MODIFIED:20260202T023407Z
UID:88246-1770476400-1770476400@kerrcountylead.com
SUMMARY:Movie: The Land Before Time
DESCRIPTION:
URL:https://kerrcountylead.com/event/movie-the-land-before-time/
LOCATION:The Arcadia Live\, 717 Water St\, Kerrville\, TX\, 78028\, United States
END:VEVENT
BEGIN:VEVENT
DTSTART;TZID=America/Chicago:20260207T153000
DTEND;TZID=America/Chicago:20260207T153000
DTSTAMP:20260421T091337
CREATED:20260202T023723Z
LAST-MODIFIED:20260202T023723Z
UID:88252-1770478200-1770478200@kerrcountylead.com
SUMMARY:SU Softball vs Mary Hardin-Baylor
DESCRIPTION:
URL:https://kerrcountylead.com/event/su-softball-vs-mary-hardin-baylor-2/
LOCATION:Schreiner University\, 2100 Memorial Blvd\, Kerrville\, Texas\, 78028
CATEGORIES:College sports
END:VEVENT
BEGIN:VEVENT
DTSTART;TZID=America/Chicago:20260207T160000
DTEND;TZID=America/Chicago:20260207T160000
DTSTAMP:20260421T091337
CREATED:20260202T023826Z
LAST-MODIFIED:20260202T023826Z
UID:88254-1770480000-1770480000@kerrcountylead.com
SUMMARY:SU Tennis vs St Mary’s
DESCRIPTION:
URL:https://kerrcountylead.com/event/su-tennis-vs-st-marys/
LOCATION:Schreiner University\, 2100 Memorial Blvd\, Kerrville\, Texas\, 78028
CATEGORIES:College sports
END:VEVENT
BEGIN:VEVENT
DTSTART;TZID=America/Chicago:20260207T160000
DTEND;TZID=America/Chicago:20260207T200000
DTSTAMP:20260421T091337
CREATED:20260202T025225Z
LAST-MODIFIED:20260202T025225Z
UID:88270-1770480000-1770494400@kerrcountylead.com
SUMMARY:Social Gathering
DESCRIPTION:For more info\, click here.
URL:https://kerrcountylead.com/event/social-gathering-15/
LOCATION:The Rogue Skein\, 1013 Main St\, Kerrville\, TX\, 78028
CATEGORIES:Crafts
END:VEVENT
BEGIN:VEVENT
DTSTART;TZID=America/Chicago:20260207T170000
DTEND;TZID=America/Chicago:20260207T170000
DTSTAMP:20260421T091337
CREATED:20260202T025437Z
LAST-MODIFIED:20260202T025437Z
UID:88274-1770483600-1770483600@kerrcountylead.com
SUMMARY:Someone Special Dance
DESCRIPTION:
URL:https://kerrcountylead.com/event/someone-special-dance/
LOCATION:Hill Country Youth Event Center\, 3785 TX 27\, Kerrville\, Texas\, 78028
CATEGORIES:Celebration
END:VEVENT
BEGIN:VEVENT
DTSTART;TZID=America/Chicago:20260207T170000
DTEND;TZID=America/Chicago:20260207T190000
DTSTAMP:20260421T091337
CREATED:20260202T025610Z
LAST-MODIFIED:20260202T025610Z
UID:88276-1770483600-1770490800@kerrcountylead.com
SUMMARY:Center Point Lions Club Spaghetti Supper
DESCRIPTION:In the CPISD Cafeteria.
URL:https://kerrcountylead.com/event/center-point-lions-club-spaghetti-supper/
LOCATION:Center Point ISD\, 215 China St\, Center Point\, TX\, 78010
CATEGORIES:Fundraiser
END:VEVENT
BEGIN:VEVENT
DTSTART;TZID=America/Chicago:20260207T180000
DTEND;TZID=America/Chicago:20260207T210000
DTSTAMP:20260421T091337
CREATED:20260202T025917Z
LAST-MODIFIED:20260202T025917Z
UID:88284-1770487200-1770498000@kerrcountylead.com
SUMMARY:Train Wreck Shipping Company
DESCRIPTION:
URL:https://kerrcountylead.com/event/train-wreck-shipping-company-6/
LOCATION:Cafe at the Ridge\, 13439 S. Ranch Road 783\, Kerrville\, Texas\, 78028
CATEGORIES:Live music
END:VEVENT
BEGIN:VEVENT
DTSTART;TZID=America/Chicago:20260207T190000
DTEND;TZID=America/Chicago:20260207T220000
DTSTAMP:20260421T091337
CREATED:20260206T192156Z
LAST-MODIFIED:20260206T192156Z
UID:88385-1770490800-1770501600@kerrcountylead.com
SUMMARY:Tres Amigos
DESCRIPTION:
URL:https://kerrcountylead.com/event/tres-amigos-8/
LOCATION:Howdy’s Bar & Chill\, 101 Rowland Dr\, Kerrville\, TX\, 78028
CATEGORIES:Live music
END:VEVENT
BEGIN:VEVENT
DTSTART;TZID=America/Chicago:20260207T190000
DTEND;TZID=America/Chicago:20260207T220000
DTSTAMP:20260421T091337
CREATED:20260206T193144Z
LAST-MODIFIED:20260206T193144Z
UID:88389-1770490800-1770501600@kerrcountylead.com
SUMMARY:In Six Days
DESCRIPTION:
URL:https://kerrcountylead.com/event/in-six-days-8/
LOCATION:Elm Waterhole Saloon at the YO Hotel\, 2033 Sidney Baker St\, Kerrville\, Texas\, 78029
CATEGORIES:Live music
END:VEVENT
BEGIN:VEVENT
DTSTART;TZID=America/Chicago:20260208T120000
DTEND;TZID=America/Chicago:20260208T120000
DTSTAMP:20260421T091337
CREATED:20260202T030339Z
LAST-MODIFIED:20260202T030339Z
UID:88292-1770552000-1770552000@kerrcountylead.com
SUMMARY:Men’s Basketball vs Colorado College
DESCRIPTION:
URL:https://kerrcountylead.com/event/mens-basketball-vs-colorado-college/
LOCATION:Schreiner University\, 2100 Memorial Blvd\, Kerrville\, Texas\, 78028
CATEGORIES:College sports
END:VEVENT
BEGIN:VEVENT
DTSTART;TZID=America/Chicago:20260208T130000
DTEND;TZID=America/Chicago:20260208T130000
DTSTAMP:20260421T091337
CREATED:20260206T190618Z
LAST-MODIFIED:20260206T190618Z
UID:88376-1770555600-1770555600@kerrcountylead.com
SUMMARY:Shane Stumpf
DESCRIPTION:
URL:https://kerrcountylead.com/event/shane-stumpf-4/
LOCATION:Gravity Check Saloon\, 3979 Bandera Hwy 173\, Kerrville\, TX\, 78028\, United States
CATEGORIES:Live music
END:VEVENT
BEGIN:VEVENT
DTSTART;TZID=America/Chicago:20260208T140000
DTEND;TZID=America/Chicago:20260208T140000
DTSTAMP:20260421T091337
CREATED:20260202T030445Z
LAST-MODIFIED:20260202T030445Z
UID:88294-1770559200-1770559200@kerrcountylead.com
SUMMARY:Women’s Basketball vs Colorado College
DESCRIPTION:
URL:https://kerrcountylead.com/event/womens-basketball-vs-colorado-college/
LOCATION:Schreiner University\, 2100 Memorial Blvd\, Kerrville\, Texas\, 78028
CATEGORIES:College sports
END:VEVENT
BEGIN:VEVENT
DTSTART;TZID=America/Chicago:20260208T143000
DTEND;TZID=America/Chicago:20260208T173000
DTSTAMP:20260421T091337
CREATED:20260202T030531Z
LAST-MODIFIED:20260202T030531Z
UID:88296-1770561000-1770571800@kerrcountylead.com
SUMMARY:Steve Garry
DESCRIPTION:
URL:https://kerrcountylead.com/event/steve-garry-11/
LOCATION:Turtle Creek Vineyard\, 183 Fall Creek Rd\, Kerrville\, TX\, 78028
CATEGORIES:Live music
END:VEVENT
END:VCALENDAR