BEGIN:VCALENDAR
VERSION:2.0
PRODID:-//The Kerr County Lead - ECPv6.15.17.1//NONSGML v1.0//EN
CALSCALE:GREGORIAN
METHOD:PUBLISH
X-ORIGINAL-URL:https://kerrcountylead.com
X-WR-CALDESC:Events for The Kerr County Lead
REFRESH-INTERVAL;VALUE=DURATION:PT1H
X-Robots-Tag:noindex
X-PUBLISHED-TTL:PT1H
BEGIN:VTIMEZONE
TZID:America/Chicago
BEGIN:DAYLIGHT
TZOFFSETFROM:-0600
TZOFFSETTO:-0500
TZNAME:CDT
DTSTART:20240310T080000
END:DAYLIGHT
BEGIN:STANDARD
TZOFFSETFROM:-0500
TZOFFSETTO:-0600
TZNAME:CST
DTSTART:20241103T070000
END:STANDARD
BEGIN:DAYLIGHT
TZOFFSETFROM:-0600
TZOFFSETTO:-0500
TZNAME:CDT
DTSTART:20250309T080000
END:DAYLIGHT
BEGIN:STANDARD
TZOFFSETFROM:-0500
TZOFFSETTO:-0600
TZNAME:CST
DTSTART:20251102T070000
END:STANDARD
BEGIN:DAYLIGHT
TZOFFSETFROM:-0600
TZOFFSETTO:-0500
TZNAME:CDT
DTSTART:20260308T080000
END:DAYLIGHT
BEGIN:STANDARD
TZOFFSETFROM:-0500
TZOFFSETTO:-0600
TZNAME:CST
DTSTART:20261101T070000
END:STANDARD
END:VTIMEZONE
BEGIN:VEVENT
DTSTART;TZID=America/Chicago:20251010T100000
DTEND;TZID=America/Chicago:20251010T160000
DTSTAMP:20260425T122221
CREATED:20250824T180625Z
LAST-MODIFIED:20250824T180625Z
UID:76469-1760090400-1760112000@kerrcountylead.com
SUMMARY:Autumn Fall Decor Retreat
DESCRIPTION:October 9-11\, 10am-4pm. With Andrea Rummel. For more info and to register\, click here.
URL:https://kerrcountylead.com/event/autumn-fall-decor-retreat-2/
LOCATION:Hill Country Arts Foundation\, 120 Point Theatre Rd S\, Ingram\, Texas\, 78025
CATEGORIES:Crafts,The arts,Workshop
END:VEVENT
BEGIN:VEVENT
DTSTART;TZID=America/Chicago:20251010T100000
DTEND;TZID=America/Chicago:20251010T160000
DTSTAMP:20260425T122221
CREATED:20251005T212626Z
LAST-MODIFIED:20251005T212626Z
UID:79742-1760090400-1760112000@kerrcountylead.com
SUMMARY:American Landscape
DESCRIPTION:Sept 12-Oct 24. HCAF Annual Juried Exhibit.
URL:https://kerrcountylead.com/event/american-landscape-8/
LOCATION:Hill Country Arts Foundation\, 120 Point Theatre Rd S\, Ingram\, Texas\, 78025
CATEGORIES:The arts
END:VEVENT
BEGIN:VEVENT
DTSTART;TZID=America/Chicago:20251010T100000
DTEND;TZID=America/Chicago:20251010T160000
DTSTAMP:20260425T122221
CREATED:20251005T214159Z
LAST-MODIFIED:20251005T214159Z
UID:79778-1760090400-1760112000@kerrcountylead.com
SUMMARY:Walt Gonske: The Church Series
DESCRIPTION:
URL:https://kerrcountylead.com/event/walt-gonske-the-church-series-8/
LOCATION:Museum of Western Art\, 1550 Bandera Hwy.\, Kerrville\, Texas\, 78028
CATEGORIES:The arts
END:VEVENT
BEGIN:VEVENT
DTSTART;TZID=America/Chicago:20251010T100000
DTEND;TZID=America/Chicago:20251010T160000
DTSTAMP:20260425T122221
CREATED:20251005T220557Z
LAST-MODIFIED:20251005T220557Z
UID:79836-1760090400-1760112000@kerrcountylead.com
SUMMARY:KACC Exhibits
DESCRIPTION:Sept 23-Oct 18. Phyllis & Doug Garey\, Hardy Lewis\, and Tony Schaub.
URL:https://kerrcountylead.com/event/kacc-exhibits-55/
LOCATION:Kerr Arts & Cultural Center\, 228 Earl Garrett St.\, Kerrville\, Texas\, 78028
CATEGORIES:The arts
END:VEVENT
BEGIN:VEVENT
DTSTART;TZID=America/Chicago:20251010T120000
DTEND;TZID=America/Chicago:20251010T140000
DTSTAMP:20260425T122221
CREATED:20251005T230350Z
LAST-MODIFIED:20251005T230350Z
UID:79907-1760097600-1760104800@kerrcountylead.com
SUMMARY:Senior Lunch & Bingo
DESCRIPTION:
URL:https://kerrcountylead.com/event/senior-lunch-bingo-11/
LOCATION:Doyle Community Center\, 110 W. Barnett St.\, Kerrville\, Texas\, 78028
CATEGORIES:Games
END:VEVENT
BEGIN:VEVENT
DTSTART;TZID=America/Chicago:20251010T150000
DTEND;TZID=America/Chicago:20251010T160000
DTSTAMP:20260425T122221
CREATED:20251005T230600Z
LAST-MODIFIED:20251005T230600Z
UID:79911-1760108400-1760112000@kerrcountylead.com
SUMMARY:Tech Help Friday
DESCRIPTION: 
URL:https://kerrcountylead.com/event/tech-help-friday-2/
LOCATION:Butt-Holdsworth Memorial Library\, 505 Water St.\, Kerrville\, Texas\, 78028
CATEGORIES:Library event
END:VEVENT
BEGIN:VEVENT
DTSTART;TZID=America/Chicago:20251010T163000
DTEND;TZID=America/Chicago:20251010T163000
DTSTAMP:20260425T122221
CREATED:20250905T223414Z
LAST-MODIFIED:20250905T223414Z
UID:77463-1760113800-1760113800@kerrcountylead.com
SUMMARY:Ingram Tom Moore Volleyball vs Florence
DESCRIPTION:
URL:https://kerrcountylead.com/event/ingram-tom-moore-volleyball-vs-florence/
LOCATION:Ingram High School\, 510 TX 39\, Ingram\, TX\, 78025
CATEGORIES:High School Sports
END:VEVENT
BEGIN:VEVENT
DTSTART;TZID=America/Chicago:20251010T170000
DTEND;TZID=America/Chicago:20251010T200000
DTSTAMP:20260425T122221
CREATED:20251010T174255Z
LAST-MODIFIED:20251010T174255Z
UID:80401-1760115600-1760126400@kerrcountylead.com
SUMMARY:In Six Days
DESCRIPTION:
URL:https://kerrcountylead.com/event/in-six-days-2/
LOCATION:Turtle Creek Vineyard\, 183 Fall Creek Rd\, Kerrville\, TX\, 78028
CATEGORIES:Live music
END:VEVENT
BEGIN:VEVENT
DTSTART;TZID=America/Chicago:20251010T180000
DTEND;TZID=America/Chicago:20251010T200000
DTSTAMP:20260425T122221
CREATED:20251005T230811Z
LAST-MODIFIED:20251005T230811Z
UID:79915-1760119200-1760126400@kerrcountylead.com
SUMMARY:Blue Jay Way
DESCRIPTION:
URL:https://kerrcountylead.com/event/blue-jay-way/
LOCATION:Pint & Plow Brewing Co.\, 332 Clay St\, Kerrville\, Texas\, 78028
CATEGORIES:Live music
END:VEVENT
BEGIN:VEVENT
DTSTART;TZID=America/Chicago:20251010T180000
DTEND;TZID=America/Chicago:20251010T210000
DTSTAMP:20260425T122221
CREATED:20250906T015502Z
LAST-MODIFIED:20250906T015502Z
UID:77528-1760119200-1760130000@kerrcountylead.com
SUMMARY:The Limestoners
DESCRIPTION:
URL:https://kerrcountylead.com/event/the-limestoners-18/
LOCATION:Truffles & Vines\, 321 TX 39\, Ingram\, TX\, 78025
CATEGORIES:Live music
END:VEVENT
BEGIN:VEVENT
DTSTART;TZID=America/Chicago:20251010T180000
DTEND;TZID=America/Chicago:20251010T210000
DTSTAMP:20260425T122221
CREATED:20251005T230907Z
LAST-MODIFIED:20251005T230907Z
UID:79917-1760119200-1760130000@kerrcountylead.com
SUMMARY:Stan Morris
DESCRIPTION:
URL:https://kerrcountylead.com/event/stan-morris/
LOCATION:Cafe at the Ridge\, 13439 S. Ranch Road 783\, Kerrville\, Texas\, 78028
CATEGORIES:Live music
END:VEVENT
BEGIN:VEVENT
DTSTART;TZID=America/Chicago:20251010T190000
DTEND;TZID=America/Chicago:20251010T220000
DTSTAMP:20260425T122221
CREATED:20251005T231101Z
LAST-MODIFIED:20251005T231101Z
UID:79921-1760122800-1760133600@kerrcountylead.com
SUMMARY:The Flashbacks
DESCRIPTION:
URL:https://kerrcountylead.com/event/the-flashbacks/
LOCATION:Elm Waterhole Saloon at the YO Hotel\, 2033 Sidney Baker St\, Kerrville\, Texas\, 78029
CATEGORIES:Live music
END:VEVENT
BEGIN:VEVENT
DTSTART;TZID=America/Chicago:20251010T190000
DTEND;TZID=America/Chicago:20251010T230000
DTSTAMP:20260425T122221
CREATED:20251005T230438Z
LAST-MODIFIED:20251005T230438Z
UID:79909-1760122800-1760137200@kerrcountylead.com
SUMMARY:Game Night
DESCRIPTION:
URL:https://kerrcountylead.com/event/game-night/
LOCATION:Doyle Community Center\, 110 W. Barnett St.\, Kerrville\, Texas\, 78028
CATEGORIES:Games
END:VEVENT
BEGIN:VEVENT
DTSTART;TZID=America/Chicago:20251011T080000
DTEND;TZID=America/Chicago:20251011T080000
DTSTAMP:20260425T122221
CREATED:20251005T231612Z
LAST-MODIFIED:20251009T221233Z
UID:79927-1760169600-1760169600@kerrcountylead.com
SUMMARY:Kerrville Walking Group
DESCRIPTION:Location: Eagle Ridge Road. Join the KWG on Saturday mornings for nature walks. Most routes are 2-4 miles. Visit website for exact meeting location and further details.
URL:https://kerrcountylead.com/event/kerrville-walking-group-67/
LOCATION:Various Locations
CATEGORIES:Outdoor activities
END:VEVENT
BEGIN:VEVENT
DTSTART;TZID=America/Chicago:20251011T090000
DTEND;TZID=America/Chicago:20251011T090000
DTSTAMP:20260425T122221
CREATED:20251005T231808Z
LAST-MODIFIED:20251005T231808Z
UID:79929-1760173200-1760173200@kerrcountylead.com
SUMMARY:The Big 3K
DESCRIPTION: For more info\, click here.
URL:https://kerrcountylead.com/event/the-big-3k/
LOCATION:Schreiner University\, 2100 Memorial Blvd\, Kerrville\, Texas\, 78028
END:VEVENT
BEGIN:VEVENT
DTSTART;TZID=America/Chicago:20251011T090000
DTEND;TZID=America/Chicago:20251011T130000
DTSTAMP:20260425T122221
CREATED:20251005T232054Z
LAST-MODIFIED:20251005T232054Z
UID:79933-1760173200-1760187600@kerrcountylead.com
SUMMARY:Hill Country Heritage Farmers Market
DESCRIPTION:
URL:https://kerrcountylead.com/event/hill-country-heritage-farmers-market-17/
LOCATION:Parking Lot @ 5 Points\, 301 Junction Hwy\, Kerrville\, TX\, 78028
CATEGORIES:Markets
END:VEVENT
BEGIN:VEVENT
DTSTART;TZID=America/Chicago:20251011T090000
DTEND;TZID=America/Chicago:20251011T130000
DTSTAMP:20260425T122221
CREATED:20251005T232204Z
LAST-MODIFIED:20251005T232204Z
UID:79935-1760173200-1760187600@kerrcountylead.com
SUMMARY:Heart of the Hills Farmers Market
DESCRIPTION:
URL:https://kerrcountylead.com/event/heart-of-the-hills-farmers-market-17/
LOCATION:Parking Lot @ 741 Water St\, 741 Water St\, Kerrville\, TX\, 78028
CATEGORIES:Markets
END:VEVENT
BEGIN:VEVENT
DTSTART;TZID=America/Chicago:20251011T090000
DTEND;TZID=America/Chicago:20251011T160000
DTSTAMP:20260425T122221
CREATED:20250818T005352Z
LAST-MODIFIED:20250824T172931Z
UID:75837-1760173200-1760198400@kerrcountylead.com
SUMMARY:Rise & Rebuild: Kerr Kids Day of Play
DESCRIPTION:9am & 2pm. Ages 5 and under from 9-11am and ages 6 and up from 2pm-4pm. Bringing community together for healing through music and entertainment. For complimentary tickets\, click here.
URL:https://kerrcountylead.com/event/rise-rebuild-kerr-kids-day-of-play/
LOCATION:The Arcadia Live\, 717 Water St\, Kerrville\, TX\, 78028\, United States
END:VEVENT
BEGIN:VEVENT
DTSTART;TZID=America/Chicago:20251011T090000
DTEND;TZID=America/Chicago:20251011T160000
DTSTAMP:20260425T122221
CREATED:20251005T165038Z
LAST-MODIFIED:20251005T165038Z
UID:79652-1760173200-1760198400@kerrcountylead.com
SUMMARY:Buttons & Bows Bazaar
DESCRIPTION:
URL:https://kerrcountylead.com/event/buttons-bows-bazaar/
LOCATION:First Christian Church\, 1900 Goat Creek Parkway\, Kerrville\, TX\, 78028
CATEGORIES:Markets
END:VEVENT
BEGIN:VEVENT
DTSTART;TZID=America/Chicago:20251011T100000
DTEND;TZID=America/Chicago:20251011T100000
DTSTAMP:20260425T122221
CREATED:20251005T163617Z
LAST-MODIFIED:20251005T163617Z
UID:79650-1760176800-1760176800@kerrcountylead.com
SUMMARY:League of Women Voters Meeting
DESCRIPTION:Free and open to the public. To attend via Zoom\, email president@lwvhillcountrytexas.org.
URL:https://kerrcountylead.com/event/league-of-women-voters-meeting/
LOCATION:Riverside Nature Center\, 150 Francisco Lemos St\, Kerrville\, Texas\, 78028
CATEGORIES:Community meeting
END:VEVENT
BEGIN:VEVENT
DTSTART;TZID=America/Chicago:20251011T100000
DTEND;TZID=America/Chicago:20251011T130000
DTSTAMP:20260425T122221
CREATED:20251010T172044Z
LAST-MODIFIED:20251010T172044Z
UID:80394-1760176800-1760187600@kerrcountylead.com
SUMMARY:KPUB Bucket Rides
DESCRIPTION:
URL:https://kerrcountylead.com/event/kpub-bucket-rides-2/
LOCATION:Louise Hays Park\, 202 Thompson Dr\, Kerrville\, Texas\, 78028
END:VEVENT
BEGIN:VEVENT
DTSTART;TZID=America/Chicago:20251011T100000
DTEND;TZID=America/Chicago:20251011T140000
DTSTAMP:20260425T122221
CREATED:20251005T212738Z
LAST-MODIFIED:20251005T213300Z
UID:79744-1760176800-1760191200@kerrcountylead.com
SUMMARY:American Landscape
DESCRIPTION:Sept 12-Oct 24. HCAF Annual Juried Exhibit.
URL:https://kerrcountylead.com/event/american-landscape-9/
LOCATION:Hill Country Arts Foundation\, 120 Point Theatre Rd S\, Ingram\, Texas\, 78025
CATEGORIES:The arts
END:VEVENT
BEGIN:VEVENT
DTSTART;TZID=America/Chicago:20251011T100000
DTEND;TZID=America/Chicago:20251011T140000
DTSTAMP:20260425T122221
CREATED:20251005T232956Z
LAST-MODIFIED:20251005T232956Z
UID:79945-1760176800-1760191200@kerrcountylead.com
SUMMARY:Kids Craft Day
DESCRIPTION:Theme: Leaves & Things.
URL:https://kerrcountylead.com/event/kids-craft-day/
LOCATION:Museum of Western Art\, 1550 Bandera Hwy.\, Kerrville\, Texas\, 78028
CATEGORIES:Crafts
END:VEVENT
BEGIN:VEVENT
DTSTART;TZID=America/Chicago:20251011T100000
DTEND;TZID=America/Chicago:20251011T160000
DTSTAMP:20260425T122221
CREATED:20250824T180727Z
LAST-MODIFIED:20250824T180727Z
UID:76471-1760176800-1760198400@kerrcountylead.com
SUMMARY:Autumn Fall Decor Retreat
DESCRIPTION:October 9-11\, 10am-4pm. With Andrea Rummel. For more info and to register\, click here.
URL:https://kerrcountylead.com/event/autumn-fall-decor-retreat-3/
LOCATION:Hill Country Arts Foundation\, 120 Point Theatre Rd S\, Ingram\, Texas\, 78025
CATEGORIES:Crafts,The arts,Workshop
END:VEVENT
BEGIN:VEVENT
DTSTART;TZID=America/Chicago:20251011T100000
DTEND;TZID=America/Chicago:20251011T160000
DTSTAMP:20260425T122221
CREATED:20251005T214229Z
LAST-MODIFIED:20251005T214229Z
UID:79780-1760176800-1760198400@kerrcountylead.com
SUMMARY:Walt Gonske: The Church Series
DESCRIPTION:
URL:https://kerrcountylead.com/event/walt-gonske-the-church-series-9/
LOCATION:Museum of Western Art\, 1550 Bandera Hwy.\, Kerrville\, Texas\, 78028
CATEGORIES:The arts
END:VEVENT
BEGIN:VEVENT
DTSTART;TZID=America/Chicago:20251011T100000
DTEND;TZID=America/Chicago:20251011T160000
DTSTAMP:20260425T122221
CREATED:20251005T220633Z
LAST-MODIFIED:20251005T220633Z
UID:79838-1760176800-1760198400@kerrcountylead.com
SUMMARY:KACC Exhibit
DESCRIPTION:Sept 23-Oct 18. Phyllis & Doug Garey\, Hardy Lewis\, and Tony Schaub.
URL:https://kerrcountylead.com/event/kacc-exhibit/
LOCATION:Kerr Arts & Cultural Center\, 228 Earl Garrett St.\, Kerrville\, Texas\, 78028
CATEGORIES:The arts
END:VEVENT
BEGIN:VEVENT
DTSTART;TZID=America/Chicago:20251011T103000
DTEND;TZID=America/Chicago:20251011T113000
DTSTAMP:20260425T122221
CREATED:20251005T232805Z
LAST-MODIFIED:20251005T232805Z
UID:79941-1760178600-1760182200@kerrcountylead.com
SUMMARY:NPSOT: Wildflowers
DESCRIPTION:
URL:https://kerrcountylead.com/event/npsot-wildflowers/
LOCATION:Butt-Holdsworth Memorial Library\, 505 Water St.\, Kerrville\, Texas\, 78028
CATEGORIES:Library event,Science and nature
END:VEVENT
BEGIN:VEVENT
DTSTART;TZID=America/Chicago:20251011T103000
DTEND;TZID=America/Chicago:20251011T143000
DTSTAMP:20260425T122221
CREATED:20251010T172621Z
LAST-MODIFIED:20251010T172621Z
UID:80396-1760178600-1760193000@kerrcountylead.com
SUMMARY:Dig into Archeology
DESCRIPTION:
URL:https://kerrcountylead.com/event/dig-into-archeology/
LOCATION:Frontier Times Museum\, 510 13th St\, Bandera\, TX\, 78003
END:VEVENT
BEGIN:VEVENT
DTSTART;TZID=America/Chicago:20251011T110000
DTEND;TZID=America/Chicago:20251011T110000
DTSTAMP:20260425T122221
CREATED:20251009T220143Z
LAST-MODIFIED:20251009T220143Z
UID:80372-1760180400-1760180400@kerrcountylead.com
SUMMARY:Meditation Group
DESCRIPTION:Michael Wurth\, LPC-S will lead a meditation session.
URL:https://kerrcountylead.com/event/meditation-group-24/
LOCATION:UUCHC\, 960 Barnett St\, Kerrville\, TX\, 78028
CATEGORIES:Wellness
END:VEVENT
BEGIN:VEVENT
DTSTART;TZID=America/Chicago:20251011T110000
DTEND;TZID=America/Chicago:20251011T130000
DTSTAMP:20260425T122221
CREATED:20251005T232324Z
LAST-MODIFIED:20251005T232324Z
UID:79937-1760180400-1760187600@kerrcountylead.com
SUMMARY:Fall Festival
DESCRIPTION:
URL:https://kerrcountylead.com/event/fall-festival-4/
LOCATION:Glory Community Garden\, 200 W Davis St\, Kerrville\, TX\, 78028
END:VEVENT
END:VCALENDAR