BEGIN:VCALENDAR
VERSION:2.0
PRODID:-//The Kerr County Lead - ECPv6.15.17.1//NONSGML v1.0//EN
CALSCALE:GREGORIAN
METHOD:PUBLISH
X-WR-CALNAME:The Kerr County Lead
X-ORIGINAL-URL:https://kerrcountylead.com
X-WR-CALDESC:Events for The Kerr County Lead
REFRESH-INTERVAL;VALUE=DURATION:PT1H
X-Robots-Tag:noindex
X-PUBLISHED-TTL:PT1H
BEGIN:VTIMEZONE
TZID:America/Chicago
BEGIN:DAYLIGHT
TZOFFSETFROM:-0600
TZOFFSETTO:-0500
TZNAME:CDT
DTSTART:20240310T080000
END:DAYLIGHT
BEGIN:STANDARD
TZOFFSETFROM:-0500
TZOFFSETTO:-0600
TZNAME:CST
DTSTART:20241103T070000
END:STANDARD
BEGIN:DAYLIGHT
TZOFFSETFROM:-0600
TZOFFSETTO:-0500
TZNAME:CDT
DTSTART:20250309T080000
END:DAYLIGHT
BEGIN:STANDARD
TZOFFSETFROM:-0500
TZOFFSETTO:-0600
TZNAME:CST
DTSTART:20251102T070000
END:STANDARD
BEGIN:DAYLIGHT
TZOFFSETFROM:-0600
TZOFFSETTO:-0500
TZNAME:CDT
DTSTART:20260308T080000
END:DAYLIGHT
BEGIN:STANDARD
TZOFFSETFROM:-0500
TZOFFSETTO:-0600
TZNAME:CST
DTSTART:20261101T070000
END:STANDARD
END:VTIMEZONE
BEGIN:VEVENT
DTSTART;TZID=America/Chicago:20251211T100000
DTEND;TZID=America/Chicago:20251211T160000
DTSTAMP:20260424T073644
CREATED:20251123T232546Z
LAST-MODIFIED:20251123T232546Z
UID:84378-1765447200-1765468800@kerrcountylead.com
SUMMARY:ArtMart Annual Christmas Showcase
DESCRIPTION:
URL:https://kerrcountylead.com/event/artmart-annual-christmas-showcase-19/
LOCATION:Hill Country Arts Foundation\, 120 Point Theatre Rd S\, Ingram\, Texas\, 78025
CATEGORIES:Markets
END:VEVENT
BEGIN:VEVENT
DTSTART;TZID=America/Chicago:20251211T100000
DTEND;TZID=America/Chicago:20251211T160000
DTSTAMP:20260424T073644
CREATED:20251102T145315Z
LAST-MODIFIED:20251102T145315Z
UID:83009-1765447200-1765468800@kerrcountylead.com
SUMMARY:Texas Furniture Makers Show
DESCRIPTION:
URL:https://kerrcountylead.com/event/texas-furniture-makers-show-89/
LOCATION:Kerr Arts & Cultural Center\, 228 Earl Garrett St.\, Kerrville\, Texas\, 78028
CATEGORIES:The arts
END:VEVENT
BEGIN:VEVENT
DTSTART;TZID=America/Chicago:20251211T100000
DTEND;TZID=America/Chicago:20251211T110000
DTSTAMP:20260424T073644
CREATED:20251207T225236Z
LAST-MODIFIED:20251207T225236Z
UID:85242-1765447200-1765450800@kerrcountylead.com
SUMMARY:Duplo Club
DESCRIPTION:
URL:https://kerrcountylead.com/event/duplo-club-12/
LOCATION:Butt-Holdsworth Memorial Library\, 505 Water St.\, Kerrville\, Texas\, 78028
CATEGORIES:Library event
END:VEVENT
BEGIN:VEVENT
DTSTART;TZID=America/Chicago:20251210T110000
DTEND;TZID=America/Chicago:20251210T140000
DTSTAMP:20260424T073644
CREATED:20251201T020120Z
LAST-MODIFIED:20251201T020120Z
UID:84889-1765364400-1765375200@kerrcountylead.com
SUMMARY:Friends of the Library Book Sale
DESCRIPTION:
URL:https://kerrcountylead.com/event/friends-of-the-library-book-sale-9/
LOCATION:Butt-Holdsworth Memorial Library\, 505 Water St.\, Kerrville\, Texas\, 78028
CATEGORIES:Library event
END:VEVENT
BEGIN:VEVENT
DTSTART;TZID=America/Chicago:20251210T100000
DTEND;TZID=America/Chicago:20251210T160000
DTSTAMP:20260424T073644
CREATED:20251124T003828Z
LAST-MODIFIED:20251124T003828Z
UID:84477-1765360800-1765382400@kerrcountylead.com
SUMMARY:Silver Saddles & The Silver Screen: The Golden Age of Hollywood
DESCRIPTION:
URL:https://kerrcountylead.com/event/silver-saddles-the-silver-screen-the-golden-age-of-hollywood-17/
LOCATION:Museum of Western Art\, 1550 Bandera Hwy.\, Kerrville\, Texas\, 78028
CATEGORIES:The arts
END:VEVENT
BEGIN:VEVENT
DTSTART;TZID=America/Chicago:20251210T100000
DTEND;TZID=America/Chicago:20251210T160000
DTSTAMP:20260424T073644
CREATED:20251124T000254Z
LAST-MODIFIED:20251124T000254Z
UID:84415-1765360800-1765382400@kerrcountylead.com
SUMMARY:The New American West by Brush and by Bronze
DESCRIPTION:Paintings by Kathleen Frank and work by Mark Yale Harris.
URL:https://kerrcountylead.com/event/the-new-american-west-by-brush-and-by-bronze-17/
LOCATION:Museum of Western Art\, 1550 Bandera Hwy.\, Kerrville\, Texas\, 78028
CATEGORIES:The arts
END:VEVENT
BEGIN:VEVENT
DTSTART;TZID=America/Chicago:20251210T100000
DTEND;TZID=America/Chicago:20251210T160000
DTSTAMP:20260424T073644
CREATED:20251123T232503Z
LAST-MODIFIED:20251123T232503Z
UID:84376-1765360800-1765382400@kerrcountylead.com
SUMMARY:ArtMart Annual Christmas Showcase
DESCRIPTION:
URL:https://kerrcountylead.com/event/artmart-annual-christmas-showcase-18/
LOCATION:Hill Country Arts Foundation\, 120 Point Theatre Rd S\, Ingram\, Texas\, 78025
CATEGORIES:Markets
END:VEVENT
BEGIN:VEVENT
DTSTART;TZID=America/Chicago:20251210T100000
DTEND;TZID=America/Chicago:20251210T160000
DTSTAMP:20260424T073644
CREATED:20251102T145243Z
LAST-MODIFIED:20251102T145243Z
UID:83007-1765360800-1765382400@kerrcountylead.com
SUMMARY:Texas Furniture Makers Show
DESCRIPTION:
URL:https://kerrcountylead.com/event/texas-furniture-makers-show-88/
LOCATION:Kerr Arts & Cultural Center\, 228 Earl Garrett St.\, Kerrville\, Texas\, 78028
CATEGORIES:The arts
END:VEVENT
BEGIN:VEVENT
DTSTART;TZID=America/Chicago:20251210T100000
DTEND;TZID=America/Chicago:20251210T110000
DTSTAMP:20260424T073644
CREATED:20251201T015642Z
LAST-MODIFIED:20251201T015642Z
UID:84883-1765360800-1765364400@kerrcountylead.com
SUMMARY:Story Time
DESCRIPTION:
URL:https://kerrcountylead.com/event/story-time/
LOCATION:Butt-Holdsworth Memorial Library\, 505 Water St.\, Kerrville\, Texas\, 78028
CATEGORIES:Library event
END:VEVENT
BEGIN:VEVENT
DTSTART;TZID=America/Chicago:20251210T090000
DTEND;TZID=America/Chicago:20251210T103000
DTSTAMP:20260424T073644
CREATED:20251201T015212Z
LAST-MODIFIED:20251201T015212Z
UID:84879-1765357200-1765362600@kerrcountylead.com
SUMMARY:Wildflower Bunch
DESCRIPTION:Join the group and learn about native wildflowers. For more info and to register\, click here.
URL:https://kerrcountylead.com/event/wildflower-bunch-23/
LOCATION:Riverside Nature Center\, 150 Francisco Lemos St\, Kerrville\, Texas\, 78028
CATEGORIES:Science and nature
END:VEVENT
BEGIN:VEVENT
DTSTART;VALUE=DATE:20251210
DTEND;VALUE=DATE:20251211
DTSTAMP:20260424T073644
CREATED:20251207T224617Z
LAST-MODIFIED:20251207T224617Z
UID:85230-1765324800-1765411199@kerrcountylead.com
SUMMARY:Found on the Guadalupe Reunification Day
DESCRIPTION:Information: found-project.com The details: By appointment. To schedule an appointment\, click here.
URL:https://kerrcountylead.com/event/found-on-the-guadalupe-reunification-day-4/
END:VEVENT
BEGIN:VEVENT
DTSTART;TZID=America/Chicago:20251209T163000
DTEND;TZID=America/Chicago:20251209T173000
DTSTAMP:20260424T073644
CREATED:20251201T013550Z
LAST-MODIFIED:20251201T013550Z
UID:84861-1765297800-1765301400@kerrcountylead.com
SUMMARY:Becoming a Mother: Breastfeeding Class
DESCRIPTION:In Classroom B.
URL:https://kerrcountylead.com/event/becoming-a-mother-breastfeeding-class-7/
LOCATION:Peterson Health\, 551 Hill Country Dr\, Kerrville\, TX\, 78028
CATEGORIES:Outreach groups
END:VEVENT
BEGIN:VEVENT
DTSTART;TZID=America/Chicago:20251209T160000
DTEND;TZID=America/Chicago:20251209T171500
DTSTAMP:20260424T073644
CREATED:20251201T014024Z
LAST-MODIFIED:20251201T014024Z
UID:84867-1765296000-1765300500@kerrcountylead.com
SUMMARY:Social Crafters
DESCRIPTION:
URL:https://kerrcountylead.com/event/social-crafters-3/
LOCATION:Butt-Holdsworth Memorial Library\, 505 Water St.\, Kerrville\, Texas\, 78028
CATEGORIES:Library event
END:VEVENT
BEGIN:VEVENT
DTSTART;TZID=America/Chicago:20251209T140000
DTEND;TZID=America/Chicago:20251209T160000
DTSTAMP:20260424T073644
CREATED:20251201T014422Z
LAST-MODIFIED:20251201T014422Z
UID:84869-1765288800-1765296000@kerrcountylead.com
SUMMARY:Senior Dance
DESCRIPTION:
URL:https://kerrcountylead.com/event/senior-dance-2/
LOCATION:Dietert Center\, 451 Guadalupe St #203\, Kerrville\, Texas\, 78028
END:VEVENT
BEGIN:VEVENT
DTSTART;TZID=America/Chicago:20251209T130000
DTEND;TZID=America/Chicago:20251209T150000
DTSTAMP:20260424T073644
CREATED:20251201T013433Z
LAST-MODIFIED:20251201T013433Z
UID:84859-1765285200-1765292400@kerrcountylead.com
SUMMARY:Breastfeeding Support Group
DESCRIPTION:
URL:https://kerrcountylead.com/event/breastfeeding-support-group-5/
LOCATION:Peterson Hospice and Home Care Building\, 250 Cully Dr\, Kerrville\, TX\, 78028
CATEGORIES:Outreach groups
END:VEVENT
BEGIN:VEVENT
DTSTART;TZID=America/Chicago:20251209T120000
DTEND;TZID=America/Chicago:20251209T133000
DTSTAMP:20260424T073644
CREATED:20251201T013853Z
LAST-MODIFIED:20251201T013853Z
UID:84865-1765281600-1765287000@kerrcountylead.com
SUMMARY:Great Decisions Discussion Group
DESCRIPTION:
URL:https://kerrcountylead.com/event/great-decisions-discussion-group-2/
LOCATION:Butt-Holdsworth Memorial Library\, 505 Water St.\, Kerrville\, Texas\, 78028
CATEGORIES:Library event
END:VEVENT
BEGIN:VEVENT
DTSTART;TZID=America/Chicago:20251209T100000
DTEND;TZID=America/Chicago:20251209T160000
DTSTAMP:20260424T073644
CREATED:20251124T003803Z
LAST-MODIFIED:20251124T003803Z
UID:84475-1765274400-1765296000@kerrcountylead.com
SUMMARY:Silver Saddles & The Silver Screen: The Golden Age of Hollywood
DESCRIPTION:
URL:https://kerrcountylead.com/event/silver-saddles-the-silver-screen-the-golden-age-of-hollywood-16/
LOCATION:Museum of Western Art\, 1550 Bandera Hwy.\, Kerrville\, Texas\, 78028
CATEGORIES:The arts
END:VEVENT
BEGIN:VEVENT
DTSTART;TZID=America/Chicago:20251209T100000
DTEND;TZID=America/Chicago:20251209T160000
DTSTAMP:20260424T073644
CREATED:20251123T232420Z
LAST-MODIFIED:20251123T232420Z
UID:84374-1765274400-1765296000@kerrcountylead.com
SUMMARY:ArtMart Annual Christmas Showcase
DESCRIPTION:
URL:https://kerrcountylead.com/event/artmart-annual-christmas-showcase-17/
LOCATION:Hill Country Arts Foundation\, 120 Point Theatre Rd S\, Ingram\, Texas\, 78025
CATEGORIES:Markets
END:VEVENT
BEGIN:VEVENT
DTSTART;TZID=America/Chicago:20251209T100000
DTEND;TZID=America/Chicago:20251209T160000
DTSTAMP:20260424T073644
CREATED:20251102T145211Z
LAST-MODIFIED:20251102T145211Z
UID:83005-1765274400-1765296000@kerrcountylead.com
SUMMARY:Texas Furniture Makers Show
DESCRIPTION:
URL:https://kerrcountylead.com/event/texas-furniture-makers-show-87/
LOCATION:Kerr Arts & Cultural Center\, 228 Earl Garrett St.\, Kerrville\, Texas\, 78028
CATEGORIES:The arts
END:VEVENT
BEGIN:VEVENT
DTSTART;TZID=America/Chicago:20251209T100000
DTEND;TZID=America/Chicago:20251209T110000
DTSTAMP:20260424T073644
CREATED:20251201T013317Z
LAST-MODIFIED:20251201T013317Z
UID:84857-1765274400-1765278000@kerrcountylead.com
SUMMARY:Grief Support Group
DESCRIPTION:
URL:https://kerrcountylead.com/event/grief-support-group-79/
LOCATION:Peterson Hospice and Home Care Building\, 250 Cully Dr\, Kerrville\, TX\, 78028
CATEGORIES:Outreach groups
END:VEVENT
BEGIN:VEVENT
DTSTART;TZID=America/Chicago:20251209T100000
DTEND;TZID=America/Chicago:20251209T110000
DTSTAMP:20260424T073644
CREATED:20251201T012452Z
LAST-MODIFIED:20251201T012452Z
UID:84851-1765274400-1765278000@kerrcountylead.com
SUMMARY:Lap-Sit Story Time
DESCRIPTION:A story time program for ages 3 and under with songs\, rhymes\, and playtime.
URL:https://kerrcountylead.com/event/lap-sit-story-time-7/
LOCATION:Butt-Holdsworth Memorial Library\, 505 Water St.\, Kerrville\, Texas\, 78028
CATEGORIES:Library event
END:VEVENT
BEGIN:VEVENT
DTSTART;TZID=America/Chicago:20251208T170000
DTEND;TZID=America/Chicago:20251208T190000
DTSTAMP:20260424T073644
CREATED:20251201T012155Z
LAST-MODIFIED:20251201T012155Z
UID:84849-1765213200-1765220400@kerrcountylead.com
SUMMARY:Santa at the Library
DESCRIPTION:
URL:https://kerrcountylead.com/event/santa-at-the-library/
LOCATION:Butt-Holdsworth Memorial Library\, 505 Water St.\, Kerrville\, Texas\, 78028
CATEGORIES:Library event
END:VEVENT
BEGIN:VEVENT
DTSTART;TZID=America/Chicago:20251208T150000
DTEND;TZID=America/Chicago:20251208T150000
DTSTAMP:20260424T073644
CREATED:20251201T011359Z
LAST-MODIFIED:20251201T011359Z
UID:84841-1765206000-1765206000@kerrcountylead.com
SUMMARY:Veterans Yoga
DESCRIPTION:Join Rick Trzcinski of the Veterans Yoga Project every Monday for a session. The class is free for veterans.
URL:https://kerrcountylead.com/event/veterans-yoga-9/
LOCATION:Kerrville Elks Lodge\, 1907 Junction Hwy\, Kerrville\, TX\, 78028
CATEGORIES:Wellness
END:VEVENT
BEGIN:VEVENT
DTSTART;VALUE=DATE:20251208
DTEND;VALUE=DATE:20251209
DTSTAMP:20260424T073644
CREATED:20251207T224500Z
LAST-MODIFIED:20251207T224500Z
UID:85228-1765152000-1765238399@kerrcountylead.com
SUMMARY:Found on the Guadalupe Reunification Day
DESCRIPTION:Information: found-project.com The details: By appointment. To schedule an appointment\, click here.
URL:https://kerrcountylead.com/event/found-on-the-guadalupe-reunification-day-3/
END:VEVENT
BEGIN:VEVENT
DTSTART;TZID=America/Chicago:20251207T150000
DTEND;TZID=America/Chicago:20251207T170000
DTSTAMP:20260424T073644
CREATED:20251201T011106Z
LAST-MODIFIED:20251201T011106Z
UID:84837-1765119600-1765126800@kerrcountylead.com
SUMMARY:SU Department of Music Fall Showcase
DESCRIPTION:
URL:https://kerrcountylead.com/event/su-department-of-music-fall-showcase/
LOCATION:Tivy High School\, 3250 TX 534 Loop\, Kerrville\, TX\, 78028
CATEGORIES:Performing arts
END:VEVENT
BEGIN:VEVENT
DTSTART;TZID=America/Chicago:20251207T150000
DTEND;TZID=America/Chicago:20251207T150000
DTSTAMP:20260424T073644
CREATED:20251201T011206Z
LAST-MODIFIED:20251201T011206Z
UID:84839-1765119600-1765119600@kerrcountylead.com
SUMMARY:Hill Country Youth Orchestra Winter Concert
DESCRIPTION:
URL:https://kerrcountylead.com/event/hill-country-youth-orchestra-winter-concert-2/
LOCATION:Cailloux Theater\, 910 Main St.\, Kerrville\, Texas\, 78028
CATEGORIES:Performing arts
END:VEVENT
BEGIN:VEVENT
DTSTART;TZID=America/Chicago:20251207T150000
DTEND;TZID=America/Chicago:20251207T150000
DTSTAMP:20260424T073644
CREATED:20251201T011007Z
LAST-MODIFIED:20251201T011007Z
UID:84835-1765119600-1765119600@kerrcountylead.com
SUMMARY:Jojo Fire
DESCRIPTION:
URL:https://kerrcountylead.com/event/jojo-fire-5/
LOCATION:Tailchasers Patio + Pub\, 516 Jefferson St\, Kerrville\, TX\, 78028
CATEGORIES:Live music
END:VEVENT
BEGIN:VEVENT
DTSTART;TZID=America/Chicago:20251207T130000
DTEND;TZID=America/Chicago:20251207T160000
DTSTAMP:20260424T073644
CREATED:20251102T001652Z
LAST-MODIFIED:20251102T001652Z
UID:82825-1765112400-1765123200@kerrcountylead.com
SUMMARY:Christopher Lirette
DESCRIPTION:
URL:https://kerrcountylead.com/event/christopher-lirette-5/
LOCATION:Singing Water Vineyards\, 316 Mill Dam Rd\, Comfort\, TX\, 78013
CATEGORIES:Live music
END:VEVENT
BEGIN:VEVENT
DTSTART;TZID=America/Chicago:20251207T130000
DTEND;TZID=America/Chicago:20251207T130000
DTSTAMP:20260424T073644
CREATED:20251130T212806Z
LAST-MODIFIED:20251130T212806Z
UID:84831-1765112400-1765112400@kerrcountylead.com
SUMMARY:Community Mosaics
DESCRIPTION:Educator hour 1-2pm\, Open Community Hour begins at 2:15pm. To learn more and reserve your spot\, click here.
URL:https://kerrcountylead.com/event/community-mosaics-3/
LOCATION:The Color of Clay\, 93 Coronado Drive N Ste 2\, Kerrville\, TX\, 78028
END:VEVENT
BEGIN:VEVENT
DTSTART;TZID=America/Chicago:20251206T180000
DTEND;TZID=America/Chicago:20251206T210000
DTSTAMP:20260424T073644
CREATED:20251130T211350Z
LAST-MODIFIED:20251130T211350Z
UID:84813-1765044000-1765054800@kerrcountylead.com
SUMMARY:Train Wreck Shipping Company
DESCRIPTION:
URL:https://kerrcountylead.com/event/train-wreck-shipping-company-5/
LOCATION:Cafe at the Ridge\, 13439 S. Ranch Road 783\, Kerrville\, Texas\, 78028
CATEGORIES:Live music
END:VEVENT
END:VCALENDAR