BEGIN:VCALENDAR
VERSION:2.0
PRODID:-//The Kerr County Lead - ECPv6.15.17.1//NONSGML v1.0//EN
CALSCALE:GREGORIAN
METHOD:PUBLISH
X-ORIGINAL-URL:https://kerrcountylead.com
X-WR-CALDESC:Events for The Kerr County Lead
REFRESH-INTERVAL;VALUE=DURATION:PT1H
X-Robots-Tag:noindex
X-PUBLISHED-TTL:PT1H
BEGIN:VTIMEZONE
TZID:America/Chicago
BEGIN:DAYLIGHT
TZOFFSETFROM:-0600
TZOFFSETTO:-0500
TZNAME:CDT
DTSTART:20230312T080000
END:DAYLIGHT
BEGIN:STANDARD
TZOFFSETFROM:-0500
TZOFFSETTO:-0600
TZNAME:CST
DTSTART:20231105T070000
END:STANDARD
BEGIN:DAYLIGHT
TZOFFSETFROM:-0600
TZOFFSETTO:-0500
TZNAME:CDT
DTSTART:20240310T080000
END:DAYLIGHT
BEGIN:STANDARD
TZOFFSETFROM:-0500
TZOFFSETTO:-0600
TZNAME:CST
DTSTART:20241103T070000
END:STANDARD
BEGIN:DAYLIGHT
TZOFFSETFROM:-0600
TZOFFSETTO:-0500
TZNAME:CDT
DTSTART:20250309T080000
END:DAYLIGHT
BEGIN:STANDARD
TZOFFSETFROM:-0500
TZOFFSETTO:-0600
TZNAME:CST
DTSTART:20251102T070000
END:STANDARD
END:VTIMEZONE
BEGIN:VEVENT
DTSTART;TZID=America/Chicago:20240921T130000
DTEND;TZID=America/Chicago:20240921T130000
DTSTAMP:20260421T091319
CREATED:20240920T190956Z
LAST-MODIFIED:20240920T190956Z
UID:57126-1726923600-1726923600@kerrcountylead.com
SUMMARY:HCAA 25th Anniversary
DESCRIPTION:Celebrating 25 years of Archeology in the Hill Country. Exhibits\, pictures\, demos\, raffles\, silent auction\, and cake!
URL:https://kerrcountylead.com/event/hcaa-25th-anniversary/
LOCATION:Riverside Nature Center\, 150 Francisco Lemos St\, Kerrville\, Texas\, 78028
CATEGORIES:Celebration
END:VEVENT
BEGIN:VEVENT
DTSTART;TZID=America/Chicago:20240921T130000
DTEND;TZID=America/Chicago:20240921T160000
DTSTAMP:20260421T091319
CREATED:20240920T192422Z
LAST-MODIFIED:20240920T192422Z
UID:57132-1726923600-1726934400@kerrcountylead.com
SUMMARY:Erica Daniels
DESCRIPTION:
URL:https://kerrcountylead.com/event/erica-daniels/
LOCATION:Singing Water Vineyards\, 316 Mill Dam Rd\, Comfort\, TX\, 78013
CATEGORIES:Live music
END:VEVENT
BEGIN:VEVENT
DTSTART;TZID=America/Chicago:20240921T140000
DTEND;TZID=America/Chicago:20240921T140000
DTSTAMP:20260421T091319
CREATED:20240920T185238Z
LAST-MODIFIED:20240920T185238Z
UID:57108-1726927200-1726927200@kerrcountylead.com
SUMMARY:Taylor Swift Fan Fest
DESCRIPTION:
URL:https://kerrcountylead.com/event/taylor-swift-fan-fest/
LOCATION:Butt-Holdsworth Memorial Library\, 505 Water St.\, Kerrville\, Texas\, 78028
CATEGORIES:Library event
END:VEVENT
BEGIN:VEVENT
DTSTART;TZID=America/Chicago:20240921T140000
DTEND;TZID=America/Chicago:20240921T140000
DTSTAMP:20260421T091319
CREATED:20240920T192517Z
LAST-MODIFIED:20240920T192517Z
UID:57134-1726927200-1726927200@kerrcountylead.com
SUMMARY:Woody Russell
DESCRIPTION:
URL:https://kerrcountylead.com/event/woody-russell/
LOCATION:Trailhead Beer Garden\, 2100 Memorial Blvd Bldg #11\, Kerrville\, TX\, 78028\, United States
CATEGORIES:Live music
END:VEVENT
BEGIN:VEVENT
DTSTART;TZID=America/Chicago:20240921T150000
DTEND;TZID=America/Chicago:20240921T170000
DTSTAMP:20260421T091319
CREATED:20240920T190710Z
LAST-MODIFIED:20240920T190710Z
UID:57120-1726930800-1726938000@kerrcountylead.com
SUMMARY:Circle C Mobile Grooming
DESCRIPTION:
URL:https://kerrcountylead.com/event/circle-c-mobile-grooming-3/
LOCATION:Tailchasers Patio + Pub\, 516 Jefferson St\, Kerrville\, TX\, 78028
CATEGORIES:Pet event
END:VEVENT
BEGIN:VEVENT
DTSTART;TZID=America/Chicago:20240921T160000
DTEND;TZID=America/Chicago:20240921T210000
DTSTAMP:20260421T091319
CREATED:20240920T185557Z
LAST-MODIFIED:20240920T185557Z
UID:57114-1726934400-1726952400@kerrcountylead.com
SUMMARY:Buzzie’s
DESCRIPTION:
URL:https://kerrcountylead.com/event/buzzies/
LOCATION:Tailchasers Patio + Pub\, 516 Jefferson St\, Kerrville\, TX\, 78028
CATEGORIES:Food truck 411
END:VEVENT
BEGIN:VEVENT
DTSTART;TZID=America/Chicago:20240921T170000
DTEND;TZID=America/Chicago:20240921T210000
DTSTAMP:20260421T091319
CREATED:20240920T185654Z
LAST-MODIFIED:20240920T185654Z
UID:57116-1726938000-1726952400@kerrcountylead.com
SUMMARY:The Pearl
DESCRIPTION:
URL:https://kerrcountylead.com/event/the-pearl-19/
LOCATION:Trailhead Beer Garden\, 2100 Memorial Blvd Bldg #11\, Kerrville\, TX\, 78028\, United States
CATEGORIES:Food truck 411
END:VEVENT
BEGIN:VEVENT
DTSTART;TZID=America/Chicago:20240921T200000
DTEND;TZID=America/Chicago:20240921T230000
DTSTAMP:20260421T091319
CREATED:20240920T193325Z
LAST-MODIFIED:20240920T193325Z
UID:57154-1726948800-1726959600@kerrcountylead.com
SUMMARY:Shane Stumpf
DESCRIPTION:
URL:https://kerrcountylead.com/event/shane-stumpf-21/
LOCATION:Howdy’s Bar & Chill\, 101 Rowland Dr\, Kerrville\, TX\, 78028
CATEGORIES:Live music
END:VEVENT
BEGIN:VEVENT
DTSTART;TZID=America/Chicago:20240924T173000
DTEND;TZID=America/Chicago:20240924T173000
DTSTAMP:20260421T091319
CREATED:20240923T024010Z
LAST-MODIFIED:20240923T024032Z
UID:57344-1727199000-1727199000@kerrcountylead.com
SUMMARY:Sci-Fi/Fantasy Book Club
DESCRIPTION:The group will be discussing “Sword of Shannara” by Terry Brooks.
URL:https://kerrcountylead.com/event/sci-fi-fantasy-book-club-2/
LOCATION:Butt-Holdsworth Memorial Library\, 505 Water St.\, Kerrville\, Texas\, 78028
CATEGORIES:Library event
END:VEVENT
BEGIN:VEVENT
DTSTART;TZID=America/Chicago:20240922T110000
DTEND;TZID=America/Chicago:20240922T200000
DTSTAMP:20260421T091319
CREATED:20240920T193509Z
LAST-MODIFIED:20240920T193524Z
UID:57158-1727002800-1727035200@kerrcountylead.com
SUMMARY:Que-Zeen BBQ
DESCRIPTION:
URL:https://kerrcountylead.com/event/que-zeen-bbq-159/
LOCATION:The Ingram Dam\, 610 TX 39\, Ingram\, TX\, 78025
CATEGORIES:Food truck 411
END:VEVENT
BEGIN:VEVENT
DTSTART;TZID=America/Chicago:20240922T120000
DTEND;TZID=America/Chicago:20240922T140000
DTSTAMP:20260421T091319
CREATED:20240920T193718Z
LAST-MODIFIED:20240920T193718Z
UID:57162-1727006400-1727013600@kerrcountylead.com
SUMMARY:Circle C Mobile Grooming
DESCRIPTION:
URL:https://kerrcountylead.com/event/circle-c-mobile-grooming-4/
LOCATION:Tailchasers Patio + Pub\, 516 Jefferson St\, Kerrville\, TX\, 78028
CATEGORIES:Pet event
END:VEVENT
BEGIN:VEVENT
DTSTART;TZID=America/Chicago:20240922T120000
DTEND;TZID=America/Chicago:20240922T180000
DTSTAMP:20260421T091319
CREATED:20240920T193620Z
LAST-MODIFIED:20240920T193620Z
UID:57160-1727006400-1727028000@kerrcountylead.com
SUMMARY:Shim’s Be Blessed
DESCRIPTION:
URL:https://kerrcountylead.com/event/shims-be-blessed-103/
LOCATION:Trailhead Beer Garden\, 2100 Memorial Blvd Bldg #11\, Kerrville\, TX\, 78028\, United States
CATEGORIES:Food truck 411
END:VEVENT
BEGIN:VEVENT
DTSTART;TZID=America/Chicago:20240922T123000
DTEND;TZID=America/Chicago:20240922T123000
DTSTAMP:20260421T091319
CREATED:20240920T193853Z
LAST-MODIFIED:20240920T193853Z
UID:57166-1727008200-1727008200@kerrcountylead.com
SUMMARY:Colin Boutwell
DESCRIPTION:
URL:https://kerrcountylead.com/event/colin-boutwell/
LOCATION:Trailhead Beer Garden\, 2100 Memorial Blvd Bldg #11\, Kerrville\, TX\, 78028\, United States
CATEGORIES:Live music
END:VEVENT
BEGIN:VEVENT
DTSTART;TZID=America/Chicago:20240922T130000
DTEND;TZID=America/Chicago:20240922T130000
DTSTAMP:20260421T091319
CREATED:20240920T193935Z
LAST-MODIFIED:20240920T193935Z
UID:57168-1727010000-1727010000@kerrcountylead.com
SUMMARY:Josh Peek
DESCRIPTION:
URL:https://kerrcountylead.com/event/josh-peek-29/
LOCATION:Gravity Check Saloon\, 3979 Bandera Hwy 173\, Kerrville\, TX\, 78028\, United States
CATEGORIES:Live music
END:VEVENT
BEGIN:VEVENT
DTSTART;TZID=America/Chicago:20240922T130000
DTEND;TZID=America/Chicago:20240922T160000
DTSTAMP:20260421T091319
CREATED:20240920T194017Z
LAST-MODIFIED:20240920T194017Z
UID:57170-1727010000-1727020800@kerrcountylead.com
SUMMARY:Colleen Michelle Miller
DESCRIPTION:
URL:https://kerrcountylead.com/event/colleen-michelle-miller-11/
LOCATION:Singing Water Vineyards\, 316 Mill Dam Rd\, Comfort\, TX\, 78013
CATEGORIES:Live music
END:VEVENT
BEGIN:VEVENT
DTSTART;TZID=America/Chicago:20240922T133000
DTEND;TZID=America/Chicago:20240922T133000
DTSTAMP:20260421T091319
CREATED:20240920T193813Z
LAST-MODIFIED:20240920T193813Z
UID:57164-1727011800-1727011800@kerrcountylead.com
SUMMARY:Bingo
DESCRIPTION:Sales start 12:30 p.m. Smoking and non-smoking rooms. The Dauber Cafe is open during games\, no outside food or drinks.
URL:https://kerrcountylead.com/event/bingo-251/
LOCATION:American Legion Post 208\, 3600 Riverside Dr\, Kerrville\, TX\, 78028
CATEGORIES:Games
END:VEVENT
BEGIN:VEVENT
DTSTART;TZID=America/Chicago:20240922T150000
DTEND;TZID=America/Chicago:20240922T160000
DTSTAMP:20260421T091319
CREATED:20240920T194132Z
LAST-MODIFIED:20240920T194132Z
UID:57172-1727017200-1727020800@kerrcountylead.com
SUMMARY:Guest Piano Recital: Dr. Teresa Walters
DESCRIPTION:Location: Summerlin Hall.
URL:https://kerrcountylead.com/event/guest-piano-recital-dr-teresa-walters/
LOCATION:Schreiner University\, 2100 Memorial Blvd\, Kerrville\, Texas\, 78028
CATEGORIES:Performing arts
END:VEVENT
BEGIN:VEVENT
DTSTART;TZID=America/Chicago:20240923T100000
DTEND;TZID=America/Chicago:20240923T180000
DTSTAMP:20260421T091319
CREATED:20240909T223648Z
LAST-MODIFIED:20240909T223648Z
UID:56830-1727085600-1727114400@kerrcountylead.com
SUMMARY:Our Place in Space
DESCRIPTION:Come see the constellations in our planetarium\, learn about conserving our night skies and about our place in space!
URL:https://kerrcountylead.com/event/our-place-in-space-130/
LOCATION:Riverside Nature Center\, 150 Francisco Lemos St\, Kerrville\, Texas\, 78028
CATEGORIES:Science and nature
END:VEVENT
BEGIN:VEVENT
DTSTART;TZID=America/Chicago:20240923T110000
DTEND;TZID=America/Chicago:20240923T170000
DTSTAMP:20260421T091319
CREATED:20240923T022722Z
LAST-MODIFIED:20240923T022722Z
UID:57324-1727089200-1727110800@kerrcountylead.com
SUMMARY:The Pearl
DESCRIPTION:
URL:https://kerrcountylead.com/event/the-pearl-20/
LOCATION:Gibson’s Discount Center\, 111 N Main St\, Kerrville\, Texas\, 78028
CATEGORIES:Food truck 411
END:VEVENT
BEGIN:VEVENT
DTSTART;TZID=America/Chicago:20240923T153000
DTEND;TZID=America/Chicago:20240923T173000
DTSTAMP:20260421T091319
CREATED:20240923T022806Z
LAST-MODIFIED:20240923T022806Z
UID:57327-1727105400-1727112600@kerrcountylead.com
SUMMARY:Teen Lounge
DESCRIPTION:
URL:https://kerrcountylead.com/event/teen-lounge-24/
LOCATION:Doyle Community Center\, 110 W. Barnett St.\, Kerrville\, Texas\, 78028
CATEGORIES:Outreach groups
END:VEVENT
BEGIN:VEVENT
DTSTART;TZID=America/Chicago:20240924T100000
DTEND;TZID=America/Chicago:20240924T110000
DTSTAMP:20260421T091319
CREATED:20240923T023029Z
LAST-MODIFIED:20240923T023625Z
UID:57333-1727172000-1727175600@kerrcountylead.com
SUMMARY:Grief Support Group
DESCRIPTION:
URL:https://kerrcountylead.com/event/grief-support-group-29/
LOCATION:Dietert Center\, 451 Guadalupe St #203\, Kerrville\, Texas\, 78028
CATEGORIES:Outreach groups
END:VEVENT
BEGIN:VEVENT
DTSTART;TZID=America/Chicago:20240924T100000
DTEND;TZID=America/Chicago:20240924T110000
DTSTAMP:20260421T091319
CREATED:20240923T023914Z
LAST-MODIFIED:20240923T023914Z
UID:57342-1727172000-1727175600@kerrcountylead.com
SUMMARY:Lap-Sit Story Time
DESCRIPTION:A story time program for ages 3 and under with songs\, rhymes\, and playtime.
URL:https://kerrcountylead.com/event/lap-sit-story-time-42/
LOCATION:Butt-Holdsworth Memorial Library\, 505 Water St.\, Kerrville\, Texas\, 78028
CATEGORIES:Library event
END:VEVENT
BEGIN:VEVENT
DTSTART;TZID=America/Chicago:20240924T100000
DTEND;TZID=America/Chicago:20240924T160000
DTSTAMP:20260421T091319
CREATED:20240909T213447Z
LAST-MODIFIED:20240909T213447Z
UID:56721-1727172000-1727193600@kerrcountylead.com
SUMMARY:KACC Art Exhibits
DESCRIPTION:Our Hectic Lives by Patty Thomas\, Kerrville Art Club Show and Sale\, and Magnificent Seven Rides Again.
URL:https://kerrcountylead.com/event/kacc-art-exhibits-299/
LOCATION:Kerr Arts & Cultural Center\, 228 Earl Garrett St.\, Kerrville\, Texas\, 78028
CATEGORIES:The arts
END:VEVENT
BEGIN:VEVENT
DTSTART;TZID=America/Chicago:20240924T100000
DTEND;TZID=America/Chicago:20240924T180000
DTSTAMP:20260421T091319
CREATED:20240909T223721Z
LAST-MODIFIED:20240909T223721Z
UID:56832-1727172000-1727200800@kerrcountylead.com
SUMMARY:Our Place in Space
DESCRIPTION:Come see the constellations in our planetarium\, learn about conserving our night skies and about our place in space!
URL:https://kerrcountylead.com/event/our-place-in-space-131/
LOCATION:Riverside Nature Center\, 150 Francisco Lemos St\, Kerrville\, Texas\, 78028
CATEGORIES:Science and nature
END:VEVENT
BEGIN:VEVENT
DTSTART;TZID=America/Chicago:20240924T110000
DTEND;TZID=America/Chicago:20240924T120000
DTSTAMP:20260421T091319
CREATED:20240923T023139Z
LAST-MODIFIED:20240923T023705Z
UID:57335-1727175600-1727179200@kerrcountylead.com
SUMMARY:Medicare Advantage Education Session
DESCRIPTION:Learn about Medicare plans and have insurance questions answered before open enrollment begins in October. 
URL:https://kerrcountylead.com/event/medicare-advantage-education-session-4/
LOCATION:Dietert Center\, 451 Guadalupe St #203\, Kerrville\, Texas\, 78028
CATEGORIES:Outreach groups
END:VEVENT
BEGIN:VEVENT
DTSTART;TZID=America/Chicago:20240924T110000
DTEND;TZID=America/Chicago:20240924T170000
DTSTAMP:20260421T091319
CREATED:20240923T024117Z
LAST-MODIFIED:20240923T024117Z
UID:57346-1727175600-1727197200@kerrcountylead.com
SUMMARY:The Pearl
DESCRIPTION:
URL:https://kerrcountylead.com/event/the-pearl-21/
LOCATION:Gibson’s Discount Center\, 111 N Main St\, Kerrville\, Texas\, 78028
CATEGORIES:Food truck 411
END:VEVENT
BEGIN:VEVENT
DTSTART;TZID=America/Chicago:20240924T153000
DTEND;TZID=America/Chicago:20240924T173000
DTSTAMP:20260421T091319
CREATED:20240923T023216Z
LAST-MODIFIED:20240923T023737Z
UID:57337-1727191800-1727199000@kerrcountylead.com
SUMMARY:Teen Lounge
DESCRIPTION:
URL:https://kerrcountylead.com/event/teen-lounge-25/
LOCATION:Doyle Community Center\, 110 W. Barnett St.\, Kerrville\, Texas\, 78028
CATEGORIES:Outreach groups
END:VEVENT
BEGIN:VEVENT
DTSTART;TZID=America/Chicago:20240924T160000
DTEND;TZID=America/Chicago:20240924T170000
DTSTAMP:20260421T091319
CREATED:20240923T023543Z
LAST-MODIFIED:20240923T023543Z
UID:57339-1727193600-1727197200@kerrcountylead.com
SUMMARY:Medicare Advantage Education Session
DESCRIPTION:Learn about Medicare plans and have insurance questions answered before open enrollment begins in October.
URL:https://kerrcountylead.com/event/medicare-advantage-education-session-5/
LOCATION:Peterson Hospice and Home Care Building\, 250 Cully Dr\, Kerrville\, TX\, 78028
CATEGORIES:Outreach groups
END:VEVENT
BEGIN:VEVENT
DTSTART;TZID=America/Chicago:20240925T100000
DTEND;TZID=America/Chicago:20240925T110000
DTSTAMP:20260421T091319
CREATED:20240923T024326Z
LAST-MODIFIED:20240923T024326Z
UID:57352-1727258400-1727262000@kerrcountylead.com
SUMMARY:History Story Time
DESCRIPTION:
URL:https://kerrcountylead.com/event/history-story-time-5/
LOCATION:Kerr Regional History Center\, 425 Water St.\, Kerrville\, TX\, 78028\, United States
CATEGORIES:Library event
END:VEVENT
BEGIN:VEVENT
DTSTART;TZID=America/Chicago:20240925T100000
DTEND;TZID=America/Chicago:20240925T160000
DTSTAMP:20260421T091319
CREATED:20240909T213543Z
LAST-MODIFIED:20240909T213543Z
UID:56723-1727258400-1727280000@kerrcountylead.com
SUMMARY:KACC Art Exhibits
DESCRIPTION:Our Hectic Lives by Patty Thomas\, Kerrville Art Club Show and Sale\, and Magnificent Seven Rides Again.
URL:https://kerrcountylead.com/event/kacc-art-exhibits-300/
LOCATION:Kerr Arts & Cultural Center\, 228 Earl Garrett St.\, Kerrville\, Texas\, 78028
CATEGORIES:The arts
END:VEVENT
END:VCALENDAR