BEGIN:VCALENDAR
VERSION:2.0
PRODID:-//The Kerr County Lead - ECPv6.15.17.1//NONSGML v1.0//EN
CALSCALE:GREGORIAN
METHOD:PUBLISH
X-ORIGINAL-URL:https://kerrcountylead.com
X-WR-CALDESC:Events for The Kerr County Lead
REFRESH-INTERVAL;VALUE=DURATION:PT1H
X-Robots-Tag:noindex
X-PUBLISHED-TTL:PT1H
BEGIN:VTIMEZONE
TZID:America/Chicago
BEGIN:DAYLIGHT
TZOFFSETFROM:-0600
TZOFFSETTO:-0500
TZNAME:CDT
DTSTART:20230312T080000
END:DAYLIGHT
BEGIN:STANDARD
TZOFFSETFROM:-0500
TZOFFSETTO:-0600
TZNAME:CST
DTSTART:20231105T070000
END:STANDARD
BEGIN:DAYLIGHT
TZOFFSETFROM:-0600
TZOFFSETTO:-0500
TZNAME:CDT
DTSTART:20240310T080000
END:DAYLIGHT
BEGIN:STANDARD
TZOFFSETFROM:-0500
TZOFFSETTO:-0600
TZNAME:CST
DTSTART:20241103T070000
END:STANDARD
BEGIN:DAYLIGHT
TZOFFSETFROM:-0600
TZOFFSETTO:-0500
TZNAME:CDT
DTSTART:20250309T080000
END:DAYLIGHT
BEGIN:STANDARD
TZOFFSETFROM:-0500
TZOFFSETTO:-0600
TZNAME:CST
DTSTART:20251102T070000
END:STANDARD
END:VTIMEZONE
BEGIN:VEVENT
DTSTART;TZID=America/Chicago:20241115T113000
DTEND;TZID=America/Chicago:20241115T113000
DTSTAMP:20260421T105610
CREATED:20241111T203845Z
LAST-MODIFIED:20241111T203845Z
UID:60895-1731670200-1731670200@kerrcountylead.com
SUMMARY:Republican Women of Kerr County Luncheon
DESCRIPTION:Guest speaker Judge Lucy Pearson will discuss the new Teen Court Program. The meetings are open to the public\, but registration is required and cost is $23 per person. Register online or email RWKCreservations@gmail.com by November 12.
URL:https://kerrcountylead.com/event/republican-women-of-kerr-county-luncheon/
LOCATION:Inn of the Hills Hotel and Conference Center\, 1001 Junction Hwy\, Kerrville\, Texas\, 78028
CATEGORIES:Community meeting
END:VEVENT
BEGIN:VEVENT
DTSTART;TZID=America/Chicago:20241115T140000
DTEND;TZID=America/Chicago:20241115T153000
DTSTAMP:20260421T105610
CREATED:20241111T203640Z
LAST-MODIFIED:20241111T203640Z
UID:60891-1731679200-1731684600@kerrcountylead.com
SUMMARY:Caregiver Support Group
DESCRIPTION:
URL:https://kerrcountylead.com/event/caregiver-support-group-8/
LOCATION:Peterson Hospice and Home Care Building\, 250 Cully Dr\, Kerrville\, TX\, 78028
CATEGORIES:Outreach groups
END:VEVENT
BEGIN:VEVENT
DTSTART;TZID=America/Chicago:20241115T170000
DTEND;TZID=America/Chicago:20241115T190000
DTSTAMP:20260421T105610
CREATED:20241111T203952Z
LAST-MODIFIED:20241111T203952Z
UID:60899-1731690000-1731697200@kerrcountylead.com
SUMMARY:Opening Reception
DESCRIPTION:
URL:https://kerrcountylead.com/event/opening-reception-2/
LOCATION:Hill Country Arts Foundation\, 120 Point Theatre Rd S\, Ingram\, Texas\, 78025
CATEGORIES:The arts
END:VEVENT
BEGIN:VEVENT
DTSTART;TZID=America/Chicago:20241115T180000
DTEND;TZID=America/Chicago:20241115T200000
DTSTAMP:20260421T105610
CREATED:20241111T204137Z
LAST-MODIFIED:20241111T204137Z
UID:60905-1731693600-1731700800@kerrcountylead.com
SUMMARY:KFF New Folk Winners Tour
DESCRIPTION:An evening with Rachel Sumner\, Lila Blue\, Lily Talmers\, Sean Keel\, Robin Bienemann\, and Lucy Clearwater. 
URL:https://kerrcountylead.com/event/kff-new-folk-winners-tour-2/
LOCATION:Pint & Plow Brewing Co.\, 332 Clay St\, Kerrville\, Texas\, 78028
CATEGORIES:Live music
END:VEVENT
BEGIN:VEVENT
DTSTART;TZID=America/Chicago:20241116T080000
DTEND;TZID=America/Chicago:20241116T080000
DTSTAMP:20260421T105610
CREATED:20241111T204611Z
LAST-MODIFIED:20241114T222115Z
UID:60919-1731744000-1731744000@kerrcountylead.com
SUMMARY:Kerrville Walking Group
DESCRIPTION:Location: Redbird Lane. Join the KWG on Saturday mornings for nature walks. Most routes are 2-4 miles. Visit website for exact meeting location and further details.
URL:https://kerrcountylead.com/event/kerrville-walking-group-37/
LOCATION:Various Locations
CATEGORIES:Outdoor activities
END:VEVENT
BEGIN:VEVENT
DTSTART;TZID=America/Chicago:20241116T080000
DTEND;TZID=America/Chicago:20241116T080000
DTSTAMP:20260421T105610
CREATED:20241111T204708Z
LAST-MODIFIED:20241111T204708Z
UID:60921-1731744000-1731744000@kerrcountylead.com
SUMMARY:Bird Walk & Talk
DESCRIPTION:Join a guide for a morning walk to observe and identify birds. Space is limited\, RSVP for location information.
URL:https://kerrcountylead.com/event/bird-walk-talk-12/
LOCATION:Riverside Nature Center\, 150 Francisco Lemos St\, Kerrville\, Texas\, 78028
CATEGORIES:Science and nature
END:VEVENT
BEGIN:VEVENT
DTSTART;TZID=America/Chicago:20241116T080000
DTEND;TZID=America/Chicago:20241116T080000
DTSTAMP:20260421T105610
CREATED:20241111T204806Z
LAST-MODIFIED:20241111T205021Z
UID:60923-1731744000-1731744000@kerrcountylead.com
SUMMARY:Show With Your Heart
DESCRIPTION:A non-profit prospect show with all proceeds going to the Children’s Heart Foundation. 
URL:https://kerrcountylead.com/event/show-with-your-heart-3/
LOCATION:Hill Country Youth Event Center\, 3785 TX 27\, Kerrville\, Texas\, 78028
CATEGORIES:Ag event,Fundraiser
END:VEVENT
BEGIN:VEVENT
DTSTART;TZID=America/Chicago:20241116T080000
DTEND;TZID=America/Chicago:20241116T080000
DTSTAMP:20260421T105610
CREATED:20241111T215006Z
LAST-MODIFIED:20241111T215135Z
UID:60927-1731744000-1731744000@kerrcountylead.com
SUMMARY:Hillside Harvest Market
DESCRIPTION:
URL:https://kerrcountylead.com/event/hillside-harvest-market-46/
LOCATION:Parking Lot @ 5 Points\, 301 Junction Hwy\, Kerrville\, TX\, 78028
CATEGORIES:Markets
END:VEVENT
BEGIN:VEVENT
DTSTART;TZID=America/Chicago:20241116T090000
DTEND;TZID=America/Chicago:20241116T130000
DTSTAMP:20260421T105610
CREATED:20241111T214905Z
LAST-MODIFIED:20241111T214905Z
UID:60925-1731747600-1731762000@kerrcountylead.com
SUMMARY:Farmers Market
DESCRIPTION:
URL:https://kerrcountylead.com/event/farmers-market-68/
LOCATION:Parking Lot @ 741 Water St\, 741 Water St\, Kerrville\, TX\, 78028
CATEGORIES:Markets
END:VEVENT
BEGIN:VEVENT
DTSTART;TZID=America/Chicago:20241116T100000
DTEND;TZID=America/Chicago:20241116T103000
DTSTAMP:20260421T105610
CREATED:20241111T215903Z
LAST-MODIFIED:20241111T215903Z
UID:60933-1731751200-1731753000@kerrcountylead.com
SUMMARY:Family Storytime
DESCRIPTION:
URL:https://kerrcountylead.com/event/family-storytime-5/
LOCATION:Butt-Holdsworth Memorial Library\, 505 Water St.\, Kerrville\, Texas\, 78028
CATEGORIES:Library event
END:VEVENT
BEGIN:VEVENT
DTSTART;TZID=America/Chicago:20241116T100000
DTEND;TZID=America/Chicago:20241116T140000
DTSTAMP:20260421T105610
CREATED:20241109T194734Z
LAST-MODIFIED:20241109T194734Z
UID:60614-1731751200-1731765600@kerrcountylead.com
SUMMARY:ArtMart Christmas Showcase
DESCRIPTION:
URL:https://kerrcountylead.com/event/artmart-christmas-showcase-2/
LOCATION:Hill Country Arts Foundation\, 120 Point Theatre Rd S\, Ingram\, Texas\, 78025
CATEGORIES:Markets,The arts
END:VEVENT
BEGIN:VEVENT
DTSTART;TZID=America/Chicago:20241116T100000
DTEND;TZID=America/Chicago:20241116T140000
DTSTAMP:20260421T105610
CREATED:20241111T215421Z
LAST-MODIFIED:20241111T215529Z
UID:60929-1731751200-1731765600@kerrcountylead.com
SUMMARY:Kerrville Cruise-In Car Show
DESCRIPTION:Cars\, music\, food! Free admission\, no registration required to participate.
URL:https://kerrcountylead.com/event/kerrville-cruise-in-car-show/
LOCATION:Kerrville Sports Complex\, 117 Sweeper Ln\, Kerrville\, TX\, 78028
CATEGORIES:Car show
END:VEVENT
BEGIN:VEVENT
DTSTART;TZID=America/Chicago:20241116T100000
DTEND;TZID=America/Chicago:20241116T140000
DTSTAMP:20260421T105610
CREATED:20241114T224215Z
LAST-MODIFIED:20241114T224215Z
UID:61119-1731751200-1731765600@kerrcountylead.com
SUMMARY:Ball Hog (Labs) Meetup
DESCRIPTION:
URL:https://kerrcountylead.com/event/ball-hog-labs-meetup/
LOCATION:Tailchasers Patio + Pub\, 516 Jefferson St\, Kerrville\, TX\, 78028
CATEGORIES:Pet event
END:VEVENT
BEGIN:VEVENT
DTSTART;TZID=America/Chicago:20241116T100000
DTEND;TZID=America/Chicago:20241116T160000
DTSTAMP:20260421T105610
CREATED:20241029T215147Z
LAST-MODIFIED:20241029T215147Z
UID:59841-1731751200-1731772800@kerrcountylead.com
SUMMARY:Texas Furniture Makers Show
DESCRIPTION:Through December 13.
URL:https://kerrcountylead.com/event/texas-furniture-makers-show-59/
LOCATION:Kerr Arts & Cultural Center\, 228 Earl Garrett St.\, Kerrville\, Texas\, 78028
CATEGORIES:The arts
END:VEVENT
BEGIN:VEVENT
DTSTART;TZID=America/Chicago:20241116T100000
DTEND;TZID=America/Chicago:20241116T160000
DTSTAMP:20260421T105610
CREATED:20241109T185032Z
LAST-MODIFIED:20241109T185032Z
UID:60525-1731751200-1731772800@kerrcountylead.com
SUMMARY:Kevin Macpherson: Reflections on a Pond
DESCRIPTION:
URL:https://kerrcountylead.com/event/kevin-macpherson-reflections-on-a-pond-14/
LOCATION:Museum of Western Art\, 1550 Bandera Hwy.\, Kerrville\, Texas\, 78028
CATEGORIES:The arts
END:VEVENT
BEGIN:VEVENT
DTSTART;TZID=America/Chicago:20241116T100000
DTEND;TZID=America/Chicago:20241116T180000
DTSTAMP:20260421T105610
CREATED:20241109T181225Z
LAST-MODIFIED:20241109T181225Z
UID:60458-1731751200-1731780000@kerrcountylead.com
SUMMARY:Our Place in Space
DESCRIPTION:Come see the constellations in our planetarium\, learn about conserving our night skies and about our place in space!
URL:https://kerrcountylead.com/event/our-place-in-space-178/
LOCATION:Riverside Nature Center\, 150 Francisco Lemos St\, Kerrville\, Texas\, 78028
CATEGORIES:Science and nature
END:VEVENT
BEGIN:VEVENT
DTSTART;TZID=America/Chicago:20241116T103000
DTEND;TZID=America/Chicago:20241116T113000
DTSTAMP:20260421T105610
CREATED:20241111T220001Z
LAST-MODIFIED:20241111T220001Z
UID:60935-1731753000-1731756600@kerrcountylead.com
SUMMARY:Adult Yoga: Stretch & Relax
DESCRIPTION:Offered by Humbling Bloom.
URL:https://kerrcountylead.com/event/adult-yoga-stretch-relax-25/
LOCATION:Butt-Holdsworth Memorial Library\, 505 Water St.\, Kerrville\, Texas\, 78028
CATEGORIES:Library event
END:VEVENT
BEGIN:VEVENT
DTSTART;TZID=America/Chicago:20241116T110000
DTEND;TZID=America/Chicago:20241116T210000
DTSTAMP:20260421T105610
CREATED:20241109T193252Z
LAST-MODIFIED:20241109T193252Z
UID:60592-1731754800-1731790800@kerrcountylead.com
SUMMARY:LaRue - Paintings : Weaving Perspectives
DESCRIPTION:Through December 15.
URL:https://kerrcountylead.com/event/larue-paintings-weaving-perspectives-12/
LOCATION:Grape Juice\, 623 Water St\, Kerrville\, TX\, 78028
CATEGORIES:The arts
END:VEVENT
BEGIN:VEVENT
DTSTART;TZID=America/Chicago:20241116T113000
DTEND;TZID=America/Chicago:20241116T143000
DTSTAMP:20260421T105610
CREATED:20241111T220052Z
LAST-MODIFIED:20241111T220216Z
UID:60937-1731756600-1731767400@kerrcountylead.com
SUMMARY:Pet Adoptions
DESCRIPTION:
URL:https://kerrcountylead.com/event/pet-adoptions-19/
LOCATION:KPA! Safe House\, 2102 Memorial Blvd\, Kerrville\, TX\, 78028
CATEGORIES:Pet event
END:VEVENT
BEGIN:VEVENT
DTSTART;TZID=America/Chicago:20241116T123000
DTEND;TZID=America/Chicago:20241116T123000
DTSTAMP:20260421T105610
CREATED:20241111T221954Z
LAST-MODIFIED:20241111T221954Z
UID:60941-1731760200-1731760200@kerrcountylead.com
SUMMARY:Hill Country Archeological Association Meeting
DESCRIPTION:General meeting followed by a presentation by Mike McBride featuring a recap of current fieldwork at Crying Woman Ranch in Kerr County. Free and open to the public.
URL:https://kerrcountylead.com/event/hill-country-archeological-association-meeting/
LOCATION:Riverside Nature Center\, 150 Francisco Lemos St\, Kerrville\, Texas\, 78028
CATEGORIES:Community meeting,History,Science and nature
END:VEVENT
BEGIN:VEVENT
DTSTART;TZID=America/Chicago:20241116T130000
DTEND;TZID=America/Chicago:20241116T160000
DTSTAMP:20260421T105610
CREATED:20241111T222623Z
LAST-MODIFIED:20241111T222623Z
UID:60949-1731762000-1731772800@kerrcountylead.com
SUMMARY:Andy Garcia
DESCRIPTION:
URL:https://kerrcountylead.com/event/andy-garcia-12/
LOCATION:Singing Water Vineyards\, 316 Mill Dam Rd\, Comfort\, TX\, 78013
CATEGORIES:Live music
END:VEVENT
BEGIN:VEVENT
DTSTART;TZID=America/Chicago:20241116T140000
DTEND;TZID=America/Chicago:20241116T160000
DTSTAMP:20260421T105610
CREATED:20241111T222227Z
LAST-MODIFIED:20241111T222227Z
UID:60943-1731765600-1731772800@kerrcountylead.com
SUMMARY:Family Game Day
DESCRIPTION:Free event for all ages. Refreshments and games\, indoors and outdoors. Bring your favorite game\, or come learn a new one! Presented by the Dietert Center in partnership with the Heart of the Hills Heritage Center.
URL:https://kerrcountylead.com/event/family-game-day-4/
LOCATION:Dietert Center\, 451 Guadalupe St #203\, Kerrville\, Texas\, 78028
CATEGORIES:Games
END:VEVENT
BEGIN:VEVENT
DTSTART;TZID=America/Chicago:20241116T140000
DTEND;TZID=America/Chicago:20241116T160000
DTSTAMP:20260421T105610
CREATED:20241111T222326Z
LAST-MODIFIED:20241111T222326Z
UID:60945-1731765600-1731772800@kerrcountylead.com
SUMMARY:Cherokee Rose Malbec Vertical Tasting
DESCRIPTION:
URL:https://kerrcountylead.com/event/cherokee-rose-malbec-vertical-tasting/
LOCATION:Bending Branch Winery\, 142 Lindner Branch Rd\, Comfort\, Texas\, 78013
CATEGORIES:Winery event
END:VEVENT
BEGIN:VEVENT
DTSTART;TZID=America/Chicago:20241116T140000
DTEND;TZID=America/Chicago:20241116T180000
DTSTAMP:20260421T105610
CREATED:20241111T215733Z
LAST-MODIFIED:20241111T215733Z
UID:60931-1731765600-1731780000@kerrcountylead.com
SUMMARY:Fall Market
DESCRIPTION:
URL:https://kerrcountylead.com/event/fall-market-3/
LOCATION:The Hunt Store\, 1634 TX 39\, Hunt\, Texas\, 78024
CATEGORIES:Markets
END:VEVENT
BEGIN:VEVENT
DTSTART;TZID=America/Chicago:20241116T140000
DTEND;TZID=America/Chicago:20241116T180000
DTSTAMP:20260421T105610
CREATED:20241111T221734Z
LAST-MODIFIED:20241111T221734Z
UID:60939-1731765600-1731780000@kerrcountylead.com
SUMMARY:Saddle Up for Strays
DESCRIPTION:A TRUAA fundraiser to support rescuing dogs. There will be live music\, vendors\, comedy performances\, a raffle\, petting zoo\, and pony rides! Entry to the event is free.
URL:https://kerrcountylead.com/event/saddle-up-for-strays/
LOCATION:River Star Arts & Events Park\, 4000 Riverside Dr\, Kerrville\, TX\, 78028
CATEGORIES:Fundraiser,Pet event
END:VEVENT
BEGIN:VEVENT
DTSTART;TZID=America/Chicago:20241116T150000
DTEND;TZID=America/Chicago:20241116T180000
DTSTAMP:20260421T105610
CREATED:20241111T222722Z
LAST-MODIFIED:20241111T222722Z
UID:60951-1731769200-1731780000@kerrcountylead.com
SUMMARY:Saturday Jam Sessions: Jojo Trevino
DESCRIPTION:
URL:https://kerrcountylead.com/event/saturday-jam-sessions-jojo-trevino/
LOCATION:Turtle Creek Vineyard\, 183 Fall Creek Rd\, Kerrville\, TX\, 78028
CATEGORIES:Live music
END:VEVENT
BEGIN:VEVENT
DTSTART;TZID=America/Chicago:20241116T170000
DTEND;TZID=America/Chicago:20241116T200000
DTSTAMP:20260421T105610
CREATED:20241111T222921Z
LAST-MODIFIED:20241111T222921Z
UID:60953-1731776400-1731787200@kerrcountylead.com
SUMMARY:Paul Logan Duo
DESCRIPTION:
URL:https://kerrcountylead.com/event/paul-logan-duo/
LOCATION:The Hunt Store\, 1634 TX 39\, Hunt\, Texas\, 78024
CATEGORIES:Live music
END:VEVENT
BEGIN:VEVENT
DTSTART;TZID=America/Chicago:20241116T180000
DTEND;TZID=America/Chicago:20241116T210000
DTSTAMP:20260421T105610
CREATED:20241111T223105Z
LAST-MODIFIED:20241111T223105Z
UID:60955-1731780000-1731790800@kerrcountylead.com
SUMMARY:Music Under the Oaks
DESCRIPTION:Music by Possessed by Paul James\, Landon Lloyd Miller\, Boone Holding\, Dan Dyer\, and friends. For more info and tickets\, click here. 
URL:https://kerrcountylead.com/event/music-under-the-oaks/
LOCATION:The Charmadillo\, 700 Witt Rd\, Center Point\, TX\, 78010
CATEGORIES:Live music
END:VEVENT
BEGIN:VEVENT
DTSTART;TZID=America/Chicago:20241116T180000
DTEND;TZID=America/Chicago:20241116T210000
DTSTAMP:20260421T105610
CREATED:20241114T224354Z
LAST-MODIFIED:20241114T224354Z
UID:61121-1731780000-1731790800@kerrcountylead.com
SUMMARY:Kailyn Kohler
DESCRIPTION:
URL:https://kerrcountylead.com/event/kailyn-kohler/
LOCATION:Tailchasers Patio + Pub\, 516 Jefferson St\, Kerrville\, TX\, 78028
END:VEVENT
BEGIN:VEVENT
DTSTART;TZID=America/Chicago:20241117T080000
DTEND;TZID=America/Chicago:20241117T080000
DTSTAMP:20260421T105610
CREATED:20241111T224100Z
LAST-MODIFIED:20241111T224100Z
UID:60975-1731830400-1731830400@kerrcountylead.com
SUMMARY:Show With Your Heart
DESCRIPTION:A non-profit prospect show with all proceeds going to the Children’s Heart Foundation. 
URL:https://kerrcountylead.com/event/show-with-your-heart-4/
LOCATION:Hill Country Youth Event Center\, 3785 TX 27\, Kerrville\, Texas\, 78028
CATEGORIES:Ag event,Fundraiser
END:VEVENT
END:VCALENDAR