BEGIN:VCALENDAR
VERSION:2.0
PRODID:-//The Kerr County Lead - ECPv6.15.17.1//NONSGML v1.0//EN
CALSCALE:GREGORIAN
METHOD:PUBLISH
X-WR-CALNAME:The Kerr County Lead
X-ORIGINAL-URL:https://kerrcountylead.com
X-WR-CALDESC:Events for The Kerr County Lead
REFRESH-INTERVAL;VALUE=DURATION:PT1H
X-Robots-Tag:noindex
X-PUBLISHED-TTL:PT1H
BEGIN:VTIMEZONE
TZID:America/Chicago
BEGIN:DAYLIGHT
TZOFFSETFROM:-0600
TZOFFSETTO:-0500
TZNAME:CDT
DTSTART:20230312T080000
END:DAYLIGHT
BEGIN:STANDARD
TZOFFSETFROM:-0500
TZOFFSETTO:-0600
TZNAME:CST
DTSTART:20231105T070000
END:STANDARD
BEGIN:DAYLIGHT
TZOFFSETFROM:-0600
TZOFFSETTO:-0500
TZNAME:CDT
DTSTART:20240310T080000
END:DAYLIGHT
BEGIN:STANDARD
TZOFFSETFROM:-0500
TZOFFSETTO:-0600
TZNAME:CST
DTSTART:20241103T070000
END:STANDARD
BEGIN:DAYLIGHT
TZOFFSETFROM:-0600
TZOFFSETTO:-0500
TZNAME:CDT
DTSTART:20250309T080000
END:DAYLIGHT
BEGIN:STANDARD
TZOFFSETFROM:-0500
TZOFFSETTO:-0600
TZNAME:CST
DTSTART:20251102T070000
END:STANDARD
END:VTIMEZONE
BEGIN:VEVENT
DTSTART;TZID=America/Chicago:20240818T170000
DTEND;TZID=America/Chicago:20240818T200000
DTSTAMP:20260423T160112
CREATED:20240812T193926Z
LAST-MODIFIED:20240812T193926Z
UID:55670-1724000400-1724011200@kerrcountylead.com
SUMMARY:Heartbreak Outlaws
DESCRIPTION:
URL:https://kerrcountylead.com/event/heartbreak-outlaws-29/
LOCATION:Howdy’s Bar & Chill\, 101 Rowland Dr\, Kerrville\, TX\, 78028
CATEGORIES:Live music
END:VEVENT
BEGIN:VEVENT
DTSTART;TZID=America/Chicago:20240818T170000
DTEND;TZID=America/Chicago:20240818T170000
DTSTAMP:20260423T160112
CREATED:20240812T194205Z
LAST-MODIFIED:20240812T194205Z
UID:55676-1724000400-1724000400@kerrcountylead.com
SUMMARY:2024/2025 Preview Party
DESCRIPTION:See what is in store for the next season at the theater. Free event.
URL:https://kerrcountylead.com/event/2024-2025-preview-party/
LOCATION:Cailloux Theater\, 910 Main St.\, Kerrville\, Texas\, 78028
CATEGORIES:Performing arts
END:VEVENT
BEGIN:VEVENT
DTSTART;TZID=America/Chicago:20240818T143000
DTEND;TZID=America/Chicago:20240818T143000
DTSTAMP:20260423T160112
CREATED:20240812T194118Z
LAST-MODIFIED:20240812T194118Z
UID:55674-1723991400-1723991400@kerrcountylead.com
SUMMARY:Promises Promises
DESCRIPTION:Indoor theater. For tickets online\, click here.
URL:https://kerrcountylead.com/event/promises-promises-3/
LOCATION:Hill Country Arts Foundation\, 120 Point Theatre Rd S\, Ingram\, Texas\, 78025
CATEGORIES:Performing arts
END:VEVENT
BEGIN:VEVENT
DTSTART;TZID=America/Chicago:20240818T143000
DTEND;TZID=America/Chicago:20240818T143000
DTSTAMP:20260423T160112
CREATED:20240812T194025Z
LAST-MODIFIED:20240812T194248Z
UID:55672-1723991400-1723991400@kerrcountylead.com
SUMMARY:The Book of Will
DESCRIPTION:By Lauren Gunderson. The story behind the publication of the first collection of William Shakespeare’s plays. Tickets for the show are available online here. 
URL:https://kerrcountylead.com/event/the-book-of-will-5/
LOCATION:VK Garage Theater\, 305 Washington St\, Kerrville\, Texas\, 78028
CATEGORIES:Performing arts
END:VEVENT
BEGIN:VEVENT
DTSTART;TZID=America/Chicago:20240818T140000
DTEND;TZID=America/Chicago:20240818T180000
DTSTAMP:20260423T160112
CREATED:20240815T202424Z
LAST-MODIFIED:20240815T202424Z
UID:55759-1723989600-1724004000@kerrcountylead.com
SUMMARY:The Pearl
DESCRIPTION:
URL:https://kerrcountylead.com/event/the-pearl-9/
LOCATION:Tailchasers Patio + Pub\, 516 Jefferson St\, Kerrville\, TX\, 78028
CATEGORIES:Food truck 411
END:VEVENT
BEGIN:VEVENT
DTSTART;TZID=America/Chicago:20240818T140000
DTEND;TZID=America/Chicago:20240818T170000
DTSTAMP:20260423T160112
CREATED:20240812T193851Z
LAST-MODIFIED:20240812T193851Z
UID:55668-1723989600-1724000400@kerrcountylead.com
SUMMARY:Nico & Jacob
DESCRIPTION:
URL:https://kerrcountylead.com/event/nico-jacob-9/
LOCATION:Bending Branch Winery\, 142 Lindner Branch Rd\, Comfort\, Texas\, 78013
CATEGORIES:Live music
END:VEVENT
BEGIN:VEVENT
DTSTART;TZID=America/Chicago:20240818T133000
DTEND;TZID=America/Chicago:20240818T133000
DTSTAMP:20260423T160112
CREATED:20240812T193738Z
LAST-MODIFIED:20240812T193738Z
UID:55664-1723987800-1723987800@kerrcountylead.com
SUMMARY:Bingo
DESCRIPTION:Sales start 12:30 p.m. Smoking and non-smoking rooms. The Dauber Cafe is open during games\, no outside food or drinks.
URL:https://kerrcountylead.com/event/bingo-231/
LOCATION:American Legion Post 208\, 3600 Riverside Dr\, Kerrville\, TX\, 78028
CATEGORIES:Games
END:VEVENT
BEGIN:VEVENT
DTSTART;TZID=America/Chicago:20240818T130000
DTEND;TZID=America/Chicago:20240818T130000
DTSTAMP:20260423T160112
CREATED:20240812T193819Z
LAST-MODIFIED:20240812T193819Z
UID:55666-1723986000-1723986000@kerrcountylead.com
SUMMARY:Bob Stewart
DESCRIPTION:
URL:https://kerrcountylead.com/event/bob-stewart-30/
LOCATION:Gravity Check Saloon\, 3979 Bandera Hwy 173\, Kerrville\, TX\, 78028\, United States
CATEGORIES:Live music
END:VEVENT
BEGIN:VEVENT
DTSTART;TZID=America/Chicago:20240818T120000
DTEND;TZID=America/Chicago:20240818T180000
DTSTAMP:20260423T160112
CREATED:20240815T202542Z
LAST-MODIFIED:20240815T202542Z
UID:55761-1723982400-1724004000@kerrcountylead.com
SUMMARY:Board Game Day
DESCRIPTION:
URL:https://kerrcountylead.com/event/board-game-day/
LOCATION:Tailchasers Patio + Pub\, 516 Jefferson St\, Kerrville\, TX\, 78028
CATEGORIES:Games
END:VEVENT
BEGIN:VEVENT
DTSTART;TZID=America/Chicago:20240818T120000
DTEND;TZID=America/Chicago:20240818T180000
DTSTAMP:20260423T160112
CREATED:20240812T193656Z
LAST-MODIFIED:20240812T193656Z
UID:55662-1723982400-1724004000@kerrcountylead.com
SUMMARY:Shim’s Be Blessed
DESCRIPTION:
URL:https://kerrcountylead.com/event/shims-be-blessed-90/
LOCATION:Trailhead Beer Garden\, 2100 Memorial Blvd Bldg #11\, Kerrville\, TX\, 78028\, United States
CATEGORIES:Food truck 411
END:VEVENT
BEGIN:VEVENT
DTSTART;TZID=America/Chicago:20240818T110000
DTEND;TZID=America/Chicago:20240818T200000
DTSTAMP:20260423T160112
CREATED:20240812T193604Z
LAST-MODIFIED:20240812T193604Z
UID:55660-1723978800-1724011200@kerrcountylead.com
SUMMARY:Que-Zeen BBQ
DESCRIPTION:
URL:https://kerrcountylead.com/event/que-zeen-bbq-139/
LOCATION:The Ingram Dam\, 610 TX 39\, Ingram\, TX\, 78025
CATEGORIES:Food truck 411
END:VEVENT
BEGIN:VEVENT
DTSTART;TZID=America/Chicago:20240817T180000
DTEND;TZID=America/Chicago:20240817T220000
DTSTAMP:20260423T160112
CREATED:20240815T202302Z
LAST-MODIFIED:20240815T202302Z
UID:55757-1723917600-1723932000@kerrcountylead.com
SUMMARY:Lonestar 118
DESCRIPTION:
URL:https://kerrcountylead.com/event/lonestar-118/
LOCATION:Tailchasers Patio + Pub\, 516 Jefferson St\, Kerrville\, TX\, 78028
CATEGORIES:Live music
END:VEVENT
BEGIN:VEVENT
DTSTART;TZID=America/Chicago:20240817T180000
DTEND;TZID=America/Chicago:20240817T210000
DTSTAMP:20260423T160112
CREATED:20240815T202127Z
LAST-MODIFIED:20240815T202127Z
UID:55755-1723917600-1723928400@kerrcountylead.com
SUMMARY:The Pearl
DESCRIPTION:
URL:https://kerrcountylead.com/event/the-pearl-8/
LOCATION:Tailchasers Patio + Pub\, 516 Jefferson St\, Kerrville\, TX\, 78028
CATEGORIES:Food truck 411
END:VEVENT
BEGIN:VEVENT
DTSTART;TZID=America/Chicago:20240817T180000
DTEND;TZID=America/Chicago:20240817T200000
DTSTAMP:20260423T160112
CREATED:20240812T192900Z
LAST-MODIFIED:20240812T192900Z
UID:55640-1723917600-1723924800@kerrcountylead.com
SUMMARY:Kerrville Classics
DESCRIPTION:
URL:https://kerrcountylead.com/event/kerrville-classics/
LOCATION:Pint & Plow Brewing Co.\, 332 Clay St\, Kerrville\, Texas\, 78028
CATEGORIES:Live music
END:VEVENT
BEGIN:VEVENT
DTSTART;TZID=America/Chicago:20240817T150000
DTEND;TZID=America/Chicago:20240817T210000
DTSTAMP:20260423T160112
CREATED:20240812T192728Z
LAST-MODIFIED:20240812T192728Z
UID:55636-1723906800-1723928400@kerrcountylead.com
SUMMARY:Summer Saturdays
DESCRIPTION:Farm tours\, exploring\, and the farm restaurant will be serving pizza\, tacos\, and other fresh fare! Be sure to stop by the farm store inside the restaurant for some produce and goods to take home. 
URL:https://kerrcountylead.com/event/summer-saturdays-4/
LOCATION:Sovereignty Ranch\, 165 Wyatt Ranch Road E\, Bandera\, TX\, 78003
END:VEVENT
BEGIN:VEVENT
DTSTART;TZID=America/Chicago:20240817T140000
DTEND;TZID=America/Chicago:20240817T160000
DTSTAMP:20260423T160112
CREATED:20240812T192511Z
LAST-MODIFIED:20240812T192511Z
UID:55632-1723903200-1723910400@kerrcountylead.com
SUMMARY:Artist Reception
DESCRIPTION:
URL:https://kerrcountylead.com/event/artist-reception-16/
LOCATION:Kerr Arts & Cultural Center\, 228 Earl Garrett St.\, Kerrville\, Texas\, 78028
CATEGORIES:The arts
END:VEVENT
BEGIN:VEVENT
DTSTART;TZID=America/Chicago:20240817T140000
DTEND;TZID=America/Chicago:20240817T153000
DTSTAMP:20260423T160112
CREATED:20240812T192111Z
LAST-MODIFIED:20240812T192111Z
UID:55624-1723903200-1723908600@kerrcountylead.com
SUMMARY:Get Crafty! Adult Craft Class
DESCRIPTION:The class will be making wreaths. Registration required. For more info and to register\, click here.
URL:https://kerrcountylead.com/event/get-crafty-adult-craft-class-6/
LOCATION:Butt-Holdsworth Memorial Library\, 505 Water St.\, Kerrville\, Texas\, 78028
CATEGORIES:Library event
END:VEVENT
BEGIN:VEVENT
DTSTART;TZID=America/Chicago:20240817T140000
DTEND;TZID=America/Chicago:20240817T150000
DTSTAMP:20260423T160112
CREATED:20240812T192611Z
LAST-MODIFIED:20240812T192611Z
UID:55634-1723903200-1723906800@kerrcountylead.com
SUMMARY:Ice Cream Social Fundraiser
DESCRIPTION:Come support the arts and eat ice cream! Adult tickets include a hand-painted ceramic ice cream bowl. For ticket info\, click here.
URL:https://kerrcountylead.com/event/ice-cream-social-fundraiser/
LOCATION:Hill Country Arts Foundation\, 120 Point Theatre Rd S\, Ingram\, Texas\, 78025
CATEGORIES:The arts
END:VEVENT
BEGIN:VEVENT
DTSTART;TZID=America/Chicago:20240817T130000
DTEND;TZID=America/Chicago:20240817T150000
DTSTAMP:20260423T160112
CREATED:20240812T191434Z
LAST-MODIFIED:20240815T201648Z
UID:55614-1723899600-1723906800@kerrcountylead.com
SUMMARY:NEd Talk: Pathway to Space
DESCRIPTION:Presentation and meet & greet with Astronaut Jessica Wittner. Click here to register. 
URL:https://kerrcountylead.com/event/ned-talk-pathway-to-space/
LOCATION:Riverside Nature Center\, 150 Francisco Lemos St\, Kerrville\, Texas\, 78028
CATEGORIES:Science and nature
END:VEVENT
BEGIN:VEVENT
DTSTART;TZID=America/Chicago:20240817T130000
DTEND;TZID=America/Chicago:20240817T130000
DTSTAMP:20260423T160112
CREATED:20240812T192411Z
LAST-MODIFIED:20240812T192411Z
UID:55630-1723899600-1723899600@kerrcountylead.com
SUMMARY:Texas 2 Step Sale
DESCRIPTION:
URL:https://kerrcountylead.com/event/texas-2-step-sale/
LOCATION:Hill Country Youth Event Center\, 3785 TX 27\, Kerrville\, Texas\, 78028
CATEGORIES:Ag event
END:VEVENT
BEGIN:VEVENT
DTSTART;TZID=America/Chicago:20240817T120000
DTEND;TZID=America/Chicago:20240817T210000
DTSTAMP:20260423T160112
CREATED:20240812T192309Z
LAST-MODIFIED:20240812T192309Z
UID:55628-1723896000-1723928400@kerrcountylead.com
SUMMARY:Shim’s Be Blessed
DESCRIPTION:
URL:https://kerrcountylead.com/event/shims-be-blessed-89/
LOCATION:Trailhead Beer Garden\, 2100 Memorial Blvd Bldg #11\, Kerrville\, TX\, 78028\, United States
CATEGORIES:Food truck 411
END:VEVENT
BEGIN:VEVENT
DTSTART;TZID=America/Chicago:20240817T110000
DTEND;TZID=America/Chicago:20240817T200000
DTSTAMP:20260423T160112
CREATED:20240812T192210Z
LAST-MODIFIED:20240812T192210Z
UID:55626-1723892400-1723924800@kerrcountylead.com
SUMMARY:Que-Zeen BBQ
DESCRIPTION:
URL:https://kerrcountylead.com/event/que-zeen-bbq-138/
LOCATION:The Ingram Dam\, 610 TX 39\, Ingram\, TX\, 78025
CATEGORIES:Food truck 411
END:VEVENT
BEGIN:VEVENT
DTSTART;TZID=America/Chicago:20240817T110000
DTEND;TZID=America/Chicago:20240817T150000
DTSTAMP:20260423T160112
CREATED:20240812T191219Z
LAST-MODIFIED:20240812T191219Z
UID:55610-1723892400-1723906800@kerrcountylead.com
SUMMARY:Mo Gives Back!
DESCRIPTION:
URL:https://kerrcountylead.com/event/mo-gives-back/
LOCATION:Mo Ranch\, 2229 FM 1340\, Hunt\, TX\, 78024
CATEGORIES:Outdoor activities
END:VEVENT
BEGIN:VEVENT
DTSTART;TZID=America/Chicago:20240817T103000
DTEND;TZID=America/Chicago:20240817T113000
DTSTAMP:20260423T160112
CREATED:20240812T191957Z
LAST-MODIFIED:20240812T191957Z
UID:55622-1723890600-1723894200@kerrcountylead.com
SUMMARY:Adult Yoga: Stretch & Relax
DESCRIPTION:Offered by Humbling Bloom.
URL:https://kerrcountylead.com/event/adult-yoga-stretch-relax-19/
LOCATION:Butt-Holdsworth Memorial Library\, 505 Water St.\, Kerrville\, Texas\, 78028
CATEGORIES:Library event,Wellness
END:VEVENT
BEGIN:VEVENT
DTSTART;TZID=America/Chicago:20240817T100000
DTEND;TZID=America/Chicago:20240817T180000
DTSTAMP:20260423T160112
CREATED:20240729T193642Z
LAST-MODIFIED:20240729T193642Z
UID:55101-1723888800-1723917600@kerrcountylead.com
SUMMARY:Our Place in Space
DESCRIPTION:Come see the constellations in our planetarium\, learn about conserving our night skies and about our place in space!
URL:https://kerrcountylead.com/event/our-place-in-space-100/
LOCATION:Riverside Nature Center\, 150 Francisco Lemos St\, Kerrville\, Texas\, 78028
CATEGORIES:Science and nature
END:VEVENT
BEGIN:VEVENT
DTSTART;TZID=America/Chicago:20240817T100000
DTEND;TZID=America/Chicago:20240817T160000
DTSTAMP:20260423T160112
CREATED:20240812T195714Z
LAST-MODIFIED:20240812T195714Z
UID:55714-1723888800-1723910400@kerrcountylead.com
SUMMARY:KACC Art Exhibits
DESCRIPTION:Zena Stetka Howe\, Images Judged Membership Show\, and Hill Country Camera Club Judged Exhibit. Through September 7. 
URL:https://kerrcountylead.com/event/kacc-art-exhibits-285/
LOCATION:Kerr Arts & Cultural Center\, 228 Earl Garrett St.\, Kerrville\, Texas\, 78028
CATEGORIES:The arts
END:VEVENT
BEGIN:VEVENT
DTSTART;TZID=America/Chicago:20240817T100000
DTEND;TZID=America/Chicago:20240817T160000
DTSTAMP:20260423T160112
CREATED:20240731T154405Z
LAST-MODIFIED:20240731T154405Z
UID:55202-1723888800-1723910400@kerrcountylead.com
SUMMARY:Two Perspectives: Scott Christensen & Quang Ho
DESCRIPTION:
URL:https://kerrcountylead.com/event/two-perspectives-scott-christensen-quang-ho-20/
LOCATION:Museum of Western Art\, 1550 Bandera Hwy.\, Kerrville\, Texas\, 78028
CATEGORIES:The arts
END:VEVENT
BEGIN:VEVENT
DTSTART;TZID=America/Chicago:20240817T093000
DTEND;TZID=America/Chicago:20240817T123000
DTSTAMP:20260423T160112
CREATED:20240812T191818Z
LAST-MODIFIED:20240815T200831Z
UID:55620-1723887000-1723897800@kerrcountylead.com
SUMMARY:Pet Adoptions
DESCRIPTION:This week there will also be a “Silver Paws” special for senior cats\, and registration for September’s low-cost vaccine clinic.
URL:https://kerrcountylead.com/event/pet-adoptions-14/
LOCATION:KPA! Safe House\, 2102 Memorial Blvd\, Kerrville\, TX\, 78028
CATEGORIES:Pet event
END:VEVENT
BEGIN:VEVENT
DTSTART;TZID=America/Chicago:20240817T090000
DTEND;TZID=America/Chicago:20240817T130000
DTSTAMP:20260423T160112
CREATED:20240812T191631Z
LAST-MODIFIED:20240812T191631Z
UID:55616-1723885200-1723899600@kerrcountylead.com
SUMMARY:Farmers Market
DESCRIPTION:
URL:https://kerrcountylead.com/event/farmers-market-55/
LOCATION:Parking Lot @ 741 Water St\, 741 Water St\, Kerrville\, TX\, 78028
CATEGORIES:Markets
END:VEVENT
BEGIN:VEVENT
DTSTART;TZID=America/Chicago:20240817T090000
DTEND;TZID=America/Chicago:20240817T090000
DTSTAMP:20260423T160112
CREATED:20240815T201109Z
LAST-MODIFIED:20240815T201109Z
UID:55749-1723885200-1723885200@kerrcountylead.com
SUMMARY:Meditation Group
DESCRIPTION:Michael Wurth\, LPC-S will lead a meditation session.
URL:https://kerrcountylead.com/event/meditation-group-11/
LOCATION:UUCHC\, 960 Barnett St\, Kerrville\, TX\, 78028
CATEGORIES:Wellness
END:VEVENT
END:VCALENDAR