BEGIN:VCALENDAR
VERSION:2.0
PRODID:-//The Kerr County Lead - ECPv6.15.17.1//NONSGML v1.0//EN
CALSCALE:GREGORIAN
METHOD:PUBLISH
X-WR-CALNAME:The Kerr County Lead
X-ORIGINAL-URL:https://kerrcountylead.com
X-WR-CALDESC:Events for The Kerr County Lead
REFRESH-INTERVAL;VALUE=DURATION:PT1H
X-Robots-Tag:noindex
X-PUBLISHED-TTL:PT1H
BEGIN:VTIMEZONE
TZID:America/Chicago
BEGIN:DAYLIGHT
TZOFFSETFROM:-0600
TZOFFSETTO:-0500
TZNAME:CDT
DTSTART:20230312T080000
END:DAYLIGHT
BEGIN:STANDARD
TZOFFSETFROM:-0500
TZOFFSETTO:-0600
TZNAME:CST
DTSTART:20231105T070000
END:STANDARD
BEGIN:DAYLIGHT
TZOFFSETFROM:-0600
TZOFFSETTO:-0500
TZNAME:CDT
DTSTART:20240310T080000
END:DAYLIGHT
BEGIN:STANDARD
TZOFFSETFROM:-0500
TZOFFSETTO:-0600
TZNAME:CST
DTSTART:20241103T070000
END:STANDARD
BEGIN:DAYLIGHT
TZOFFSETFROM:-0600
TZOFFSETTO:-0500
TZNAME:CDT
DTSTART:20250309T080000
END:DAYLIGHT
BEGIN:STANDARD
TZOFFSETFROM:-0500
TZOFFSETTO:-0600
TZNAME:CST
DTSTART:20251102T070000
END:STANDARD
END:VTIMEZONE
BEGIN:VEVENT
DTSTART;TZID=America/Chicago:20241012T110000
DTEND;TZID=America/Chicago:20241012T110000
DTSTAMP:20260423T053357
CREATED:20241012T211030Z
LAST-MODIFIED:20241012T211030Z
UID:58866-1728730800-1728730800@kerrcountylead.com
SUMMARY:Adult Clothing Swap
DESCRIPTION:
URL:https://kerrcountylead.com/event/adult-clothing-swap/
LOCATION:Central Provisions\, 227 FM 480\, Center Point\, Texas\, 78010
END:VEVENT
BEGIN:VEVENT
DTSTART;TZID=America/Chicago:20241012T103000
DTEND;TZID=America/Chicago:20241012T143000
DTSTAMP:20260423T053357
CREATED:20241012T211813Z
LAST-MODIFIED:20241012T211813Z
UID:58884-1728729000-1728743400@kerrcountylead.com
SUMMARY:Dog Adoptions
DESCRIPTION:KPA will transport dogs from KCAS for a Saturday adoption event to give impounded dogs a chance at a new life. 
URL:https://kerrcountylead.com/event/dog-adoptions/
LOCATION:KPA! Safe House\, 2102 Memorial Blvd\, Kerrville\, TX\, 78028
CATEGORIES:Pet event
END:VEVENT
BEGIN:VEVENT
DTSTART;TZID=America/Chicago:20241012T103000
DTEND;TZID=America/Chicago:20241012T113000
DTSTAMP:20260423T053357
CREATED:20241012T211614Z
LAST-MODIFIED:20241012T211614Z
UID:58880-1728729000-1728732600@kerrcountylead.com
SUMMARY:NPSOT: Winter Gardens
DESCRIPTION:
URL:https://kerrcountylead.com/event/npsot-winter-gardens/
LOCATION:Butt-Holdsworth Memorial Library\, 505 Water St.\, Kerrville\, Texas\, 78028
END:VEVENT
BEGIN:VEVENT
DTSTART;TZID=America/Chicago:20241012T100000
DTEND;TZID=America/Chicago:20241012T180000
DTSTAMP:20260423T053357
CREATED:20241003T205806Z
LAST-MODIFIED:20241003T205806Z
UID:58030-1728727200-1728756000@kerrcountylead.com
SUMMARY:Our Place in Space
DESCRIPTION:Come see the constellations in our planetarium\, learn about conserving our night skies and about our place in space!
URL:https://kerrcountylead.com/event/our-place-in-space-147/
LOCATION:Riverside Nature Center\, 150 Francisco Lemos St\, Kerrville\, Texas\, 78028
CATEGORIES:Science and nature
END:VEVENT
BEGIN:VEVENT
DTSTART;TZID=America/Chicago:20241012T100000
DTEND;TZID=America/Chicago:20241012T160000
DTSTAMP:20260423T053357
CREATED:20241012T211524Z
LAST-MODIFIED:20241012T211524Z
UID:58878-1728727200-1728748800@kerrcountylead.com
SUMMARY:Friends of the Library Book Sale
DESCRIPTION:
URL:https://kerrcountylead.com/event/friends-of-the-library-book-sale-100/
LOCATION:Butt-Holdsworth Memorial Library\, 505 Water St.\, Kerrville\, Texas\, 78028
CATEGORIES:Library event
END:VEVENT
BEGIN:VEVENT
DTSTART;TZID=America/Chicago:20241012T100000
DTEND;TZID=America/Chicago:20241012T160000
DTSTAMP:20260423T053357
CREATED:20241003T222028Z
LAST-MODIFIED:20241003T222028Z
UID:58204-1728727200-1728748800@kerrcountylead.com
SUMMARY:KACC Art Exhibits
DESCRIPTION:Our Hectic Lives by Patty Thomas\, Kerrville Art Club Show and Sale\, and Magnificent Seven Rides Again.
URL:https://kerrcountylead.com/event/kacc-art-exhibits-312/
LOCATION:Kerr Arts & Cultural Center\, 228 Earl Garrett St.\, Kerrville\, Texas\, 78028
CATEGORIES:The arts
END:VEVENT
BEGIN:VEVENT
DTSTART;TZID=America/Chicago:20241012T100000
DTEND;TZID=America/Chicago:20241012T160000
DTSTAMP:20260423T053357
CREATED:20241003T215943Z
LAST-MODIFIED:20241003T215943Z
UID:58156-1728727200-1728748800@kerrcountylead.com
SUMMARY:Al Glann: Poetry in Motion
DESCRIPTION:
URL:https://kerrcountylead.com/event/al-glann-poetry-in-motion-11/
LOCATION:Museum of Western Art\, 1550 Bandera Hwy.\, Kerrville\, Texas\, 78028
CATEGORIES:The arts
END:VEVENT
BEGIN:VEVENT
DTSTART;TZID=America/Chicago:20241012T100000
DTEND;TZID=America/Chicago:20241012T140000
DTSTAMP:20260423T053357
CREATED:20241003T211902Z
LAST-MODIFIED:20241003T211902Z
UID:58080-1728727200-1728741600@kerrcountylead.com
SUMMARY:Altars\, Icons\, and Oddities
DESCRIPTION:
URL:https://kerrcountylead.com/event/altars-icons-and-oddities-8/
LOCATION:Hill Country Arts Foundation\, 120 Point Theatre Rd S\, Ingram\, Texas\, 78025
CATEGORIES:The arts
END:VEVENT
BEGIN:VEVENT
DTSTART;TZID=America/Chicago:20241012T100000
DTEND;TZID=America/Chicago:20241012T130000
DTSTAMP:20260423T053357
CREATED:20241012T211310Z
LAST-MODIFIED:20241012T211310Z
UID:58872-1728727200-1728738000@kerrcountylead.com
SUMMARY:KPUB Bucket Truck Rides
DESCRIPTION:
URL:https://kerrcountylead.com/event/kpub-bucket-truck-rides/
LOCATION:Louise Hays Park\, 202 Thompson Dr\, Kerrville\, Texas\, 78028
CATEGORIES:Celebration
END:VEVENT
BEGIN:VEVENT
DTSTART;TZID=America/Chicago:20241012T100000
DTEND;TZID=America/Chicago:20241012T130000
DTSTAMP:20260423T053357
CREATED:20241012T210955Z
LAST-MODIFIED:20241012T210955Z
UID:58864-1728727200-1728738000@kerrcountylead.com
SUMMARY:PopUp Farmers Market
DESCRIPTION:
URL:https://kerrcountylead.com/event/popup-farmers-market-2/
LOCATION:Pint & Plow Brewing Co.\, 332 Clay St\, Kerrville\, Texas\, 78028
CATEGORIES:Markets
END:VEVENT
BEGIN:VEVENT
DTSTART;TZID=America/Chicago:20241012T090000
DTEND;TZID=America/Chicago:20241012T160000
DTSTAMP:20260423T053357
CREATED:20241012T210755Z
LAST-MODIFIED:20241012T210755Z
UID:58858-1728723600-1728748800@kerrcountylead.com
SUMMARY:Hill Country Gun Show
DESCRIPTION:
URL:https://kerrcountylead.com/event/hill-country-gun-show-9/
LOCATION:Hill Country Veterans Center\, 411 Meadowview Ln\, Kerrville\, TX\, 78028
CATEGORIES:Shows and sales
END:VEVENT
BEGIN:VEVENT
DTSTART;TZID=America/Chicago:20241012T090000
DTEND;TZID=America/Chicago:20241012T130000
DTSTAMP:20260423T053357
CREATED:20241012T210840Z
LAST-MODIFIED:20241012T210840Z
UID:58860-1728723600-1728738000@kerrcountylead.com
SUMMARY:Farmers Market
DESCRIPTION:
URL:https://kerrcountylead.com/event/farmers-market-63/
LOCATION:Parking Lot @ 741 Water St\, 741 Water St\, Kerrville\, TX\, 78028
CATEGORIES:Markets
END:VEVENT
BEGIN:VEVENT
DTSTART;TZID=America/Chicago:20241012T090000
DTEND;TZID=America/Chicago:20241012T090000
DTSTAMP:20260423T053357
CREATED:20241012T211157Z
LAST-MODIFIED:20241012T211157Z
UID:58870-1728723600-1728723600@kerrcountylead.com
SUMMARY:Meditation Group
DESCRIPTION:Michael Wurth\, LPC-S will lead a meditation session.
URL:https://kerrcountylead.com/event/meditation-group-14/
LOCATION:UUCHC\, 960 Barnett St\, Kerrville\, TX\, 78028
CATEGORIES:Wellness
END:VEVENT
BEGIN:VEVENT
DTSTART;TZID=America/Chicago:20241012T090000
DTEND;TZID=America/Chicago:20241012T090000
DTSTAMP:20260423T053357
CREATED:20241012T210628Z
LAST-MODIFIED:20241012T210628Z
UID:58856-1728723600-1728723600@kerrcountylead.com
SUMMARY:Oktoberfisch
DESCRIPTION:Calling all fishing enthusiasts! The Texas Hill Country Fly Fishers invites you to attend. Free admission. To register and for more information\, click here. 
URL:https://kerrcountylead.com/event/oktoberfisch/
LOCATION:Hill Country Youth Event Center\, 3785 TX 27\, Kerrville\, Texas\, 78028
CATEGORIES:Shows and sales
END:VEVENT
BEGIN:VEVENT
DTSTART;TZID=America/Chicago:20241012T080000
DTEND;TZID=America/Chicago:20241012T150000
DTSTAMP:20260423T053357
CREATED:20241012T210508Z
LAST-MODIFIED:20241012T210508Z
UID:58854-1728720000-1728745200@kerrcountylead.com
SUMMARY:Hill Country Swap Meet and Kerr County Market Days
DESCRIPTION:A community garage sale and flea market with all types of merchandise. Buy\, sell and trade. Concessions available\, indoors\, free parking. Pets are welcome: stop by the KPA! tent to see what fun things they have for your furry friends. 
URL:https://kerrcountylead.com/event/hill-country-swap-meet-and-kerr-county-market-days-13/
LOCATION:Hill Country Youth Event Center\, 3785 TX 27\, Kerrville\, Texas\, 78028
CATEGORIES:Markets
END:VEVENT
BEGIN:VEVENT
DTSTART;TZID=America/Chicago:20241012T080000
DTEND;TZID=America/Chicago:20241012T080000
DTSTAMP:20260423T053357
CREATED:20241012T210921Z
LAST-MODIFIED:20241012T210921Z
UID:58862-1728720000-1728720000@kerrcountylead.com
SUMMARY:Hillside Harvest Market
DESCRIPTION:
URL:https://kerrcountylead.com/event/hillside-harvest-market-41/
LOCATION:Parking Lot @ 5 Points\, 301 Junction Hwy\, Kerrville\, TX\, 78028
CATEGORIES:Markets
END:VEVENT
BEGIN:VEVENT
DTSTART;TZID=America/Chicago:20241012T080000
DTEND;TZID=America/Chicago:20241012T080000
DTSTAMP:20260423T053357
CREATED:20241012T210408Z
LAST-MODIFIED:20241012T210408Z
UID:58852-1728720000-1728720000@kerrcountylead.com
SUMMARY:Kerrville Walking Group
DESCRIPTION:Location: Eagle Ridge. Join the KWG on Saturday mornings for nature walks. Most routes are 2-4 miles. Visit website for exact meeting location and further details.
URL:https://kerrcountylead.com/event/kerrville-walking-group-32/
LOCATION:Various Locations
CATEGORIES:Outdoor activities
END:VEVENT
BEGIN:VEVENT
DTSTART;TZID=America/Chicago:20241011T190000
DTEND;TZID=America/Chicago:20241011T230000
DTSTAMP:20260423T053357
CREATED:20241011T192634Z
LAST-MODIFIED:20241011T192634Z
UID:58736-1728673200-1728687600@kerrcountylead.com
SUMMARY:Game Night
DESCRIPTION:
URL:https://kerrcountylead.com/event/game-night-10/
LOCATION:Doyle Community Center\, 110 W. Barnett St.\, Kerrville\, Texas\, 78028
CATEGORIES:Games
END:VEVENT
BEGIN:VEVENT
DTSTART;TZID=America/Chicago:20241011T190000
DTEND;TZID=America/Chicago:20241011T220000
DTSTAMP:20260423T053357
CREATED:20241011T193239Z
LAST-MODIFIED:20241011T193239Z
UID:58751-1728673200-1728684000@kerrcountylead.com
SUMMARY:The Q-tips
DESCRIPTION:
URL:https://kerrcountylead.com/event/the-q-tips-2/
LOCATION:Joanne Marie and Me\, 321 TX 39\, Ingram\, Texas\, 78025
CATEGORIES:Live music
END:VEVENT
BEGIN:VEVENT
DTSTART;TZID=America/Chicago:20241011T180000
DTEND;TZID=America/Chicago:20241011T200000
DTSTAMP:20260423T053357
CREATED:20241011T193108Z
LAST-MODIFIED:20241011T193108Z
UID:58745-1728669600-1728676800@kerrcountylead.com
SUMMARY:In Six Days
DESCRIPTION:
URL:https://kerrcountylead.com/event/in-six-days-7/
LOCATION:Pint & Plow Brewing Co.\, 332 Clay St\, Kerrville\, Texas\, 78028
CATEGORIES:Live music
END:VEVENT
BEGIN:VEVENT
DTSTART;TZID=America/Chicago:20241011T160000
DTEND;TZID=America/Chicago:20241011T160000
DTSTAMP:20260423T053357
CREATED:20241011T193026Z
LAST-MODIFIED:20241011T193026Z
UID:58742-1728662400-1728662400@kerrcountylead.com
SUMMARY:Ribbon Cutting
DESCRIPTION:
URL:https://kerrcountylead.com/event/ribbon-cutting-2/
LOCATION:Texas Hill Country Advisors\, 929 Barnett St\, Kerrville\, TX\, 78028
CATEGORIES:Celebration
END:VEVENT
BEGIN:VEVENT
DTSTART;TZID=America/Chicago:20241011T160000
DTEND;TZID=America/Chicago:20241011T160000
DTSTAMP:20260423T053357
CREATED:20241011T192830Z
LAST-MODIFIED:20241011T192830Z
UID:58740-1728662400-1728662400@kerrcountylead.com
SUMMARY:SU Women's Soccer vs Southwestern
DESCRIPTION:
URL:https://kerrcountylead.com/event/su-womens-soccer-vs-southwestern/
LOCATION:Scott Schreiner Municipal Golf Course\, 1 Country Club Dr\, Kerrville\, TX\, 78028
CATEGORIES:College sports
END:VEVENT
BEGIN:VEVENT
DTSTART;TZID=America/Chicago:20241011T130000
DTEND;TZID=America/Chicago:20241011T130000
DTSTAMP:20260423T053357
CREATED:20241011T192722Z
LAST-MODIFIED:20241011T192722Z
UID:58738-1728651600-1728651600@kerrcountylead.com
SUMMARY:SU Men's Soccer vs Southwestern
DESCRIPTION:
URL:https://kerrcountylead.com/event/su-mens-soccer-vs-southwestern/
LOCATION:Schreiner University\, 2100 Memorial Blvd\, Kerrville\, Texas\, 78028
CATEGORIES:College sports
END:VEVENT
BEGIN:VEVENT
DTSTART;TZID=America/Chicago:20241011T120000
DTEND;TZID=America/Chicago:20241011T140000
DTSTAMP:20260423T053357
CREATED:20241011T192523Z
LAST-MODIFIED:20241011T192523Z
UID:58732-1728648000-1728655200@kerrcountylead.com
SUMMARY:Senior Lunch & Bingo
DESCRIPTION:
URL:https://kerrcountylead.com/event/senior-lunch-bingo-5/
LOCATION:Doyle Community Center\, 110 W. Barnett St.\, Kerrville\, Texas\, 78028
CATEGORIES:Games
END:VEVENT
BEGIN:VEVENT
DTSTART;TZID=America/Chicago:20241011T110000
DTEND;TZID=America/Chicago:20241011T210000
DTSTAMP:20260423T053357
CREATED:20241014T161145Z
LAST-MODIFIED:20241014T161145Z
UID:59121-1728644400-1728680400@kerrcountylead.com
SUMMARY:Harvest Festival
DESCRIPTION:Petting zoo\, pumpkin patch\, barrel rides\, apple cider\, and fun for the whole family! Fridays thru Sundays on the farm Oct 11 – Nov 3\, 11am to 9pm. 
URL:https://kerrcountylead.com/event/harvest-festival-2/
LOCATION:Sovereignty Ranch\, 165 Wyatt Ranch Road E\, Bandera\, TX\, 78003
END:VEVENT
BEGIN:VEVENT
DTSTART;TZID=America/Chicago:20241011T100000
DTEND;TZID=America/Chicago:20241011T180000
DTSTAMP:20260423T053357
CREATED:20241003T205604Z
LAST-MODIFIED:20241003T205604Z
UID:58028-1728640800-1728669600@kerrcountylead.com
SUMMARY:Our Place in Space
DESCRIPTION:Come see the constellations in our planetarium\, learn about conserving our night skies and about our place in space!
URL:https://kerrcountylead.com/event/our-place-in-space-146/
LOCATION:Riverside Nature Center\, 150 Francisco Lemos St\, Kerrville\, Texas\, 78028
CATEGORIES:Science and nature
END:VEVENT
BEGIN:VEVENT
DTSTART;TZID=America/Chicago:20241011T100000
DTEND;TZID=America/Chicago:20241011T160000
DTSTAMP:20260423T053357
CREATED:20241003T221945Z
LAST-MODIFIED:20241003T221945Z
UID:58202-1728640800-1728662400@kerrcountylead.com
SUMMARY:KACC Art Exhibits
DESCRIPTION:Our Hectic Lives by Patty Thomas\, Kerrville Art Club Show and Sale\, and Magnificent Seven Rides Again.
URL:https://kerrcountylead.com/event/kacc-art-exhibits-311/
LOCATION:Kerr Arts & Cultural Center\, 228 Earl Garrett St.\, Kerrville\, Texas\, 78028
CATEGORIES:The arts
END:VEVENT
BEGIN:VEVENT
DTSTART;TZID=America/Chicago:20241011T100000
DTEND;TZID=America/Chicago:20241011T160000
DTSTAMP:20260423T053357
CREATED:20241003T215836Z
LAST-MODIFIED:20241003T215836Z
UID:58154-1728640800-1728662400@kerrcountylead.com
SUMMARY:Al Glann: Poetry in Motion
DESCRIPTION:
URL:https://kerrcountylead.com/event/al-glann-poetry-in-motion-10/
LOCATION:Museum of Western Art\, 1550 Bandera Hwy.\, Kerrville\, Texas\, 78028
CATEGORIES:The arts
END:VEVENT
BEGIN:VEVENT
DTSTART;TZID=America/Chicago:20241011T100000
DTEND;TZID=America/Chicago:20241011T160000
DTSTAMP:20260423T053357
CREATED:20241003T211833Z
LAST-MODIFIED:20241003T211833Z
UID:58078-1728640800-1728662400@kerrcountylead.com
SUMMARY:Altars\, Icons\, and Oddities
DESCRIPTION:
URL:https://kerrcountylead.com/event/altars-icons-and-oddities-7/
LOCATION:Hill Country Arts Foundation\, 120 Point Theatre Rd S\, Ingram\, Texas\, 78025
CATEGORIES:The arts
END:VEVENT
BEGIN:VEVENT
DTSTART;TZID=America/Chicago:20241010T160000
DTEND;TZID=America/Chicago:20241010T170000
DTSTAMP:20260423T053357
CREATED:20241011T191507Z
LAST-MODIFIED:20241011T191507Z
UID:58716-1728576000-1728579600@kerrcountylead.com
SUMMARY:Family Crafternoon
DESCRIPTION:Join us for a Ghost Portraits craft.
URL:https://kerrcountylead.com/event/family-crafternoon-2/
LOCATION:Butt-Holdsworth Memorial Library\, 505 Water St.\, Kerrville\, Texas\, 78028
CATEGORIES:Library event
END:VEVENT
END:VCALENDAR