BEGIN:VCALENDAR
VERSION:2.0
PRODID:-//The Kerr County Lead - ECPv6.15.17.1//NONSGML v1.0//EN
CALSCALE:GREGORIAN
METHOD:PUBLISH
X-ORIGINAL-URL:https://kerrcountylead.com
X-WR-CALDESC:Events for The Kerr County Lead
REFRESH-INTERVAL;VALUE=DURATION:PT1H
X-Robots-Tag:noindex
X-PUBLISHED-TTL:PT1H
BEGIN:VTIMEZONE
TZID:America/Chicago
BEGIN:DAYLIGHT
TZOFFSETFROM:-0600
TZOFFSETTO:-0500
TZNAME:CDT
DTSTART:20230312T080000
END:DAYLIGHT
BEGIN:STANDARD
TZOFFSETFROM:-0500
TZOFFSETTO:-0600
TZNAME:CST
DTSTART:20231105T070000
END:STANDARD
BEGIN:DAYLIGHT
TZOFFSETFROM:-0600
TZOFFSETTO:-0500
TZNAME:CDT
DTSTART:20240310T080000
END:DAYLIGHT
BEGIN:STANDARD
TZOFFSETFROM:-0500
TZOFFSETTO:-0600
TZNAME:CST
DTSTART:20241103T070000
END:STANDARD
BEGIN:DAYLIGHT
TZOFFSETFROM:-0600
TZOFFSETTO:-0500
TZNAME:CDT
DTSTART:20250309T080000
END:DAYLIGHT
BEGIN:STANDARD
TZOFFSETFROM:-0500
TZOFFSETTO:-0600
TZNAME:CST
DTSTART:20251102T070000
END:STANDARD
END:VTIMEZONE
BEGIN:VEVENT
DTSTART;TZID=America/Chicago:20240525T130000
DTEND;TZID=America/Chicago:20240525T160000
DTSTAMP:20260419T074055
CREATED:20240518T212719Z
LAST-MODIFIED:20240518T212719Z
UID:51532-1716642000-1716652800@kerrcountylead.com
SUMMARY:Noah Curtis
DESCRIPTION:
URL:https://kerrcountylead.com/event/noah-curtis-2/
LOCATION:Singing Water Vineyards\, 316 Mill Dam Rd\, Comfort\, TX\, 78013
CATEGORIES:Live music
END:VEVENT
BEGIN:VEVENT
DTSTART;TZID=America/Chicago:20240525T130000
DTEND;TZID=America/Chicago:20240525T170000
DTSTAMP:20260419T074055
CREATED:20240523T210344Z
LAST-MODIFIED:20240523T210344Z
UID:51778-1716642000-1716656400@kerrcountylead.com
SUMMARY:Mental Health Awareness Workshop
DESCRIPTION:
URL:https://kerrcountylead.com/event/mental-health-awareness-workshop/
LOCATION:Doyle Community Center\, 110 W. Barnett St.\, Kerrville\, Texas\, 78028
CATEGORIES:Wellness
END:VEVENT
BEGIN:VEVENT
DTSTART;TZID=America/Chicago:20240525T140000
DTEND;TZID=America/Chicago:20240525T153000
DTSTAMP:20260419T074055
CREATED:20240523T210652Z
LAST-MODIFIED:20240523T210652Z
UID:51780-1716645600-1716651000@kerrcountylead.com
SUMMARY:2024 Pre-Season Tropical Weather Outlook
DESCRIPTION:
URL:https://kerrcountylead.com/event/2024-pre-season-tropical-weather-outlook/
LOCATION:Butt-Holdsworth Memorial Library\, 505 Water St.\, Kerrville\, Texas\, 78028
CATEGORIES:Library event
END:VEVENT
BEGIN:VEVENT
DTSTART;TZID=America/Chicago:20240525T140000
DTEND;TZID=America/Chicago:20240525T160000
DTSTAMP:20260419T074055
CREATED:20240518T212139Z
LAST-MODIFIED:20240518T212139Z
UID:51522-1716645600-1716652800@kerrcountylead.com
SUMMARY:Artist Reception
DESCRIPTION:
URL:https://kerrcountylead.com/event/artist-reception-15/
LOCATION:Kerr Arts & Cultural Center\, 228 Earl Garrett St.\, Kerrville\, Texas\, 78028
CATEGORIES:The arts
END:VEVENT
BEGIN:VEVENT
DTSTART;TZID=America/Chicago:20240525T170000
DTEND;TZID=America/Chicago:20240525T170000
DTSTAMP:20260419T074055
CREATED:20240518T212615Z
LAST-MODIFIED:20240518T212615Z
UID:51530-1716656400-1716656400@kerrcountylead.com
SUMMARY:Sushi Saturday
DESCRIPTION:Three seating times at 5pm\, 6pm\, 7pm. See website for details and reservations.
URL:https://kerrcountylead.com/event/sushi-saturday-5/
LOCATION:Singing Water Vineyards\, 316 Mill Dam Rd\, Comfort\, TX\, 78013
END:VEVENT
BEGIN:VEVENT
DTSTART;TZID=America/Chicago:20240525T170000
DTEND;TZID=America/Chicago:20240525T170000
DTSTAMP:20260419T074055
CREATED:20240523T210837Z
LAST-MODIFIED:20240523T210837Z
UID:51782-1716656400-1716656400@kerrcountylead.com
SUMMARY:Joju Bakery Pizza Party
DESCRIPTION:
URL:https://kerrcountylead.com/event/joju-bakery-pizza-party-2/
LOCATION:Central Provisions\, 227 FM 480\, Center Point\, Texas\, 78010
CATEGORIES:Foodie event
END:VEVENT
BEGIN:VEVENT
DTSTART;TZID=America/Chicago:20240525T170000
DTEND;TZID=America/Chicago:20240525T210000
DTSTAMP:20260419T074055
CREATED:20240518T212449Z
LAST-MODIFIED:20240518T212449Z
UID:51528-1716656400-1716670800@kerrcountylead.com
SUMMARY:Shim’s Be Blessed
DESCRIPTION:
URL:https://kerrcountylead.com/event/shims-be-blessed-65/
LOCATION:Trailhead Beer Garden\, 2100 Memorial Blvd Bldg #11\, Kerrville\, TX\, 78028\, United States
CATEGORIES:Food truck 411
END:VEVENT
BEGIN:VEVENT
DTSTART;TZID=America/Chicago:20240525T180000
DTEND;TZID=America/Chicago:20240525T180000
DTSTAMP:20260419T074055
CREATED:20240518T212810Z
LAST-MODIFIED:20240518T212810Z
UID:51534-1716660000-1716660000@kerrcountylead.com
SUMMARY:Susan Herndon
DESCRIPTION:
URL:https://kerrcountylead.com/event/susan-herndon-24/
LOCATION:Cafe at the Ridge\, 13439 S. Ranch Road 783\, Kerrville\, Texas\, 78028
CATEGORIES:Live music
END:VEVENT
BEGIN:VEVENT
DTSTART;TZID=America/Chicago:20240525T190000
DTEND;TZID=America/Chicago:20240525T190000
DTSTAMP:20260419T074055
CREATED:20240518T212901Z
LAST-MODIFIED:20240518T212901Z
UID:51536-1716663600-1716663600@kerrcountylead.com
SUMMARY:Dylan Rhys
DESCRIPTION:
URL:https://kerrcountylead.com/event/dylan-rhys/
LOCATION:Trailhead Beer Garden\, 2100 Memorial Blvd Bldg #11\, Kerrville\, TX\, 78028\, United States
CATEGORIES:Live music
END:VEVENT
BEGIN:VEVENT
DTSTART;TZID=America/Chicago:20240525T190000
DTEND;TZID=America/Chicago:20240525T190000
DTSTAMP:20260419T074055
CREATED:20240518T212957Z
LAST-MODIFIED:20240518T212957Z
UID:51538-1716663600-1716663600@kerrcountylead.com
SUMMARY:Heartbreak Outlaws
DESCRIPTION:
URL:https://kerrcountylead.com/event/heartbreak-outlaws-18/
LOCATION:Howdy’s Bar & Chill\, 101 Rowland Dr\, Kerrville\, TX\, 78028
CATEGORIES:Live music
END:VEVENT
BEGIN:VEVENT
DTSTART;TZID=America/Chicago:20240525T190000
DTEND;TZID=America/Chicago:20240525T190000
DTSTAMP:20260419T074055
CREATED:20240518T213051Z
LAST-MODIFIED:20240518T213051Z
UID:51540-1716663600-1716663600@kerrcountylead.com
SUMMARY:Callen Bohnert
DESCRIPTION:
URL:https://kerrcountylead.com/event/callen-bohnert-4/
LOCATION:Central Provisions\, 227 FM 480\, Center Point\, Texas\, 78010
CATEGORIES:Live music
END:VEVENT
BEGIN:VEVENT
DTSTART;TZID=America/Chicago:20240525T190000
DTEND;TZID=America/Chicago:20240525T190000
DTSTAMP:20260419T074055
CREATED:20240518T213225Z
LAST-MODIFIED:20240518T213225Z
UID:51542-1716663600-1716663600@kerrcountylead.com
SUMMARY:Kerrville Folk Festival
DESCRIPTION:Day three of the 18-day festival with John Flynn\, Ray Wylie Hubbard\, Iris Dement\, and Sue Foley performing. Kennedy Outdoor Theater and food and craft booths open at 6pm\, concert starts at 7pm.
URL:https://kerrcountylead.com/event/kerrville-folk-festival-19/
LOCATION:Quiet Valley Ranch\, 3876 Medina Hwy\, Kerrville\, TX\, 78028
CATEGORIES:Festival,Live music
END:VEVENT
BEGIN:VEVENT
DTSTART;TZID=America/Chicago:20240525T200000
DTEND;TZID=America/Chicago:20240525T200000
DTSTAMP:20260419T074055
CREATED:20240518T213404Z
LAST-MODIFIED:20240518T213404Z
UID:51544-1716667200-1716667200@kerrcountylead.com
SUMMARY:Crider’s Rodeo and Dance
DESCRIPTION:Since 1925\, Crider’s Rodeo & Dancehall has been an entertainment spot along the banks of the Guadalupe River each summer. Camp families\, locals and visitors have all gathered beneath the Old Oak Tree to share friendships\, love\, and memories every Saturday night from Memorial Day weekend thru Labor Day weekend. Cafe opens at 6:30pm\, rodeo starts at 8pm\, Cactus Country and dance starts at 9pm. Click here for ticket and table information.
URL:https://kerrcountylead.com/event/criders-rodeo-and-dance-16/
LOCATION:Crider’s\, 2301 Texas Highway 39\, Hunt\, TX\, 78024
CATEGORIES:Dancing,Live music,The rodeo
END:VEVENT
BEGIN:VEVENT
DTSTART;TZID=America/Chicago:20240526T000000
DTEND;TZID=America/Chicago:20240526T000000
DTSTAMP:20260419T074055
CREATED:20240523T211646Z
LAST-MODIFIED:20240523T211646Z
UID:51784-1716681600-1716681600@kerrcountylead.com
SUMMARY:Moontower @ KFF
DESCRIPTION:At the Threadgill Theater. The late night show-after-the-show lineup includes Jacksonport\, Sabine McCalla\, Passiflora\, and Landon Lloyd Miller. 
URL:https://kerrcountylead.com/event/moontower-kff/
LOCATION:Quiet Valley Ranch\, 3876 Medina Hwy\, Kerrville\, TX\, 78028
CATEGORIES:Live music
END:VEVENT
BEGIN:VEVENT
DTSTART;TZID=America/Chicago:20240526T100000
DTEND;TZID=America/Chicago:20240526T143000
DTSTAMP:20260419T074055
CREATED:20240518T214445Z
LAST-MODIFIED:20240518T214445Z
UID:51549-1716717600-1716733800@kerrcountylead.com
SUMMARY:Brunch at Bridget’s
DESCRIPTION:
URL:https://kerrcountylead.com/event/brunch-at-bridgets-8/
LOCATION:Bridget’s Basket\, 1551 TX-39\, Hunt\, Texas\, 78024
END:VEVENT
BEGIN:VEVENT
DTSTART;TZID=America/Chicago:20240526T100000
DTEND;TZID=America/Chicago:20240526T170000
DTSTAMP:20260419T074055
CREATED:20240518T214326Z
LAST-MODIFIED:20240518T214326Z
UID:51547-1716717600-1716742800@kerrcountylead.com
SUMMARY:21st Annual Texas Masters of Fine Art and Craft Exhibition
DESCRIPTION:In the YO Ballrooms. Admission is free. To see the list of artists and images of representative artwork\, click here.
URL:https://kerrcountylead.com/event/21st-annual-texas-masters-of-fine-art-and-craft-exhibition-3/
LOCATION:YO Hotel and Conference Center\, 2033 Sidney Baker St\, Kerrville\, TX\, 78028
CATEGORIES:Shows and sales,The arts
END:VEVENT
BEGIN:VEVENT
DTSTART;TZID=America/Chicago:20240526T110000
DTEND;TZID=America/Chicago:20240526T140000
DTSTAMP:20260419T074055
CREATED:20240518T214553Z
LAST-MODIFIED:20240518T214553Z
UID:51551-1716721200-1716732000@kerrcountylead.com
SUMMARY:Sunday Brunch
DESCRIPTION:Live music by Susan Herndon. Reservations recommended.
URL:https://kerrcountylead.com/event/sunday-brunch-19/
LOCATION:Zanzenberg Tavern\, 217 FM 480\, Center Point\, TX\, 78010
END:VEVENT
BEGIN:VEVENT
DTSTART;TZID=America/Chicago:20240526T110000
DTEND;TZID=America/Chicago:20240526T200000
DTSTAMP:20260419T074055
CREATED:20240518T214733Z
LAST-MODIFIED:20240518T214733Z
UID:51553-1716721200-1716753600@kerrcountylead.com
SUMMARY:Que-Zeen BBQ
DESCRIPTION:
URL:https://kerrcountylead.com/event/que-zeen-bbq-92/
LOCATION:The Ingram Dam\, 610 TX 39\, Ingram\, TX\, 78025
CATEGORIES:Food truck 411
END:VEVENT
BEGIN:VEVENT
DTSTART;TZID=America/Chicago:20240526T130000
DTEND;TZID=America/Chicago:20240526T130000
DTSTAMP:20260419T074055
CREATED:20240518T215052Z
LAST-MODIFIED:20240518T215052Z
UID:51559-1716728400-1716728400@kerrcountylead.com
SUMMARY:Josh Peek
DESCRIPTION:
URL:https://kerrcountylead.com/event/josh-peek-21/
LOCATION:Gravity Check Saloon\, 3979 Bandera Hwy 173\, Kerrville\, TX\, 78028\, United States
CATEGORIES:Live music
END:VEVENT
BEGIN:VEVENT
DTSTART;TZID=America/Chicago:20240526T130000
DTEND;TZID=America/Chicago:20240526T130000
DTSTAMP:20260419T074055
CREATED:20240518T215157Z
LAST-MODIFIED:20240518T215157Z
UID:51561-1716728400-1716728400@kerrcountylead.com
SUMMARY:Brent Cox
DESCRIPTION:
URL:https://kerrcountylead.com/event/brent-cox-3/
LOCATION:Howdy’s Bar & Chill\, 101 Rowland Dr\, Kerrville\, TX\, 78028
CATEGORIES:Live music
END:VEVENT
BEGIN:VEVENT
DTSTART;TZID=America/Chicago:20240526T130000
DTEND;TZID=America/Chicago:20240526T160000
DTSTAMP:20260419T074055
CREATED:20240518T215328Z
LAST-MODIFIED:20240518T215328Z
UID:51563-1716728400-1716739200@kerrcountylead.com
SUMMARY:Lee Beauchamp
DESCRIPTION:
URL:https://kerrcountylead.com/event/lee-beauchamp-19/
LOCATION:Singing Water Vineyards\, 316 Mill Dam Rd\, Comfort\, TX\, 78013
CATEGORIES:Live music
END:VEVENT
BEGIN:VEVENT
DTSTART;TZID=America/Chicago:20240526T130000
DTEND;TZID=America/Chicago:20240526T180000
DTSTAMP:20260419T074055
CREATED:20240518T214852Z
LAST-MODIFIED:20240518T214852Z
UID:51555-1716728400-1716746400@kerrcountylead.com
SUMMARY:Shim’s Be Blessed
DESCRIPTION:
URL:https://kerrcountylead.com/event/shims-be-blessed-66/
LOCATION:Trailhead Beer Garden\, 2100 Memorial Blvd Bldg #11\, Kerrville\, TX\, 78028\, United States
CATEGORIES:Food truck 411
END:VEVENT
BEGIN:VEVENT
DTSTART;TZID=America/Chicago:20240526T133000
DTEND;TZID=America/Chicago:20240526T133000
DTSTAMP:20260419T074055
CREATED:20240518T214959Z
LAST-MODIFIED:20240518T214959Z
UID:51557-1716730200-1716730200@kerrcountylead.com
SUMMARY:Bingo
DESCRIPTION:Sales start 12:30 p.m. Smoking and non-smoking rooms. The Dauber Cafe is open during games\, no outside food or drinks.
URL:https://kerrcountylead.com/event/bingo-183/
LOCATION:American Legion Post 208\, 3600 Riverside Dr\, Kerrville\, TX\, 78028
CATEGORIES:Games
END:VEVENT
BEGIN:VEVENT
DTSTART;TZID=America/Chicago:20240526T140000
DTEND;TZID=America/Chicago:20240526T170000
DTSTAMP:20260419T074055
CREATED:20240518T215432Z
LAST-MODIFIED:20240518T215512Z
UID:51565-1716732000-1716742800@kerrcountylead.com
SUMMARY:Shane Stumpf
DESCRIPTION:
URL:https://kerrcountylead.com/event/shane-stumpf-14/
LOCATION:Bending Branch Winery\, 142 Lindner Branch Rd\, Comfort\, Texas\, 78013
CATEGORIES:Live music
END:VEVENT
BEGIN:VEVENT
DTSTART;TZID=America/Chicago:20240526T183000
DTEND;TZID=America/Chicago:20240526T183000
DTSTAMP:20260419T074055
CREATED:20240518T215612Z
LAST-MODIFIED:20240518T215612Z
UID:51567-1716748200-1716748200@kerrcountylead.com
SUMMARY:Scotty Alexander Band
DESCRIPTION:
URL:https://kerrcountylead.com/event/scotty-alexander-band/
LOCATION:Singing Water Vineyards\, 316 Mill Dam Rd\, Comfort\, TX\, 78013
CATEGORIES:Live music
END:VEVENT
BEGIN:VEVENT
DTSTART;TZID=America/Chicago:20240526T190000
DTEND;TZID=America/Chicago:20240526T190000
DTSTAMP:20260419T074055
CREATED:20240518T215750Z
LAST-MODIFIED:20240518T215750Z
UID:51569-1716750000-1716750000@kerrcountylead.com
SUMMARY:Kerrville Folk Festival
DESCRIPTION:Day four of the 18-day festival with Mary Bragg\, Vance Gilbert\, Susan Werner\, and Amythyst Kiah performing. Kennedy Outdoor Theater and food and craft booths open at 6pm\, concert starts at 7pm.
URL:https://kerrcountylead.com/event/kerrville-folk-festival-20/
LOCATION:Quiet Valley Ranch\, 3876 Medina Hwy\, Kerrville\, TX\, 78028
CATEGORIES:Festival,Live music
END:VEVENT
BEGIN:VEVENT
DTSTART;TZID=America/Chicago:20240527T100000
DTEND;TZID=America/Chicago:20240527T100000
DTSTAMP:20260419T074055
CREATED:20240523T200430Z
LAST-MODIFIED:20240523T200430Z
UID:51771-1716804000-1716804000@kerrcountylead.com
SUMMARY:Memorial Day Service: Remember and Honor
DESCRIPTION:At the War Memorial on the west side of the courthouse. In case of inclement weather the event will be moved to the Hill Country Youth Event Center.
URL:https://kerrcountylead.com/event/memorial-day-service-remember-and-honor/
LOCATION:Kerr County Courthouse\, 700 Main St\, Kerrville\, Texas\, 78028
END:VEVENT
BEGIN:VEVENT
DTSTART;TZID=America/Chicago:20240527T100000
DTEND;TZID=America/Chicago:20240527T160000
DTSTAMP:20260419T074055
CREATED:20240424T175251Z
LAST-MODIFIED:20240424T175251Z
UID:50477-1716804000-1716825600@kerrcountylead.com
SUMMARY:Texas Watercolor Society Annual Show
DESCRIPTION:
URL:https://kerrcountylead.com/event/texas-watercolor-society-annual-show-21/
LOCATION:Hill Country Arts Foundation\, 120 Point Theatre Rd S\, Ingram\, Texas\, 78025
CATEGORIES:The arts
END:VEVENT
BEGIN:VEVENT
DTSTART;TZID=America/Chicago:20240527T100000
DTEND;TZID=America/Chicago:20240527T180000
DTSTAMP:20260419T074055
CREATED:20240423T000640Z
LAST-MODIFIED:20240423T000640Z
UID:50301-1716804000-1716832800@kerrcountylead.com
SUMMARY:Our Place in Space
DESCRIPTION:Come see the constellations in our planetarium\, learn about conserving our night skies and about our place in space!
URL:https://kerrcountylead.com/event/our-place-in-space-30/
LOCATION:Riverside Nature Center\, 150 Francisco Lemos St\, Kerrville\, Texas\, 78028
CATEGORIES:Science and nature
END:VEVENT
BEGIN:VEVENT
DTSTART;TZID=America/Chicago:20240527T173000
DTEND;TZID=America/Chicago:20240527T173000
DTSTAMP:20260419T074055
CREATED:20240523T211808Z
LAST-MODIFIED:20240523T211808Z
UID:51786-1716831000-1716831000@kerrcountylead.com
SUMMARY:Veterans Yoga
DESCRIPTION:Join Rick Trzcinski of the Veterans Yoga Project every Monday for a session. The class is free for veterans.
URL:https://kerrcountylead.com/event/veterans-yoga-55/
LOCATION:Kerrville Elks Lodge\, 1907 Junction Hwy\, Kerrville\, TX\, 78028
CATEGORIES:Wellness
END:VEVENT
END:VCALENDAR