BEGIN:VCALENDAR
VERSION:2.0
PRODID:-//The Kerr County Lead - ECPv6.15.17.1//NONSGML v1.0//EN
CALSCALE:GREGORIAN
METHOD:PUBLISH
X-WR-CALNAME:The Kerr County Lead
X-ORIGINAL-URL:https://kerrcountylead.com
X-WR-CALDESC:Events for The Kerr County Lead
REFRESH-INTERVAL;VALUE=DURATION:PT1H
X-Robots-Tag:noindex
X-PUBLISHED-TTL:PT1H
BEGIN:VTIMEZONE
TZID:America/Chicago
BEGIN:DAYLIGHT
TZOFFSETFROM:-0600
TZOFFSETTO:-0500
TZNAME:CDT
DTSTART:20230312T080000
END:DAYLIGHT
BEGIN:STANDARD
TZOFFSETFROM:-0500
TZOFFSETTO:-0600
TZNAME:CST
DTSTART:20231105T070000
END:STANDARD
BEGIN:DAYLIGHT
TZOFFSETFROM:-0600
TZOFFSETTO:-0500
TZNAME:CDT
DTSTART:20240310T080000
END:DAYLIGHT
BEGIN:STANDARD
TZOFFSETFROM:-0500
TZOFFSETTO:-0600
TZNAME:CST
DTSTART:20241103T070000
END:STANDARD
BEGIN:DAYLIGHT
TZOFFSETFROM:-0600
TZOFFSETTO:-0500
TZNAME:CDT
DTSTART:20250309T080000
END:DAYLIGHT
BEGIN:STANDARD
TZOFFSETFROM:-0500
TZOFFSETTO:-0600
TZNAME:CST
DTSTART:20251102T070000
END:STANDARD
END:VTIMEZONE
BEGIN:VEVENT
DTSTART;TZID=America/Chicago:20240628T170000
DTEND;TZID=America/Chicago:20240628T170000
DTSTAMP:20260421T123214
CREATED:20240623T035356Z
LAST-MODIFIED:20240628T124543Z
UID:53641-1719594000-1719594000@kerrcountylead.com
SUMMARY:Kids Book Club
DESCRIPTION:The club will be discussing the first “Dog Man” by Dav Pilkey.
URL:https://kerrcountylead.com/event/kids-book-club/
LOCATION:Central Provisions\, 227 FM 480\, Center Point\, Texas\, 78010
CATEGORIES:Book club
END:VEVENT
BEGIN:VEVENT
DTSTART;TZID=America/Chicago:20240628T170000
DTEND;TZID=America/Chicago:20240628T210000
DTSTAMP:20260421T123214
CREATED:20240623T035224Z
LAST-MODIFIED:20240623T035224Z
UID:53639-1719594000-1719608400@kerrcountylead.com
SUMMARY:Vecinos Fruteria y Cocina: Taco Night!
DESCRIPTION:6-pack tacos $20 and $3 longnecks at Trailhead.
URL:https://kerrcountylead.com/event/vecinos-fruteria-y-cocina-taco-night-19/
LOCATION:Trailhead Beer Garden\, 2100 Memorial Blvd Bldg #11\, Kerrville\, TX\, 78028\, United States
CATEGORIES:Food truck 411
END:VEVENT
BEGIN:VEVENT
DTSTART;TZID=America/Chicago:20240628T180000
DTEND;TZID=America/Chicago:20240628T180000
DTSTAMP:20260421T123214
CREATED:20240623T035553Z
LAST-MODIFIED:20240623T035553Z
UID:53645-1719597600-1719597600@kerrcountylead.com
SUMMARY:Tim Porter & Gary Hatch
DESCRIPTION:
URL:https://kerrcountylead.com/event/tim-porter-gary-hatch-7/
LOCATION:Cafe at the Ridge\, 13439 S. Ranch Road 783\, Kerrville\, Texas\, 78028
CATEGORIES:Live music
END:VEVENT
BEGIN:VEVENT
DTSTART;TZID=America/Chicago:20240628T180000
DTEND;TZID=America/Chicago:20240628T200000
DTSTAMP:20260421T123214
CREATED:20240623T035456Z
LAST-MODIFIED:20240623T035456Z
UID:53643-1719597600-1719604800@kerrcountylead.com
SUMMARY:Grant Wesley Trio
DESCRIPTION:
URL:https://kerrcountylead.com/event/grant-wesley-trio-5/
LOCATION:Pint & Plow Brewing Co.\, 332 Clay St\, Kerrville\, Texas\, 78028
CATEGORIES:Live music
END:VEVENT
BEGIN:VEVENT
DTSTART;TZID=America/Chicago:20240628T180000
DTEND;TZID=America/Chicago:20240628T210000
DTSTAMP:20260421T123214
CREATED:20240626T164132Z
LAST-MODIFIED:20240626T164132Z
UID:53764-1719597600-1719608400@kerrcountylead.com
SUMMARY:The Allen Love Band
DESCRIPTION:
URL:https://kerrcountylead.com/event/the-allen-love-band/
LOCATION:Joanne Marie and Me\, 321 TX 39\, Ingram\, Texas\, 78025
CATEGORIES:Live music
END:VEVENT
BEGIN:VEVENT
DTSTART;TZID=America/Chicago:20240628T183000
DTEND;TZID=America/Chicago:20240628T183000
DTSTAMP:20260421T123214
CREATED:20240623T034840Z
LAST-MODIFIED:20240623T034840Z
UID:53635-1719599400-1719599400@kerrcountylead.com
SUMMARY:Bingo
DESCRIPTION:Sales start at 5:30 p.m. Smoking and non-smoking rooms. The Dauber Cafe is open during games\, no outside food or drinks.
URL:https://kerrcountylead.com/event/bingo-202/
LOCATION:American Legion Post 208\, 3600 Riverside Dr\, Kerrville\, TX\, 78028
CATEGORIES:Games
END:VEVENT
BEGIN:VEVENT
DTSTART;TZID=America/Chicago:20240628T183000
DTEND;TZID=America/Chicago:20240628T183000
DTSTAMP:20260421T123214
CREATED:20240623T035851Z
LAST-MODIFIED:20240623T035851Z
UID:53647-1719599400-1719599400@kerrcountylead.com
SUMMARY:Open Mic Night
DESCRIPTION:
URL:https://kerrcountylead.com/event/open-mic-night-60/
LOCATION:Central Provisions\, 227 FM 480\, Center Point\, Texas\, 78010
CATEGORIES:Live music
END:VEVENT
BEGIN:VEVENT
DTSTART;TZID=America/Chicago:20240628T190000
DTEND;TZID=America/Chicago:20240628T190000
DTSTAMP:20260421T123214
CREATED:20240623T040021Z
LAST-MODIFIED:20240623T040021Z
UID:53649-1719601200-1719601200@kerrcountylead.com
SUMMARY:Checkmate
DESCRIPTION:
URL:https://kerrcountylead.com/event/checkmate-3/
LOCATION:Gravity Check Saloon\, 3979 Bandera Hwy 173\, Kerrville\, TX\, 78028\, United States
CATEGORIES:Live music
END:VEVENT
BEGIN:VEVENT
DTSTART;TZID=America/Chicago:20240628T190000
DTEND;TZID=America/Chicago:20240628T190000
DTSTAMP:20260421T123214
CREATED:20240623T141356Z
LAST-MODIFIED:20240623T141356Z
UID:53654-1719601200-1719601200@kerrcountylead.com
SUMMARY:Paint & Sip
DESCRIPTION:
URL:https://kerrcountylead.com/event/paint-sip-7/
LOCATION:The Color of Clay\, 93 Coronado Drive N Ste 2\, Kerrville\, TX\, 78028
CATEGORIES:Crafts
END:VEVENT
BEGIN:VEVENT
DTSTART;TZID=America/Chicago:20240628T190000
DTEND;TZID=America/Chicago:20240628T220000
DTSTAMP:20260421T123214
CREATED:20240628T120752Z
LAST-MODIFIED:20240628T120752Z
UID:53790-1719601200-1719612000@kerrcountylead.com
SUMMARY:Johnny Adair & John Christopher Way
DESCRIPTION:
URL:https://kerrcountylead.com/event/johnny-adair-john-christopher-way/
LOCATION:Howdy’s Bar & Chill\, 101 Rowland Dr\, Kerrville\, TX\, 78028
CATEGORIES:Live music
END:VEVENT
BEGIN:VEVENT
DTSTART;TZID=America/Chicago:20240628T193000
DTEND;TZID=America/Chicago:20240628T193000
DTSTAMP:20260421T123214
CREATED:20240623T040146Z
LAST-MODIFIED:20240623T040146Z
UID:53651-1719603000-1719603000@kerrcountylead.com
SUMMARY:The Charitable Sisterhood of the Second Trinity Victory Church
DESCRIPTION:A comedy by Bo Wilson. Tickets for the show are available online here.
URL:https://kerrcountylead.com/event/the-charitable-sisterhood-of-the-second-trinity-victory-church-6/
LOCATION:VK Garage Theater\, 305 Washington St\, Kerrville\, Texas\, 78028
CATEGORIES:Performing arts
END:VEVENT
BEGIN:VEVENT
DTSTART;TZID=America/Chicago:20240629T073000
DTEND;TZID=America/Chicago:20240629T073000
DTSTAMP:20260421T123214
CREATED:20240623T193118Z
LAST-MODIFIED:20240626T160309Z
UID:53704-1719646200-1719646200@kerrcountylead.com
SUMMARY:Kerrville Walking Group
DESCRIPTION:Location: Alfred Petsch Rd – Morris Ranch Rd. Join the KWG on Saturday mornings for nature walks. Most routes are 2-4 miles. Visit website for exact meeting location and further details.
URL:https://kerrcountylead.com/event/kerrville-walking-group-17/
LOCATION:Various Locations
CATEGORIES:Outdoor activities
END:VEVENT
BEGIN:VEVENT
DTSTART;TZID=America/Chicago:20240629T090000
DTEND;TZID=America/Chicago:20240629T090000
DTSTAMP:20260421T123214
CREATED:20240623T193348Z
LAST-MODIFIED:20240623T193348Z
UID:53708-1719651600-1719651600@kerrcountylead.com
SUMMARY:Hillside Harvest Market
DESCRIPTION:
URL:https://kerrcountylead.com/event/hillside-harvest-market-26/
LOCATION:Parking Lot @ 5 Points\, 301 Junction Hwy\, Kerrville\, TX\, 78028
CATEGORIES:Markets
END:VEVENT
BEGIN:VEVENT
DTSTART;TZID=America/Chicago:20240629T090000
DTEND;TZID=America/Chicago:20240629T090000
DTSTAMP:20260421T123214
CREATED:20240626T160829Z
LAST-MODIFIED:20240626T160829Z
UID:53762-1719651600-1719651600@kerrcountylead.com
SUMMARY:Meditation Group
DESCRIPTION:Michael Wurth\, LPC-S will lead a meditation session.
URL:https://kerrcountylead.com/event/meditation-group-8/
LOCATION:UUCHC\, 960 Barnett St\, Kerrville\, TX\, 78028
CATEGORIES:Wellness
END:VEVENT
BEGIN:VEVENT
DTSTART;TZID=America/Chicago:20240629T090000
DTEND;TZID=America/Chicago:20240629T130000
DTSTAMP:20260421T123214
CREATED:20240623T193257Z
LAST-MODIFIED:20240623T193257Z
UID:53706-1719651600-1719666000@kerrcountylead.com
SUMMARY:Farmers Market
DESCRIPTION:
URL:https://kerrcountylead.com/event/farmers-market-48/
LOCATION:Parking Lot @ 741 Water St\, 741 Water St\, Kerrville\, TX\, 78028
CATEGORIES:Markets
END:VEVENT
BEGIN:VEVENT
DTSTART;TZID=America/Chicago:20240629T093000
DTEND;TZID=America/Chicago:20240629T123000
DTSTAMP:20260421T123214
CREATED:20240626T231111Z
LAST-MODIFIED:20240626T231111Z
UID:53771-1719653400-1719664200@kerrcountylead.com
SUMMARY:Pet Adoptions & Chip Check
DESCRIPTION:This weekend there will also be a Chip Check to verify and update information for microchipped pets.
URL:https://kerrcountylead.com/event/pet-adoptions-chip-check/
LOCATION:KPA! Safe House\, 2102 Memorial Blvd\, Kerrville\, TX\, 78028
CATEGORIES:Pet event
END:VEVENT
BEGIN:VEVENT
DTSTART;TZID=America/Chicago:20240629T100000
DTEND;TZID=America/Chicago:20240629T140000
DTSTAMP:20260421T123214
CREATED:20240530T223757Z
LAST-MODIFIED:20240530T223909Z
UID:52459-1719655200-1719669600@kerrcountylead.com
SUMMARY:Texas Watercolor Society Annual Show
DESCRIPTION:
URL:https://kerrcountylead.com/event/texas-watercolor-society-annual-show-50/
LOCATION:Hill Country Arts Foundation\, 120 Point Theatre Rd S\, Ingram\, Texas\, 78025
CATEGORIES:The arts
END:VEVENT
BEGIN:VEVENT
DTSTART;TZID=America/Chicago:20240629T100000
DTEND;TZID=America/Chicago:20240629T160000
DTSTAMP:20260421T123214
CREATED:20240531T001156Z
LAST-MODIFIED:20240531T001156Z
UID:52542-1719655200-1719676800@kerrcountylead.com
SUMMARY:KACC Art Exhibits
DESCRIPTION:Monday Artists\, Prima Facie/first impressions\, Southwest Gourd & Fiber Fine Art Show. Through June 29.
URL:https://kerrcountylead.com/event/kacc-art-exhibits-247/
LOCATION:Kerr Arts & Cultural Center\, 228 Earl Garrett St.\, Kerrville\, Texas\, 78028
CATEGORIES:The arts
END:VEVENT
BEGIN:VEVENT
DTSTART;TZID=America/Chicago:20240629T100000
DTEND;TZID=America/Chicago:20240629T160000
DTSTAMP:20260421T123214
CREATED:20240623T142046Z
LAST-MODIFIED:20240623T142046Z
UID:53658-1719655200-1719676800@kerrcountylead.com
SUMMARY:2024 Art Market
DESCRIPTION:
URL:https://kerrcountylead.com/event/2024-art-market-2/
LOCATION:Bridget’s Basket\, 1551 TX-39\, Hunt\, Texas\, 78024
CATEGORIES:The arts
END:VEVENT
BEGIN:VEVENT
DTSTART;TZID=America/Chicago:20240629T100000
DTEND;TZID=America/Chicago:20240629T160000
DTSTAMP:20260421T123214
CREATED:20240623T193452Z
LAST-MODIFIED:20240623T193452Z
UID:53710-1719655200-1719676800@kerrcountylead.com
SUMMARY:Family Free Day
DESCRIPTION:
URL:https://kerrcountylead.com/event/family-free-day-15/
LOCATION:Museum of Western Art\, 1550 Bandera Hwy.\, Kerrville\, Texas\, 78028
CATEGORIES:The arts
END:VEVENT
BEGIN:VEVENT
DTSTART;TZID=America/Chicago:20240629T100000
DTEND;TZID=America/Chicago:20240629T160000
DTSTAMP:20260421T123214
CREATED:20240623T193606Z
LAST-MODIFIED:20240623T193606Z
UID:53712-1719655200-1719676800@kerrcountylead.com
SUMMARY:2024 Art Market
DESCRIPTION:
URL:https://kerrcountylead.com/event/2024-art-market-3/
LOCATION:Bridget’s Basket\, 1551 TX-39\, Hunt\, Texas\, 78024
CATEGORIES:The arts
END:VEVENT
BEGIN:VEVENT
DTSTART;TZID=America/Chicago:20240629T100000
DTEND;TZID=America/Chicago:20240629T180000
DTSTAMP:20260421T123214
CREATED:20240529T194042Z
LAST-MODIFIED:20240529T194042Z
UID:52390-1719655200-1719684000@kerrcountylead.com
SUMMARY:Our Place in Space
DESCRIPTION:Come see the constellations in our planetarium\, learn about conserving our night skies and about our place in space!
URL:https://kerrcountylead.com/event/our-place-in-space-59/
LOCATION:Riverside Nature Center\, 150 Francisco Lemos St\, Kerrville\, Texas\, 78028
CATEGORIES:Science and nature
END:VEVENT
BEGIN:VEVENT
DTSTART;TZID=America/Chicago:20240629T110000
DTEND;TZID=America/Chicago:20240629T200000
DTSTAMP:20260421T123214
CREATED:20240623T193724Z
LAST-MODIFIED:20240623T193724Z
UID:53714-1719658800-1719691200@kerrcountylead.com
SUMMARY:Que-Zeen BBQ
DESCRIPTION:
URL:https://kerrcountylead.com/event/que-zeen-bbq-111/
LOCATION:The Ingram Dam\, 610 TX 39\, Ingram\, TX\, 78025
CATEGORIES:Food truck 411
END:VEVENT
BEGIN:VEVENT
DTSTART;TZID=America/Chicago:20240629T120000
DTEND;TZID=America/Chicago:20240629T210000
DTSTAMP:20260421T123214
CREATED:20240623T193823Z
LAST-MODIFIED:20240623T193823Z
UID:53716-1719662400-1719694800@kerrcountylead.com
SUMMARY:Shim’s Be Blessed
DESCRIPTION:
URL:https://kerrcountylead.com/event/shims-be-blessed-75/
LOCATION:Trailhead Beer Garden\, 2100 Memorial Blvd Bldg #11\, Kerrville\, TX\, 78028\, United States
CATEGORIES:Food truck 411
END:VEVENT
BEGIN:VEVENT
DTSTART;TZID=America/Chicago:20240629T123000
DTEND;TZID=America/Chicago:20240629T153000
DTSTAMP:20260421T123214
CREATED:20240623T194118Z
LAST-MODIFIED:20240626T173500Z
UID:53722-1719664200-1719675000@kerrcountylead.com
SUMMARY:Modal Mojo
DESCRIPTION:
URL:https://kerrcountylead.com/event/modal-mojo-22/
LOCATION:Singing Water Vineyards\, 316 Mill Dam Rd\, Comfort\, TX\, 78013
CATEGORIES:Live music
END:VEVENT
BEGIN:VEVENT
DTSTART;TZID=America/Chicago:20240629T140000
DTEND;TZID=America/Chicago:20240629T150000
DTSTAMP:20260421T123214
CREATED:20240623T193933Z
LAST-MODIFIED:20240623T193933Z
UID:53718-1719669600-1719673200@kerrcountylead.com
SUMMARY:Author Talk: Mark Trapino
DESCRIPTION:The author will be discussing his book “Res Publica: The Gift of Mars” followed by a book signing.
URL:https://kerrcountylead.com/event/author-talk-mark-trapino/
LOCATION:Butt-Holdsworth Memorial Library\, 505 Water St.\, Kerrville\, Texas\, 78028
CATEGORIES:Library event
END:VEVENT
BEGIN:VEVENT
DTSTART;TZID=America/Chicago:20240629T170000
DTEND;TZID=America/Chicago:20240629T213000
DTSTAMP:20260421T123214
CREATED:20240623T194034Z
LAST-MODIFIED:20240623T194034Z
UID:53720-1719680400-1719696600@kerrcountylead.com
SUMMARY:Great American Picnic
DESCRIPTION:Fourth annual Great American Picnic\, featuring games\, crafts\, food and drinks\, and fireworks! Live music by MT Bain and Jay Boy Adams Band.
URL:https://kerrcountylead.com/event/great-american-picnic-2/
LOCATION:The Ridge Marketplace\, 13439 S Ranch Road 783\, Kerrville\, TX\, 78028
CATEGORIES:Celebration
END:VEVENT
BEGIN:VEVENT
DTSTART;TZID=America/Chicago:20240629T190000
DTEND;TZID=America/Chicago:20240629T190000
DTSTAMP:20260421T123214
CREATED:20240623T194155Z
LAST-MODIFIED:20240623T194155Z
UID:53724-1719687600-1719687600@kerrcountylead.com
SUMMARY:Ariana Ortiz & Mark Lafon
DESCRIPTION:
URL:https://kerrcountylead.com/event/ariana-ortiz-mark-lafon-2/
LOCATION:Trailhead Beer Garden\, 2100 Memorial Blvd Bldg #11\, Kerrville\, TX\, 78028\, United States
CATEGORIES:Live music
END:VEVENT
BEGIN:VEVENT
DTSTART;TZID=America/Chicago:20240629T190000
DTEND;TZID=America/Chicago:20240629T190000
DTSTAMP:20260421T123214
CREATED:20240623T194229Z
LAST-MODIFIED:20240623T194229Z
UID:53726-1719687600-1719687600@kerrcountylead.com
SUMMARY:Landon Lloyd Miller
DESCRIPTION:
URL:https://kerrcountylead.com/event/landon-lloyd-miller-5/
LOCATION:Central Provisions\, 227 FM 480\, Center Point\, Texas\, 78010
CATEGORIES:Live music
END:VEVENT
BEGIN:VEVENT
DTSTART;TZID=America/Chicago:20240629T190000
DTEND;TZID=America/Chicago:20240629T190000
DTSTAMP:20260421T123214
CREATED:20240623T194300Z
LAST-MODIFIED:20240623T194300Z
UID:53728-1719687600-1719687600@kerrcountylead.com
SUMMARY:Barefax Band
DESCRIPTION:
URL:https://kerrcountylead.com/event/barefax-band-4/
LOCATION:Gravity Check Saloon\, 3979 Bandera Hwy 173\, Kerrville\, TX\, 78028\, United States
CATEGORIES:Live music
END:VEVENT
END:VCALENDAR