BEGIN:VCALENDAR
VERSION:2.0
PRODID:-//The Kerr County Lead - ECPv6.15.17.1//NONSGML v1.0//EN
CALSCALE:GREGORIAN
METHOD:PUBLISH
X-ORIGINAL-URL:https://kerrcountylead.com
X-WR-CALDESC:Events for The Kerr County Lead
REFRESH-INTERVAL;VALUE=DURATION:PT1H
X-Robots-Tag:noindex
X-PUBLISHED-TTL:PT1H
BEGIN:VTIMEZONE
TZID:America/Chicago
BEGIN:DAYLIGHT
TZOFFSETFROM:-0600
TZOFFSETTO:-0500
TZNAME:CDT
DTSTART:20240310T080000
END:DAYLIGHT
BEGIN:STANDARD
TZOFFSETFROM:-0500
TZOFFSETTO:-0600
TZNAME:CST
DTSTART:20241103T070000
END:STANDARD
BEGIN:DAYLIGHT
TZOFFSETFROM:-0600
TZOFFSETTO:-0500
TZNAME:CDT
DTSTART:20250309T080000
END:DAYLIGHT
BEGIN:STANDARD
TZOFFSETFROM:-0500
TZOFFSETTO:-0600
TZNAME:CST
DTSTART:20251102T070000
END:STANDARD
BEGIN:DAYLIGHT
TZOFFSETFROM:-0600
TZOFFSETTO:-0500
TZNAME:CDT
DTSTART:20260308T080000
END:DAYLIGHT
BEGIN:STANDARD
TZOFFSETFROM:-0500
TZOFFSETTO:-0600
TZNAME:CST
DTSTART:20261101T070000
END:STANDARD
END:VTIMEZONE
BEGIN:VEVENT
DTSTART;TZID=America/Chicago:20250806T190000
DTEND;TZID=America/Chicago:20250806T210000
DTSTAMP:20260419T100716
CREATED:20250803T164110Z
LAST-MODIFIED:20250803T164110Z
UID:75263-1754506800-1754514000@kerrcountylead.com
SUMMARY:Pickleball Tournament
DESCRIPTION:Ages 15+. For more info and to register\, click here.
URL:https://kerrcountylead.com/event/pickleball-tournament/
LOCATION:Schreiner University\, 2100 Memorial Blvd\, Kerrville\, Texas\, 78028
CATEGORIES:Outdoor activities,Sports
END:VEVENT
BEGIN:VEVENT
DTSTART;TZID=America/Chicago:20250807T100000
DTEND;TZID=America/Chicago:20250807T160000
DTSTAMP:20260419T100716
CREATED:20250109T192247Z
LAST-MODIFIED:20250830T235633Z
UID:64122-1754560800-1754582400@kerrcountylead.com
SUMMARY:Wildlife Icons of the American West
DESCRIPTION:Photos by wildlife photographer Rachel Spencer. July 19 – August 30.
URL:https://kerrcountylead.com/event/wildlife-icons-of-the-american-west-22/
LOCATION:Museum of Western Art\, 1550 Bandera Hwy.\, Kerrville\, Texas\, 78028
CATEGORIES:The arts
END:VEVENT
BEGIN:VEVENT
DTSTART;TZID=America/Chicago:20250807T100000
DTEND;TZID=America/Chicago:20250807T160000
DTSTAMP:20260419T100716
CREATED:20250728T211554Z
LAST-MODIFIED:20250728T211554Z
UID:74730-1754560800-1754582400@kerrcountylead.com
SUMMARY:KACC Exhibits
DESCRIPTION:July 17-August 16. Tues-Sat\, 10am-4pm. Nature Journaling by Rebecca Stapleton & Ele Chew\, Photography by J. Reagan Ferguson\, and Photo Quest: Hill Country Camera Club Annual Judged Exhibit.  \n 
URL:https://kerrcountylead.com/event/kacc-exhibits-17/
LOCATION:Kerr Arts & Cultural Center\, 228 Earl Garrett St.\, Kerrville\, Texas\, 78028
CATEGORIES:The arts
END:VEVENT
BEGIN:VEVENT
DTSTART;TZID=America/Chicago:20250807T100000
DTEND;TZID=America/Chicago:20250807T160000
DTSTAMP:20260419T100716
CREATED:20250728T213132Z
LAST-MODIFIED:20250728T213132Z
UID:74760-1754560800-1754582400@kerrcountylead.com
SUMMARY:Counterpoint / Visual Narratives
DESCRIPTION:July 18 – August 29. Exhibit with Johnson Creek Printmakers and photography by the Kerr County Clickers.
URL:https://kerrcountylead.com/event/counterpoint-visual-narratives-15/
LOCATION:Hill Country Arts Foundation\, 120 Point Theatre Rd S\, Ingram\, Texas\, 78025
CATEGORIES:The arts
END:VEVENT
BEGIN:VEVENT
DTSTART;TZID=America/Chicago:20250807T160000
DTEND;TZID=America/Chicago:20250807T180000
DTSTAMP:20260419T100716
CREATED:20250803T173743Z
LAST-MODIFIED:20250803T173743Z
UID:75278-1754582400-1754589600@kerrcountylead.com
SUMMARY:Riparian Restoration Workshop: The Future of Our River
DESCRIPTION:A community conversation about our shared vision for the Guadalupe. Share stories\, learn about riparian stewardship practices\, and discuss long-term strategies for restoration.
URL:https://kerrcountylead.com/event/riparian-restoration-workshop-the-future-of-our-river-3/
LOCATION:Trailhead Beer Garden\, 2100 Memorial Blvd Bldg #11\, Kerrville\, TX\, 78028\, United States
CATEGORIES:Community meeting,Workshop
END:VEVENT
BEGIN:VEVENT
DTSTART;TZID=America/Chicago:20250807T180000
DTEND;TZID=America/Chicago:20250807T200000
DTSTAMP:20260419T100716
CREATED:20250801T014730Z
LAST-MODIFIED:20250801T014730Z
UID:75131-1754589600-1754596800@kerrcountylead.com
SUMMARY:Bingo Night
DESCRIPTION:
URL:https://kerrcountylead.com/event/bingo-night/
LOCATION:Truffles & Vines\, 321 TX 39\, Ingram\, TX\, 78025
CATEGORIES:Games
END:VEVENT
BEGIN:VEVENT
DTSTART;TZID=America/Chicago:20250808T100000
DTEND;TZID=America/Chicago:20250808T160000
DTSTAMP:20260419T100716
CREATED:20250109T192330Z
LAST-MODIFIED:20250830T235709Z
UID:64124-1754647200-1754668800@kerrcountylead.com
SUMMARY:Wildlife Icons of the American West
DESCRIPTION:Photos by wildlife photographer Rachel Spencer. July 19 – August 30.
URL:https://kerrcountylead.com/event/wildlife-icons-of-the-american-west-23/
LOCATION:Museum of Western Art\, 1550 Bandera Hwy.\, Kerrville\, Texas\, 78028
CATEGORIES:The arts
END:VEVENT
BEGIN:VEVENT
DTSTART;TZID=America/Chicago:20250808T100000
DTEND;TZID=America/Chicago:20250808T160000
DTSTAMP:20260419T100716
CREATED:20250728T211640Z
LAST-MODIFIED:20250728T211640Z
UID:74732-1754647200-1754668800@kerrcountylead.com
SUMMARY:KACC Exhibits
DESCRIPTION:July 17-August 16. Tues-Sat\, 10am-4pm. Nature Journaling by Rebecca Stapleton & Ele Chew\, Photography by J. Reagan Ferguson\, and Photo Quest: Hill Country Camera Club Annual Judged Exhibit. 
URL:https://kerrcountylead.com/event/kacc-exhibits-18/
LOCATION:Kerr Arts & Cultural Center\, 228 Earl Garrett St.\, Kerrville\, Texas\, 78028
CATEGORIES:The arts
END:VEVENT
BEGIN:VEVENT
DTSTART;TZID=America/Chicago:20250808T100000
DTEND;TZID=America/Chicago:20250808T160000
DTSTAMP:20260419T100716
CREATED:20250728T213238Z
LAST-MODIFIED:20250728T213238Z
UID:74762-1754647200-1754668800@kerrcountylead.com
SUMMARY:Counterpoint / Visual Narratives
DESCRIPTION:July 18 – August 29. Exhibit with Johnson Creek Printmakers and photography by the Kerr County Clickers.
URL:https://kerrcountylead.com/event/counterpoint-visual-narratives-16/
LOCATION:Hill Country Arts Foundation\, 120 Point Theatre Rd S\, Ingram\, Texas\, 78025
CATEGORIES:The arts
END:VEVENT
BEGIN:VEVENT
DTSTART;TZID=America/Chicago:20250808T100000
DTEND;TZID=America/Chicago:20250808T170000
DTSTAMP:20260419T100716
CREATED:20250817T210629Z
LAST-MODIFIED:20250817T210629Z
UID:75769-1754647200-1754672400@kerrcountylead.com
SUMMARY:Pop Up Carnival
DESCRIPTION:Free Admission! Bounce houses\, slides\, carnival swings\, obstacle courses! Open daily 10am to 5pm through August 12.
URL:https://kerrcountylead.com/event/pop-up-carnival/
LOCATION:Kerrville Schreiner Park\, 2385 Bandera Hwy\, Kerrville\, TX\, 78028
END:VEVENT
BEGIN:VEVENT
DTSTART;TZID=America/Chicago:20250808T120000
DTEND;TZID=America/Chicago:20250808T140000
DTSTAMP:20260419T100716
CREATED:20250803T171020Z
LAST-MODIFIED:20250803T171020Z
UID:75267-1754654400-1754661600@kerrcountylead.com
SUMMARY:Senior Lunch & Bingo
DESCRIPTION:
URL:https://kerrcountylead.com/event/senior-lunch-bingo-9/
LOCATION:Doyle Community Center\, 110 W. Barnett St.\, Kerrville\, Texas\, 78028
CATEGORIES:Games
END:VEVENT
BEGIN:VEVENT
DTSTART;TZID=America/Chicago:20250808T120000
DTEND;TZID=America/Chicago:20250808T160000
DTSTAMP:20260419T100716
CREATED:20250803T165506Z
LAST-MODIFIED:20250803T165506Z
UID:75265-1754654400-1754668800@kerrcountylead.com
SUMMARY:Back to School Party
DESCRIPTION:Community fun\, food\, and school supplies! Check out the info video here.
URL:https://kerrcountylead.com/event/back-to-school-party/
LOCATION:Doyle Community Center\, 110 W. Barnett St.\, Kerrville\, Texas\, 78028
CATEGORIES:Back to school
END:VEVENT
BEGIN:VEVENT
DTSTART;TZID=America/Chicago:20250808T130000
DTEND;TZID=America/Chicago:20250808T160000
DTSTAMP:20260419T100716
CREATED:20250803T174049Z
LAST-MODIFIED:20250803T174049Z
UID:75280-1754658000-1754668800@kerrcountylead.com
SUMMARY:Circular Loom Weaving
DESCRIPTION:For more info\, click here.
URL:https://kerrcountylead.com/event/circular-loom-weaving-2/
LOCATION:The Rogue Skein\, 1013 Main St\, Kerrville\, TX\, 78028
CATEGORIES:Crafts
END:VEVENT
BEGIN:VEVENT
DTSTART;TZID=America/Chicago:20250808T180000
DTEND;TZID=America/Chicago:20250808T200000
DTSTAMP:20260419T100716
CREATED:20250731T225905Z
LAST-MODIFIED:20250731T225905Z
UID:75043-1754676000-1754683200@kerrcountylead.com
SUMMARY:Him & Her Band
DESCRIPTION:
URL:https://kerrcountylead.com/event/him-her-band-5/
LOCATION:Pint & Plow Brewing Co.\, 332 Clay St\, Kerrville\, Texas\, 78028
CATEGORIES:Live music
END:VEVENT
BEGIN:VEVENT
DTSTART;TZID=America/Chicago:20250808T180000
DTEND;TZID=America/Chicago:20250808T210000
DTSTAMP:20260419T100716
CREATED:20250801T020815Z
LAST-MODIFIED:20250801T020815Z
UID:75154-1754676000-1754686800@kerrcountylead.com
SUMMARY:Stan Morris
DESCRIPTION:
URL:https://kerrcountylead.com/event/stan-morris-25/
LOCATION:Cafe at the Ridge\, 13439 S. Ranch Road 783\, Kerrville\, Texas\, 78028
CATEGORIES:Live music
END:VEVENT
BEGIN:VEVENT
DTSTART;TZID=America/Chicago:20250808T190000
DTEND;TZID=America/Chicago:20250808T210000
DTSTAMP:20260419T100716
CREATED:20250803T185325Z
LAST-MODIFIED:20250803T185325Z
UID:75332-1754679600-1754686800@kerrcountylead.com
SUMMARY:Rectangle Tray Paint & Sip
DESCRIPTION:
URL:https://kerrcountylead.com/event/rectangle-tray-paint-sip/
LOCATION:The Color of Clay\, 93 Coronado Drive N Ste 2\, Kerrville\, TX\, 78028
CATEGORIES:Crafts
END:VEVENT
BEGIN:VEVENT
DTSTART;TZID=America/Chicago:20250808T190000
DTEND;TZID=America/Chicago:20250808T220000
DTSTAMP:20260419T100716
CREATED:20250801T014841Z
LAST-MODIFIED:20250801T014841Z
UID:75133-1754679600-1754690400@kerrcountylead.com
SUMMARY:The Limestoners
DESCRIPTION:
URL:https://kerrcountylead.com/event/the-limestoners-14/
LOCATION:Truffles & Vines\, 321 TX 39\, Ingram\, TX\, 78025
CATEGORIES:Live music
END:VEVENT
BEGIN:VEVENT
DTSTART;TZID=America/Chicago:20250808T190000
DTEND;TZID=America/Chicago:20250808T230000
DTSTAMP:20260419T100716
CREATED:20250803T171058Z
LAST-MODIFIED:20250803T171058Z
UID:75269-1754679600-1754694000@kerrcountylead.com
SUMMARY:Game Night
DESCRIPTION:
URL:https://kerrcountylead.com/event/game-night-17/
LOCATION:Doyle Community Center\, 110 W. Barnett St.\, Kerrville\, Texas\, 78028
CATEGORIES:Games
END:VEVENT
BEGIN:VEVENT
DTSTART;TZID=America/Chicago:20250808T200000
DTEND;TZID=America/Chicago:20250808T230000
DTSTAMP:20260419T100716
CREATED:20250803T183808Z
LAST-MODIFIED:20250803T183808Z
UID:75326-1754683200-1754694000@kerrcountylead.com
SUMMARY:Jimmy Lee Jones
DESCRIPTION:
URL:https://kerrcountylead.com/event/jimmy-lee-jones-4/
LOCATION:Howdy’s Bar & Chill\, 101 Rowland Dr\, Kerrville\, TX\, 78028
CATEGORIES:Live music
END:VEVENT
BEGIN:VEVENT
DTSTART;TZID=America/Chicago:20250809T070000
DTEND;TZID=America/Chicago:20250809T080000
DTSTAMP:20260419T100716
CREATED:20250801T020925Z
LAST-MODIFIED:20250801T020925Z
UID:75156-1754722800-1754726400@kerrcountylead.com
SUMMARY:Full Moon Yoga
DESCRIPTION:
URL:https://kerrcountylead.com/event/full-moon-yoga-11/
LOCATION:The Ridge Marketplace\, 13439 S Ranch Road 783\, Kerrville\, TX\, 78028
CATEGORIES:Wellness
END:VEVENT
BEGIN:VEVENT
DTSTART;TZID=America/Chicago:20250809T073000
DTEND;TZID=America/Chicago:20250809T073000
DTSTAMP:20260419T100716
CREATED:20250803T180645Z
LAST-MODIFIED:20250803T180645Z
UID:75308-1754724600-1754724600@kerrcountylead.com
SUMMARY:Kerrville Walking Group
DESCRIPTION:Join the KWG on Saturday mornings for nature walks. Most routes are 2-4 miles. Visit website for exact meeting location and further details.
URL:https://kerrcountylead.com/event/kerrville-walking-group-58/
LOCATION:Various Locations
CATEGORIES:Outdoor activities
END:VEVENT
BEGIN:VEVENT
DTSTART;TZID=America/Chicago:20250809T090000
DTEND;TZID=America/Chicago:20250809T120000
DTSTAMP:20260419T100716
CREATED:20250803T171242Z
LAST-MODIFIED:20250803T171242Z
UID:75271-1754730000-1754740800@kerrcountylead.com
SUMMARY:Pioneer Day Camp
DESCRIPTION:Ages 17 and under. Call (830) 257-4446 to register.
URL:https://kerrcountylead.com/event/pioneer-day-camp/
LOCATION:Doyle Community Center\, 110 W. Barnett St.\, Kerrville\, Texas\, 78028
CATEGORIES:Day camp,History
END:VEVENT
BEGIN:VEVENT
DTSTART;TZID=America/Chicago:20250809T090000
DTEND;TZID=America/Chicago:20250809T120000
DTSTAMP:20260419T100716
CREATED:20250803T192449Z
LAST-MODIFIED:20250803T192449Z
UID:75342-1754730000-1754740800@kerrcountylead.com
SUMMARY:Back to School Bash
DESCRIPTION:Food\, face paint\, haircuts\, eye exams!
URL:https://kerrcountylead.com/event/back-to-school-bash-4/
LOCATION:Kerrville Kroc Center\, 201 Holdsworth Dr\, Kerrville\, TX\, 78028
CATEGORIES:Back to school
END:VEVENT
BEGIN:VEVENT
DTSTART;TZID=America/Chicago:20250809T090000
DTEND;TZID=America/Chicago:20250809T130000
DTSTAMP:20260419T100716
CREATED:20250803T180743Z
LAST-MODIFIED:20250803T180743Z
UID:75310-1754730000-1754744400@kerrcountylead.com
SUMMARY:Hill Country Heritage Farmers Market
DESCRIPTION:
URL:https://kerrcountylead.com/event/hill-country-heritage-farmers-market-8/
LOCATION:Parking Lot @ 5 Points\, 301 Junction Hwy\, Kerrville\, TX\, 78028
CATEGORIES:Markets
END:VEVENT
BEGIN:VEVENT
DTSTART;TZID=America/Chicago:20250809T090000
DTEND;TZID=America/Chicago:20250809T130000
DTSTAMP:20260419T100716
CREATED:20250803T180823Z
LAST-MODIFIED:20250803T180823Z
UID:75312-1754730000-1754744400@kerrcountylead.com
SUMMARY:Heart of the Hills Farmers Market
DESCRIPTION:
URL:https://kerrcountylead.com/event/heart-of-the-hills-farmers-market-8/
LOCATION:Parking Lot @ 741 Water St\, 741 Water St\, Kerrville\, TX\, 78028
CATEGORIES:Markets
END:VEVENT
BEGIN:VEVENT
DTSTART;TZID=America/Chicago:20250809T100000
DTEND;TZID=America/Chicago:20250809T160000
DTSTAMP:20260419T100716
CREATED:20250109T192409Z
LAST-MODIFIED:20250830T235751Z
UID:64126-1754733600-1754755200@kerrcountylead.com
SUMMARY:Wildlife Icons of the American West
DESCRIPTION:Photos by wildlife photographer Rachel Spencer. July 19 – August 30.
URL:https://kerrcountylead.com/event/wildlife-icons-of-the-american-west-24/
LOCATION:Museum of Western Art\, 1550 Bandera Hwy.\, Kerrville\, Texas\, 78028
CATEGORIES:The arts
END:VEVENT
BEGIN:VEVENT
DTSTART;TZID=America/Chicago:20250809T100000
DTEND;TZID=America/Chicago:20250809T160000
DTSTAMP:20260419T100716
CREATED:20250728T211742Z
LAST-MODIFIED:20250728T211742Z
UID:74734-1754733600-1754755200@kerrcountylead.com
SUMMARY:KACC Exhibits
DESCRIPTION:July 17-August 16. Tues-Sat\, 10am-4pm. Nature Journaling by Rebecca Stapleton & Ele Chew\, Photography by J. Reagan Ferguson\, and Photo Quest: Hill Country Camera Club Annual Judged Exhibit. 
URL:https://kerrcountylead.com/event/kacc-exhibits-19/
LOCATION:Kerr Arts & Cultural Center\, 228 Earl Garrett St.\, Kerrville\, Texas\, 78028
CATEGORIES:The arts
END:VEVENT
BEGIN:VEVENT
DTSTART;TZID=America/Chicago:20250809T100000
DTEND;TZID=America/Chicago:20250809T170000
DTSTAMP:20260419T100716
CREATED:20250817T210712Z
LAST-MODIFIED:20250817T210712Z
UID:75771-1754733600-1754758800@kerrcountylead.com
SUMMARY:Pop Up Carnival
DESCRIPTION:Free Admission! Bounce houses\, slides\, carnival swings\, obstacle courses! Open daily 10am to 5pm through August 12.
URL:https://kerrcountylead.com/event/pop-up-carnival-2/
LOCATION:Kerrville Schreiner Park\, 2385 Bandera Hwy\, Kerrville\, TX\, 78028
END:VEVENT
BEGIN:VEVENT
DTSTART;TZID=America/Chicago:20250809T110000
DTEND;TZID=America/Chicago:20250809T140000
DTSTAMP:20260419T100716
CREATED:20250803T162348Z
LAST-MODIFIED:20250803T162348Z
UID:75243-1754737200-1754748000@kerrcountylead.com
SUMMARY:Friends of the Library Book Sale
DESCRIPTION:
URL:https://kerrcountylead.com/event/friends-of-the-library-book-sale-132/
LOCATION:Butt-Holdsworth Memorial Library\, 505 Water St.\, Kerrville\, Texas\, 78028
CATEGORIES:Library event
END:VEVENT
BEGIN:VEVENT
DTSTART;TZID=America/Chicago:20250809T130000
DTEND;TZID=America/Chicago:20250809T130000
DTSTAMP:20260419T100716
CREATED:20250803T191656Z
LAST-MODIFIED:20250803T191656Z
UID:75338-1754744400-1754744400@kerrcountylead.com
SUMMARY:Poker Tournament
DESCRIPTION:
URL:https://kerrcountylead.com/event/poker-tournament/
LOCATION:Tailchasers Patio + Pub\, 516 Jefferson St\, Kerrville\, TX\, 78028
CATEGORIES:Games
END:VEVENT
END:VCALENDAR