BEGIN:VCALENDAR
VERSION:2.0
PRODID:-//The Kerr County Lead - ECPv6.15.17.1//NONSGML v1.0//EN
CALSCALE:GREGORIAN
METHOD:PUBLISH
X-ORIGINAL-URL:https://kerrcountylead.com
X-WR-CALDESC:Events for The Kerr County Lead
REFRESH-INTERVAL;VALUE=DURATION:PT1H
X-Robots-Tag:noindex
X-PUBLISHED-TTL:PT1H
BEGIN:VTIMEZONE
TZID:America/Chicago
BEGIN:DAYLIGHT
TZOFFSETFROM:-0600
TZOFFSETTO:-0500
TZNAME:CDT
DTSTART:20230312T080000
END:DAYLIGHT
BEGIN:STANDARD
TZOFFSETFROM:-0500
TZOFFSETTO:-0600
TZNAME:CST
DTSTART:20231105T070000
END:STANDARD
BEGIN:DAYLIGHT
TZOFFSETFROM:-0600
TZOFFSETTO:-0500
TZNAME:CDT
DTSTART:20240310T080000
END:DAYLIGHT
BEGIN:STANDARD
TZOFFSETFROM:-0500
TZOFFSETTO:-0600
TZNAME:CST
DTSTART:20241103T070000
END:STANDARD
BEGIN:DAYLIGHT
TZOFFSETFROM:-0600
TZOFFSETTO:-0500
TZNAME:CDT
DTSTART:20250309T080000
END:DAYLIGHT
BEGIN:STANDARD
TZOFFSETFROM:-0500
TZOFFSETTO:-0600
TZNAME:CST
DTSTART:20251102T070000
END:STANDARD
END:VTIMEZONE
BEGIN:VEVENT
DTSTART;TZID=America/Chicago:20240721T140000
DTEND;TZID=America/Chicago:20240721T170000
DTSTAMP:20260425T155117
CREATED:20240717T160152Z
LAST-MODIFIED:20240717T160152Z
UID:54607-1721570400-1721581200@kerrcountylead.com
SUMMARY:Bill Mahko
DESCRIPTION:
URL:https://kerrcountylead.com/event/bill-mahko-11/
LOCATION:Bending Branch Winery\, 142 Lindner Branch Rd\, Comfort\, Texas\, 78013
CATEGORIES:Live music
END:VEVENT
BEGIN:VEVENT
DTSTART;TZID=America/Chicago:20240721T170000
DTEND;TZID=America/Chicago:20240721T170000
DTSTAMP:20260425T155117
CREATED:20240717T160317Z
LAST-MODIFIED:20240717T160317Z
UID:54611-1721581200-1721581200@kerrcountylead.com
SUMMARY:Full Moon Yoga
DESCRIPTION:
URL:https://kerrcountylead.com/event/full-moon-yoga-6/
LOCATION:Trailhead Beer Garden\, 2100 Memorial Blvd Bldg #11\, Kerrville\, TX\, 78028\, United States
CATEGORIES:Wellness
END:VEVENT
BEGIN:VEVENT
DTSTART;TZID=America/Chicago:20240721T170000
DTEND;TZID=America/Chicago:20240721T200000
DTSTAMP:20260425T155117
CREATED:20240717T160240Z
LAST-MODIFIED:20240717T160240Z
UID:54609-1721581200-1721592000@kerrcountylead.com
SUMMARY:Gospel Sunday with Heartbreak Outlaws
DESCRIPTION:
URL:https://kerrcountylead.com/event/gospel-sunday-with-heartbreak-outlaws-2/
LOCATION:Howdy’s Bar & Chill\, 101 Rowland Dr\, Kerrville\, TX\, 78028
CATEGORIES:Live music
END:VEVENT
BEGIN:VEVENT
DTSTART;TZID=America/Chicago:20240722T080000
DTEND;TZID=America/Chicago:20240722T210000
DTSTAMP:20260425T155117
CREATED:20240628T195532Z
LAST-MODIFIED:20240628T195532Z
UID:53966-1721635200-1721682000@kerrcountylead.com
SUMMARY:Stafford Squier: Photographs
DESCRIPTION:
URL:https://kerrcountylead.com/event/stafford-squier-photographs-18/
LOCATION:Pint & Plow Brewing Co.\, 332 Clay St\, Kerrville\, Texas\, 78028
CATEGORIES:The arts
END:VEVENT
BEGIN:VEVENT
DTSTART;TZID=America/Chicago:20240722T100000
DTEND;TZID=America/Chicago:20240722T160000
DTSTAMP:20260425T155117
CREATED:20240722T180936Z
LAST-MODIFIED:20240722T180936Z
UID:54654-1721642400-1721664000@kerrcountylead.com
SUMMARY:Summer Art Mart
DESCRIPTION:
URL:https://kerrcountylead.com/event/summer-art-mart-9/
LOCATION:Hill Country Arts Foundation\, 120 Point Theatre Rd S\, Ingram\, Texas\, 78025
CATEGORIES:The arts
END:VEVENT
BEGIN:VEVENT
DTSTART;TZID=America/Chicago:20240722T100000
DTEND;TZID=America/Chicago:20240722T180000
DTSTAMP:20260425T155117
CREATED:20240628T181524Z
LAST-MODIFIED:20240628T181524Z
UID:53828-1721642400-1721671200@kerrcountylead.com
SUMMARY:Our Place in Space
DESCRIPTION:Come see the constellations in our planetarium\, learn about conserving our night skies and about our place in space!
URL:https://kerrcountylead.com/event/our-place-in-space-78/
LOCATION:Riverside Nature Center\, 150 Francisco Lemos St\, Kerrville\, Texas\, 78028
CATEGORIES:Science and nature
END:VEVENT
BEGIN:VEVENT
DTSTART;VALUE=DATE:20240723
DTEND;VALUE=DATE:20240724
DTSTAMP:20260425T155117
CREATED:20240722T183915Z
LAST-MODIFIED:20240722T183915Z
UID:54690-1721692800-1721779199@kerrcountylead.com
SUMMARY:78th Annual Heart of the Hills Golf Tournament
DESCRIPTION:See website for tournament info and schedule.
URL:https://kerrcountylead.com/event/78th-annual-heart-of-the-hills-golf-tournament/
LOCATION:Scott Schreiner Municipal Golf Course\, 1 Country Club Dr\, Kerrville\, TX\, 78028
CATEGORIES:Outdoor activities,Sports
END:VEVENT
BEGIN:VEVENT
DTSTART;TZID=America/Chicago:20240723T100000
DTEND;TZID=America/Chicago:20240723T103000
DTSTAMP:20260425T155117
CREATED:20240722T184335Z
LAST-MODIFIED:20240722T184335Z
UID:54699-1721728800-1721730600@kerrcountylead.com
SUMMARY:Story Time
DESCRIPTION:
URL:https://kerrcountylead.com/event/story-time-43/
LOCATION:Butt-Holdsworth Memorial Library\, 505 Water St.\, Kerrville\, Texas\, 78028
CATEGORIES:Library event
END:VEVENT
BEGIN:VEVENT
DTSTART;TZID=America/Chicago:20240723T100000
DTEND;TZID=America/Chicago:20240723T110000
DTSTAMP:20260425T155117
CREATED:20240722T184730Z
LAST-MODIFIED:20240722T184730Z
UID:54707-1721728800-1721732400@kerrcountylead.com
SUMMARY:Grief Support Group
DESCRIPTION:
URL:https://kerrcountylead.com/event/grief-support-group-19/
LOCATION:Dietert Center\, 451 Guadalupe St #203\, Kerrville\, Texas\, 78028
CATEGORIES:Outreach groups
END:VEVENT
BEGIN:VEVENT
DTSTART;TZID=America/Chicago:20240723T100000
DTEND;TZID=America/Chicago:20240723T160000
DTSTAMP:20260425T155117
CREATED:20240628T183619Z
LAST-MODIFIED:20240628T183619Z
UID:53861-1721728800-1721750400@kerrcountylead.com
SUMMARY:Kerrville 101 @ KRHC
DESCRIPTION:A standing exhibit that provides an introduction to local history and stories.
URL:https://kerrcountylead.com/event/kerrville-101-krhc-159/
LOCATION:Kerr Regional History Center\, 425 Water St.\, Kerrville\, TX\, 78028\, United States
CATEGORIES:History
END:VEVENT
BEGIN:VEVENT
DTSTART;TZID=America/Chicago:20240723T100000
DTEND;TZID=America/Chicago:20240723T160000
DTSTAMP:20260425T155117
CREATED:20240628T193230Z
LAST-MODIFIED:20240628T193230Z
UID:53918-1721728800-1721750400@kerrcountylead.com
SUMMARY:KACC Art Exhibits
DESCRIPTION:Three galleries: Robert and JoAnne Spencer Watercolors\, Fiber Artists Exhibit\, Hometown Crafts Teachers Show. Through August 3. 
URL:https://kerrcountylead.com/event/kacc-art-exhibits-260/
LOCATION:Kerr Arts & Cultural Center\, 228 Earl Garrett St.\, Kerrville\, Texas\, 78028
CATEGORIES:The arts
END:VEVENT
BEGIN:VEVENT
DTSTART;TZID=America/Chicago:20240723T100000
DTEND;TZID=America/Chicago:20240723T160000
DTSTAMP:20260425T155117
CREATED:20240722T181013Z
LAST-MODIFIED:20240722T181013Z
UID:54656-1721728800-1721750400@kerrcountylead.com
SUMMARY:Summer Art Mart
DESCRIPTION:
URL:https://kerrcountylead.com/event/summer-art-mart-10/
LOCATION:Hill Country Arts Foundation\, 120 Point Theatre Rd S\, Ingram\, Texas\, 78025
CATEGORIES:The arts
END:VEVENT
BEGIN:VEVENT
DTSTART;TZID=America/Chicago:20240723T100000
DTEND;TZID=America/Chicago:20240723T160000
DTSTAMP:20260425T155117
CREATED:20240722T182603Z
LAST-MODIFIED:20240722T182603Z
UID:54672-1721728800-1721750400@kerrcountylead.com
SUMMARY:Two Perspectives: Scott Christensen & Quang Ho
DESCRIPTION:
URL:https://kerrcountylead.com/event/two-perspectives-scott-christensen-quang-ho/
LOCATION:Museum of Western Art\, 1550 Bandera Hwy.\, Kerrville\, Texas\, 78028
CATEGORIES:The arts
END:VEVENT
BEGIN:VEVENT
DTSTART;TZID=America/Chicago:20240723T100000
DTEND;TZID=America/Chicago:20240723T180000
DTSTAMP:20260425T155117
CREATED:20240628T181600Z
LAST-MODIFIED:20240628T181600Z
UID:53830-1721728800-1721757600@kerrcountylead.com
SUMMARY:Our Place in Space
DESCRIPTION:Come see the constellations in our planetarium\, learn about conserving our night skies and about our place in space!
URL:https://kerrcountylead.com/event/our-place-in-space-79/
LOCATION:Riverside Nature Center\, 150 Francisco Lemos St\, Kerrville\, Texas\, 78028
CATEGORIES:Science and nature
END:VEVENT
BEGIN:VEVENT
DTSTART;TZID=America/Chicago:20240723T103000
DTEND;TZID=America/Chicago:20240723T110000
DTSTAMP:20260425T155117
CREATED:20240722T184413Z
LAST-MODIFIED:20240722T184413Z
UID:54701-1721730600-1721732400@kerrcountylead.com
SUMMARY:Calm & Color
DESCRIPTION:
URL:https://kerrcountylead.com/event/calm-color-16/
LOCATION:Butt-Holdsworth Memorial Library\, 505 Water St.\, Kerrville\, Texas\, 78028
CATEGORIES:Library event
END:VEVENT
BEGIN:VEVENT
DTSTART;TZID=America/Chicago:20240723T130000
DTEND;TZID=America/Chicago:20240723T170000
DTSTAMP:20260425T155117
CREATED:20240722T184848Z
LAST-MODIFIED:20240722T184848Z
UID:54709-1721739600-1721754000@kerrcountylead.com
SUMMARY:Always Learning Summer Tutoring
DESCRIPTION:Call (830) 257-4446 to reserve a tutoring session. 
URL:https://kerrcountylead.com/event/always-learning-summer-tutoring-3/
LOCATION:Doyle Community Center\, 110 W. Barnett St.\, Kerrville\, Texas\, 78028
CATEGORIES:Outreach groups
END:VEVENT
BEGIN:VEVENT
DTSTART;TZID=America/Chicago:20240723T140000
DTEND;TZID=America/Chicago:20240723T150000
DTSTAMP:20260425T155117
CREATED:20240722T184519Z
LAST-MODIFIED:20240722T184519Z
UID:54703-1721743200-1721746800@kerrcountylead.com
SUMMARY:Adventure Time with the Magic Tree House: Create an Olympic Medal: Session 1
DESCRIPTION:Registration required. For more info and to register\, click here.
URL:https://kerrcountylead.com/event/adventure-time-with-the-magic-tree-house-create-an-olympic-medal-session-1/
LOCATION:Butt-Holdsworth Memorial Library\, 505 Water St.\, Kerrville\, Texas\, 78028
CATEGORIES:Library event
END:VEVENT
BEGIN:VEVENT
DTSTART;TZID=America/Chicago:20240723T163000
DTEND;TZID=America/Chicago:20240723T163000
DTSTAMP:20260425T155117
CREATED:20240722T185008Z
LAST-MODIFIED:20240722T185008Z
UID:54711-1721752200-1721752200@kerrcountylead.com
SUMMARY:Author Signing: Nicki Dechert Carlson
DESCRIPTION:260 Thompson Dr\, 4:30 p.m. Local author Nicki Dechert Carlson will be signing copies of her new release “Inside and Out: Living Like Jesus in Today’s World” from 4:30 p.m. to 6:30 p.m. at the above address.
URL:https://kerrcountylead.com/event/author-signing-nicki-dechert-carlson/
LOCATION:TX
CATEGORIES:Literary event
END:VEVENT
BEGIN:VEVENT
DTSTART;VALUE=DATE:20240724
DTEND;VALUE=DATE:20240725
DTSTAMP:20260425T155117
CREATED:20240722T184041Z
LAST-MODIFIED:20240722T184041Z
UID:54693-1721779200-1721865599@kerrcountylead.com
SUMMARY:78th Annual Heart of the Hills Golf Tournament
DESCRIPTION:See website for tournament info and schedule.
URL:https://kerrcountylead.com/event/78th-annual-heart-of-the-hills-golf-tournament-2/
LOCATION:Scott Schreiner Municipal Golf Course\, 1 Country Club Dr\, Kerrville\, TX\, 78028
CATEGORIES:Outdoor activities,Sports
END:VEVENT
BEGIN:VEVENT
DTSTART;TZID=America/Chicago:20240724T100000
DTEND;TZID=America/Chicago:20240724T110000
DTSTAMP:20260425T155117
CREATED:20240722T185313Z
LAST-MODIFIED:20240722T185313Z
UID:54719-1721815200-1721818800@kerrcountylead.com
SUMMARY:BK Bones
DESCRIPTION:
URL:https://kerrcountylead.com/event/bk-bones/
LOCATION:Cailloux Theater\, 910 Main St.\, Kerrville\, Texas\, 78028
CATEGORIES:Library event
END:VEVENT
BEGIN:VEVENT
DTSTART;TZID=America/Chicago:20240724T100000
DTEND;TZID=America/Chicago:20240724T160000
DTSTAMP:20260425T155117
CREATED:20240628T183657Z
LAST-MODIFIED:20240628T183657Z
UID:53863-1721815200-1721836800@kerrcountylead.com
SUMMARY:Kerrville 101 @ KRHC
DESCRIPTION:A standing exhibit that provides an introduction to local history and stories.
URL:https://kerrcountylead.com/event/kerrville-101-krhc-160/
LOCATION:Kerr Regional History Center\, 425 Water St.\, Kerrville\, TX\, 78028\, United States
CATEGORIES:History
END:VEVENT
BEGIN:VEVENT
DTSTART;TZID=America/Chicago:20240724T100000
DTEND;TZID=America/Chicago:20240724T160000
DTSTAMP:20260425T155117
CREATED:20240628T193313Z
LAST-MODIFIED:20240628T193313Z
UID:53920-1721815200-1721836800@kerrcountylead.com
SUMMARY:KACC Art Exhibits
DESCRIPTION:Three galleries: Robert and JoAnne Spencer Watercolors\, Fiber Artists Exhibit\, Hometown Crafts Teachers Show. Through August 3. 
URL:https://kerrcountylead.com/event/kacc-art-exhibits-261/
LOCATION:Kerr Arts & Cultural Center\, 228 Earl Garrett St.\, Kerrville\, Texas\, 78028
CATEGORIES:The arts
END:VEVENT
BEGIN:VEVENT
DTSTART;TZID=America/Chicago:20240724T100000
DTEND;TZID=America/Chicago:20240724T160000
DTSTAMP:20260425T155117
CREATED:20240722T181047Z
LAST-MODIFIED:20240722T181047Z
UID:54658-1721815200-1721836800@kerrcountylead.com
SUMMARY:Summer Art Mart
DESCRIPTION:
URL:https://kerrcountylead.com/event/summer-art-mart-11/
LOCATION:Hill Country Arts Foundation\, 120 Point Theatre Rd S\, Ingram\, Texas\, 78025
CATEGORIES:The arts
END:VEVENT
BEGIN:VEVENT
DTSTART;TZID=America/Chicago:20240724T100000
DTEND;TZID=America/Chicago:20240724T160000
DTSTAMP:20260425T155117
CREATED:20240722T182719Z
LAST-MODIFIED:20240722T182719Z
UID:54676-1721815200-1721836800@kerrcountylead.com
SUMMARY:Two Perspectives: Scott Christensen & Quang Ho
DESCRIPTION:
URL:https://kerrcountylead.com/event/two-perspectives-scott-christensen-quang-ho-3/
LOCATION:Museum of Western Art\, 1550 Bandera Hwy.\, Kerrville\, Texas\, 78028
CATEGORIES:The arts
END:VEVENT
BEGIN:VEVENT
DTSTART;TZID=America/Chicago:20240724T100000
DTEND;TZID=America/Chicago:20240724T180000
DTSTAMP:20260425T155117
CREATED:20240628T181637Z
LAST-MODIFIED:20240628T181637Z
UID:53832-1721815200-1721844000@kerrcountylead.com
SUMMARY:Our Place in Space
DESCRIPTION:Come see the constellations in our planetarium\, learn about conserving our night skies and about our place in space!
URL:https://kerrcountylead.com/event/our-place-in-space-80/
LOCATION:Riverside Nature Center\, 150 Francisco Lemos St\, Kerrville\, Texas\, 78028
CATEGORIES:Science and nature
END:VEVENT
BEGIN:VEVENT
DTSTART;TZID=America/Chicago:20240724T130000
DTEND;TZID=America/Chicago:20240724T150000
DTSTAMP:20260425T155117
CREATED:20240722T185357Z
LAST-MODIFIED:20240722T185357Z
UID:54721-1721826000-1721833200@kerrcountylead.com
SUMMARY:Friends of the Library Book Sale
DESCRIPTION:
URL:https://kerrcountylead.com/event/friends-of-the-library-book-sale-86/
LOCATION:Butt-Holdsworth Memorial Library\, 505 Water St.\, Kerrville\, Texas\, 78028
CATEGORIES:Library event
END:VEVENT
BEGIN:VEVENT
DTSTART;TZID=America/Chicago:20240724T163000
DTEND;TZID=America/Chicago:20240724T174500
DTSTAMP:20260425T155117
CREATED:20240722T185504Z
LAST-MODIFIED:20240722T185504Z
UID:54723-1721838600-1721843100@kerrcountylead.com
SUMMARY:ABCDs of Medicare
DESCRIPTION:
URL:https://kerrcountylead.com/event/abcds-of-medicare-6/
LOCATION:Butt-Holdsworth Memorial Library\, 505 Water St.\, Kerrville\, Texas\, 78028
CATEGORIES:Library event,Outreach groups
END:VEVENT
BEGIN:VEVENT
DTSTART;TZID=America/Chicago:20240724T170000
DTEND;TZID=America/Chicago:20240724T210000
DTSTAMP:20260425T155117
CREATED:20240722T185614Z
LAST-MODIFIED:20240722T185614Z
UID:54725-1721840400-1721854800@kerrcountylead.com
SUMMARY:Shim’s Be Blessed: Pizza Night!
DESCRIPTION:Pizza Night at Trailhead! Shim’s will be serving wood-fired pizzas and Trailhead will have $20 bottles of Texas wines.
URL:https://kerrcountylead.com/event/shims-be-blessed-pizza-night-30/
LOCATION:Trailhead Beer Garden\, 2100 Memorial Blvd Bldg #11\, Kerrville\, TX\, 78028\, United States
CATEGORIES:Food truck 411
END:VEVENT
BEGIN:VEVENT
DTSTART;VALUE=DATE:20240725
DTEND;VALUE=DATE:20240726
DTSTAMP:20260425T155117
CREATED:20240722T184142Z
LAST-MODIFIED:20240722T184142Z
UID:54695-1721865600-1721951999@kerrcountylead.com
SUMMARY:78th Annual Heart of the Hills Golf Tournament
DESCRIPTION:See website for tournament info and schedule.
URL:https://kerrcountylead.com/event/78th-annual-heart-of-the-hills-golf-tournament-3/
LOCATION:Scott Schreiner Municipal Golf Course\, 1 Country Club Dr\, Kerrville\, TX\, 78028
CATEGORIES:Outdoor activities,Sports
END:VEVENT
BEGIN:VEVENT
DTSTART;TZID=America/Chicago:20240725T100000
DTEND;TZID=America/Chicago:20240725T160000
DTSTAMP:20260425T155117
CREATED:20240628T183738Z
LAST-MODIFIED:20240628T183738Z
UID:53865-1721901600-1721923200@kerrcountylead.com
SUMMARY:Kerrville 101 @ KRHC
DESCRIPTION:A standing exhibit that provides an introduction to local history and stories.
URL:https://kerrcountylead.com/event/kerrville-101-krhc-161/
LOCATION:Kerr Regional History Center\, 425 Water St.\, Kerrville\, TX\, 78028\, United States
CATEGORIES:History
END:VEVENT
END:VCALENDAR