BEGIN:VCALENDAR
VERSION:2.0
PRODID:-//The Kerr County Lead - ECPv6.15.17.1//NONSGML v1.0//EN
CALSCALE:GREGORIAN
METHOD:PUBLISH
X-ORIGINAL-URL:https://kerrcountylead.com
X-WR-CALDESC:Events for The Kerr County Lead
REFRESH-INTERVAL;VALUE=DURATION:PT1H
X-Robots-Tag:noindex
X-PUBLISHED-TTL:PT1H
BEGIN:VTIMEZONE
TZID:America/Chicago
BEGIN:DAYLIGHT
TZOFFSETFROM:-0600
TZOFFSETTO:-0500
TZNAME:CDT
DTSTART:20240310T080000
END:DAYLIGHT
BEGIN:STANDARD
TZOFFSETFROM:-0500
TZOFFSETTO:-0600
TZNAME:CST
DTSTART:20241103T070000
END:STANDARD
BEGIN:DAYLIGHT
TZOFFSETFROM:-0600
TZOFFSETTO:-0500
TZNAME:CDT
DTSTART:20250309T080000
END:DAYLIGHT
BEGIN:STANDARD
TZOFFSETFROM:-0500
TZOFFSETTO:-0600
TZNAME:CST
DTSTART:20251102T070000
END:STANDARD
BEGIN:DAYLIGHT
TZOFFSETFROM:-0600
TZOFFSETTO:-0500
TZNAME:CDT
DTSTART:20260308T080000
END:DAYLIGHT
BEGIN:STANDARD
TZOFFSETFROM:-0500
TZOFFSETTO:-0600
TZNAME:CST
DTSTART:20261101T070000
END:STANDARD
END:VTIMEZONE
BEGIN:VEVENT
DTSTART;TZID=America/Chicago:20250809T073000
DTEND;TZID=America/Chicago:20250809T073000
DTSTAMP:20260421T072029
CREATED:20250803T180645Z
LAST-MODIFIED:20250803T180645Z
UID:75308-1754724600-1754724600@kerrcountylead.com
SUMMARY:Kerrville Walking Group
DESCRIPTION:Join the KWG on Saturday mornings for nature walks. Most routes are 2-4 miles. Visit website for exact meeting location and further details.
URL:https://kerrcountylead.com/event/kerrville-walking-group-58/
LOCATION:Various Locations
CATEGORIES:Outdoor activities
END:VEVENT
BEGIN:VEVENT
DTSTART;TZID=America/Chicago:20250809T090000
DTEND;TZID=America/Chicago:20250809T120000
DTSTAMP:20260421T072029
CREATED:20250803T171242Z
LAST-MODIFIED:20250803T171242Z
UID:75271-1754730000-1754740800@kerrcountylead.com
SUMMARY:Pioneer Day Camp
DESCRIPTION:Ages 17 and under. Call (830) 257-4446 to register.
URL:https://kerrcountylead.com/event/pioneer-day-camp/
LOCATION:Doyle Community Center\, 110 W. Barnett St.\, Kerrville\, Texas\, 78028
CATEGORIES:Day camp,History
END:VEVENT
BEGIN:VEVENT
DTSTART;TZID=America/Chicago:20250809T090000
DTEND;TZID=America/Chicago:20250809T120000
DTSTAMP:20260421T072029
CREATED:20250803T192449Z
LAST-MODIFIED:20250803T192449Z
UID:75342-1754730000-1754740800@kerrcountylead.com
SUMMARY:Back to School Bash
DESCRIPTION:Food\, face paint\, haircuts\, eye exams!
URL:https://kerrcountylead.com/event/back-to-school-bash-4/
LOCATION:Kerrville Kroc Center\, 201 Holdsworth Dr\, Kerrville\, TX\, 78028
CATEGORIES:Back to school
END:VEVENT
BEGIN:VEVENT
DTSTART;TZID=America/Chicago:20250809T090000
DTEND;TZID=America/Chicago:20250809T130000
DTSTAMP:20260421T072029
CREATED:20250803T180743Z
LAST-MODIFIED:20250803T180743Z
UID:75310-1754730000-1754744400@kerrcountylead.com
SUMMARY:Hill Country Heritage Farmers Market
DESCRIPTION:
URL:https://kerrcountylead.com/event/hill-country-heritage-farmers-market-8/
LOCATION:Parking Lot @ 5 Points\, 301 Junction Hwy\, Kerrville\, TX\, 78028
CATEGORIES:Markets
END:VEVENT
BEGIN:VEVENT
DTSTART;TZID=America/Chicago:20250809T090000
DTEND;TZID=America/Chicago:20250809T130000
DTSTAMP:20260421T072029
CREATED:20250803T180823Z
LAST-MODIFIED:20250803T180823Z
UID:75312-1754730000-1754744400@kerrcountylead.com
SUMMARY:Heart of the Hills Farmers Market
DESCRIPTION:
URL:https://kerrcountylead.com/event/heart-of-the-hills-farmers-market-8/
LOCATION:Parking Lot @ 741 Water St\, 741 Water St\, Kerrville\, TX\, 78028
CATEGORIES:Markets
END:VEVENT
BEGIN:VEVENT
DTSTART;TZID=America/Chicago:20250809T100000
DTEND;TZID=America/Chicago:20250809T160000
DTSTAMP:20260421T072029
CREATED:20250109T192409Z
LAST-MODIFIED:20250830T235751Z
UID:64126-1754733600-1754755200@kerrcountylead.com
SUMMARY:Wildlife Icons of the American West
DESCRIPTION:Photos by wildlife photographer Rachel Spencer. July 19 – August 30.
URL:https://kerrcountylead.com/event/wildlife-icons-of-the-american-west-24/
LOCATION:Museum of Western Art\, 1550 Bandera Hwy.\, Kerrville\, Texas\, 78028
CATEGORIES:The arts
END:VEVENT
BEGIN:VEVENT
DTSTART;TZID=America/Chicago:20250809T100000
DTEND;TZID=America/Chicago:20250809T160000
DTSTAMP:20260421T072029
CREATED:20250728T211742Z
LAST-MODIFIED:20250728T211742Z
UID:74734-1754733600-1754755200@kerrcountylead.com
SUMMARY:KACC Exhibits
DESCRIPTION:July 17-August 16. Tues-Sat\, 10am-4pm. Nature Journaling by Rebecca Stapleton & Ele Chew\, Photography by J. Reagan Ferguson\, and Photo Quest: Hill Country Camera Club Annual Judged Exhibit. 
URL:https://kerrcountylead.com/event/kacc-exhibits-19/
LOCATION:Kerr Arts & Cultural Center\, 228 Earl Garrett St.\, Kerrville\, Texas\, 78028
CATEGORIES:The arts
END:VEVENT
BEGIN:VEVENT
DTSTART;TZID=America/Chicago:20250809T100000
DTEND;TZID=America/Chicago:20250809T170000
DTSTAMP:20260421T072029
CREATED:20250817T210712Z
LAST-MODIFIED:20250817T210712Z
UID:75771-1754733600-1754758800@kerrcountylead.com
SUMMARY:Pop Up Carnival
DESCRIPTION:Free Admission! Bounce houses\, slides\, carnival swings\, obstacle courses! Open daily 10am to 5pm through August 12.
URL:https://kerrcountylead.com/event/pop-up-carnival-2/
LOCATION:Kerrville Schreiner Park\, 2385 Bandera Hwy\, Kerrville\, TX\, 78028
END:VEVENT
BEGIN:VEVENT
DTSTART;TZID=America/Chicago:20250809T110000
DTEND;TZID=America/Chicago:20250809T140000
DTSTAMP:20260421T072029
CREATED:20250803T162348Z
LAST-MODIFIED:20250803T162348Z
UID:75243-1754737200-1754748000@kerrcountylead.com
SUMMARY:Friends of the Library Book Sale
DESCRIPTION:
URL:https://kerrcountylead.com/event/friends-of-the-library-book-sale-132/
LOCATION:Butt-Holdsworth Memorial Library\, 505 Water St.\, Kerrville\, Texas\, 78028
CATEGORIES:Library event
END:VEVENT
BEGIN:VEVENT
DTSTART;TZID=America/Chicago:20250809T130000
DTEND;TZID=America/Chicago:20250809T130000
DTSTAMP:20260421T072029
CREATED:20250803T191656Z
LAST-MODIFIED:20250803T191656Z
UID:75338-1754744400-1754744400@kerrcountylead.com
SUMMARY:Poker Tournament
DESCRIPTION:
URL:https://kerrcountylead.com/event/poker-tournament/
LOCATION:Tailchasers Patio + Pub\, 516 Jefferson St\, Kerrville\, TX\, 78028
CATEGORIES:Games
END:VEVENT
BEGIN:VEVENT
DTSTART;TZID=America/Chicago:20250809T160000
DTEND;TZID=America/Chicago:20250809T180000
DTSTAMP:20260421T072029
CREATED:20250803T174150Z
LAST-MODIFIED:20250803T174150Z
UID:75282-1754755200-1754762400@kerrcountylead.com
SUMMARY:Rug Hooking for Beginners
DESCRIPTION:For more info\, click here.
URL:https://kerrcountylead.com/event/rug-hooking-for-beginners-2/
LOCATION:The Rogue Skein\, 1013 Main St\, Kerrville\, TX\, 78028
CATEGORIES:Crafts
END:VEVENT
BEGIN:VEVENT
DTSTART;TZID=America/Chicago:20250809T170000
DTEND;TZID=America/Chicago:20250809T200000
DTSTAMP:20260421T072029
CREATED:20250803T184508Z
LAST-MODIFIED:20250803T184508Z
UID:75330-1754758800-1754769600@kerrcountylead.com
SUMMARY:Dave Kemp
DESCRIPTION:
URL:https://kerrcountylead.com/event/dave-kemp-32/
LOCATION:Singing Water Vineyards\, 316 Mill Dam Rd\, Comfort\, TX\, 78013
CATEGORIES:Live music
END:VEVENT
BEGIN:VEVENT
DTSTART;TZID=America/Chicago:20250809T180000
DTEND;TZID=America/Chicago:20250809T210000
DTSTAMP:20260421T072029
CREATED:20250801T021032Z
LAST-MODIFIED:20250801T021032Z
UID:75158-1754762400-1754773200@kerrcountylead.com
SUMMARY:Train Wreck Shipping Company
DESCRIPTION:
URL:https://kerrcountylead.com/event/train-wreck-shipping-company/
LOCATION:Cafe at the Ridge\, 13439 S. Ranch Road 783\, Kerrville\, Texas\, 78028
CATEGORIES:Live music
END:VEVENT
BEGIN:VEVENT
DTSTART;TZID=America/Chicago:20250809T200000
DTEND;TZID=America/Chicago:20250809T230000
DTSTAMP:20260421T072029
CREATED:20250803T183854Z
LAST-MODIFIED:20250803T183854Z
UID:75328-1754769600-1754780400@kerrcountylead.com
SUMMARY:Cactus Country
DESCRIPTION:
URL:https://kerrcountylead.com/event/cactus-country-12/
LOCATION:Howdy’s Bar & Chill\, 101 Rowland Dr\, Kerrville\, TX\, 78028
CATEGORIES:Live music
END:VEVENT
BEGIN:VEVENT
DTSTART;TZID=America/Chicago:20250810T100000
DTEND;TZID=America/Chicago:20250810T170000
DTSTAMP:20260421T072029
CREATED:20250817T210755Z
LAST-MODIFIED:20250817T210755Z
UID:75773-1754820000-1754845200@kerrcountylead.com
SUMMARY:Pop Up Carnival
DESCRIPTION:Free Admission! Bounce houses\, slides\, carnival swings\, obstacle courses! Open daily 10am to 5pm through August 12.
URL:https://kerrcountylead.com/event/pop-up-carnival-3/
LOCATION:Kerrville Schreiner Park\, 2385 Bandera Hwy\, Kerrville\, TX\, 78028
END:VEVENT
BEGIN:VEVENT
DTSTART;TZID=America/Chicago:20250810T130000
DTEND;TZID=America/Chicago:20250810T130000
DTSTAMP:20260421T072029
CREATED:20250801T010737Z
LAST-MODIFIED:20250801T010737Z
UID:75085-1754830800-1754830800@kerrcountylead.com
SUMMARY:Kay O'Neill
DESCRIPTION:
URL:https://kerrcountylead.com/event/kay-oneill-11/
LOCATION:Gravity Check Saloon\, 3979 Bandera Hwy 173\, Kerrville\, TX\, 78028\, United States
CATEGORIES:Live music
END:VEVENT
BEGIN:VEVENT
DTSTART;TZID=America/Chicago:20250810T130000
DTEND;TZID=America/Chicago:20250810T160000
DTSTAMP:20260421T072029
CREATED:20250803T181103Z
LAST-MODIFIED:20250803T184547Z
UID:75318-1754830800-1754841600@kerrcountylead.com
SUMMARY:Meghan Oberle
DESCRIPTION:
URL:https://kerrcountylead.com/event/meghan-oberle/
LOCATION:Singing Water Vineyards\, 316 Mill Dam Rd\, Comfort\, TX\, 78013
CATEGORIES:Live music
END:VEVENT
BEGIN:VEVENT
DTSTART;TZID=America/Chicago:20250810T140000
DTEND;TZID=America/Chicago:20250810T140000
DTSTAMP:20260421T072029
CREATED:20250803T181558Z
LAST-MODIFIED:20250803T181558Z
UID:75320-1754834400-1754834400@kerrcountylead.com
SUMMARY:Backpack Bash
DESCRIPTION:A back to school benefit with a lemonade stand\, school supplies\, free haircuts\, and games.
URL:https://kerrcountylead.com/event/backpack-bash/
LOCATION:Divines Sports Bar\, 225 Earl Garrett St\, Kerrville\, TX\, 78028
CATEGORIES:Back to school
END:VEVENT
BEGIN:VEVENT
DTSTART;TZID=America/Chicago:20250810T140000
DTEND;TZID=America/Chicago:20250810T140000
DTSTAMP:20260421T072029
CREATED:20250803T182455Z
LAST-MODIFIED:20250803T182455Z
UID:75324-1754834400-1754834400@kerrcountylead.com
SUMMARY:Carter Blackburn
DESCRIPTION:
URL:https://kerrcountylead.com/event/carter-blackburn-3/
LOCATION:Central Provisions\, 227 FM 480\, Center Point\, Texas\, 78010
CATEGORIES:Live music
END:VEVENT
BEGIN:VEVENT
DTSTART;TZID=America/Chicago:20250810T140000
DTEND;TZID=America/Chicago:20250810T160000
DTSTAMP:20260421T072029
CREATED:20250731T230019Z
LAST-MODIFIED:20250731T230019Z
UID:75045-1754834400-1754841600@kerrcountylead.com
SUMMARY:Theresa’s Fiddle Jam
DESCRIPTION:
URL:https://kerrcountylead.com/event/theresas-fiddle-jam/
LOCATION:Pint & Plow Brewing Co.\, 332 Clay St\, Kerrville\, Texas\, 78028
CATEGORIES:Live music
END:VEVENT
BEGIN:VEVENT
DTSTART;TZID=America/Chicago:20250811T100000
DTEND;TZID=America/Chicago:20250811T170000
DTSTAMP:20260421T072029
CREATED:20250817T210908Z
LAST-MODIFIED:20250817T210908Z
UID:75775-1754906400-1754931600@kerrcountylead.com
SUMMARY:Pop Up Carnival
DESCRIPTION:Free Admission! Bounce houses\, slides\, carnival swings\, obstacle courses! Open daily 10am to 5pm through August 12.
URL:https://kerrcountylead.com/event/pop-up-carnival-4/
LOCATION:Kerrville Schreiner Park\, 2385 Bandera Hwy\, Kerrville\, TX\, 78028
END:VEVENT
BEGIN:VEVENT
DTSTART;TZID=America/Chicago:20250811T150000
DTEND;TZID=America/Chicago:20250811T150000
DTSTAMP:20260421T072029
CREATED:20250801T012559Z
LAST-MODIFIED:20250801T012559Z
UID:75111-1754924400-1754924400@kerrcountylead.com
SUMMARY:Veterans Yoga
DESCRIPTION:Join Rick Trzcinski of the Veterans Yoga Project every Monday for a session. The class is free for veterans.
URL:https://kerrcountylead.com/event/veterans-yoga-103/
LOCATION:Kerrville Elks Lodge\, 1907 Junction Hwy\, Kerrville\, TX\, 78028
CATEGORIES:Wellness
END:VEVENT
BEGIN:VEVENT
DTSTART;TZID=America/Chicago:20250812T100000
DTEND;TZID=America/Chicago:20250812T110000
DTSTAMP:20260421T072029
CREATED:20250801T013438Z
LAST-MODIFIED:20250801T013438Z
UID:75121-1754992800-1754996400@kerrcountylead.com
SUMMARY:Grief Support Group
DESCRIPTION:
URL:https://kerrcountylead.com/event/grief-support-group-65/
LOCATION:Peterson Hospice and Home Care Building\, 250 Cully Dr\, Kerrville\, TX\, 78028
CATEGORIES:Outreach groups
END:VEVENT
BEGIN:VEVENT
DTSTART;TZID=America/Chicago:20250812T100000
DTEND;TZID=America/Chicago:20250812T110000
DTSTAMP:20260421T072029
CREATED:20250801T021134Z
LAST-MODIFIED:20250801T021134Z
UID:75160-1754992800-1754996400@kerrcountylead.com
SUMMARY:Toddler Time
DESCRIPTION:
URL:https://kerrcountylead.com/event/toddler-time-31/
LOCATION:The Ridge Marketplace\, 13439 S Ranch Road 783\, Kerrville\, TX\, 78028
END:VEVENT
BEGIN:VEVENT
DTSTART;TZID=America/Chicago:20250812T100000
DTEND;TZID=America/Chicago:20250812T160000
DTSTAMP:20260421T072029
CREATED:20250109T192846Z
LAST-MODIFIED:20250830T235903Z
UID:64128-1754992800-1755014400@kerrcountylead.com
SUMMARY:Wildlife Icons of the American West
DESCRIPTION:Photos by wildlife photographer Rachel Spencer. July 19 – August 30.
URL:https://kerrcountylead.com/event/wildlife-icons-of-the-american-west-25/
LOCATION:Museum of Western Art\, 1550 Bandera Hwy.\, Kerrville\, Texas\, 78028
CATEGORIES:The arts
END:VEVENT
BEGIN:VEVENT
DTSTART;TZID=America/Chicago:20250812T100000
DTEND;TZID=America/Chicago:20250812T160000
DTSTAMP:20260421T072029
CREATED:20250728T211820Z
LAST-MODIFIED:20250728T211820Z
UID:74736-1754992800-1755014400@kerrcountylead.com
SUMMARY:KACC Exhibits
DESCRIPTION:July 17-August 16. Tues-Sat\, 10am-4pm. Nature Journaling by Rebecca Stapleton & Ele Chew\, Photography by J. Reagan Ferguson\, and Photo Quest: Hill Country Camera Club Annual Judged Exhibit. 
URL:https://kerrcountylead.com/event/kacc-exhibits-20/
LOCATION:Kerr Arts & Cultural Center\, 228 Earl Garrett St.\, Kerrville\, Texas\, 78028
CATEGORIES:The arts
END:VEVENT
BEGIN:VEVENT
DTSTART;TZID=America/Chicago:20250812T100000
DTEND;TZID=America/Chicago:20250812T160000
DTSTAMP:20260421T072029
CREATED:20250728T213430Z
LAST-MODIFIED:20250728T213430Z
UID:74766-1754992800-1755014400@kerrcountylead.com
SUMMARY:Counterpoint / Visual Narratives
DESCRIPTION:July 18 – August 29. Exhibit with Johnson Creek Printmakers and photography by the Kerr County Clickers.
URL:https://kerrcountylead.com/event/counterpoint-visual-narratives-18/
LOCATION:Hill Country Arts Foundation\, 120 Point Theatre Rd S\, Ingram\, Texas\, 78025
CATEGORIES:The arts
END:VEVENT
BEGIN:VEVENT
DTSTART;TZID=America/Chicago:20250812T100000
DTEND;TZID=America/Chicago:20250812T170000
DTSTAMP:20260421T072029
CREATED:20250817T210944Z
LAST-MODIFIED:20250817T210944Z
UID:75777-1754992800-1755018000@kerrcountylead.com
SUMMARY:Pop Up Carnival
DESCRIPTION:Free Admission! Bounce houses\, slides\, carnival swings\, obstacle courses! Open daily 10am to 5pm through August 12.
URL:https://kerrcountylead.com/event/pop-up-carnival-5/
LOCATION:Kerrville Schreiner Park\, 2385 Bandera Hwy\, Kerrville\, TX\, 78028
END:VEVENT
BEGIN:VEVENT
DTSTART;TZID=America/Chicago:20250812T160000
DTEND;TZID=America/Chicago:20250812T173000
DTSTAMP:20260421T072029
CREATED:20250803T162448Z
LAST-MODIFIED:20250803T162448Z
UID:75245-1755014400-1755019800@kerrcountylead.com
SUMMARY:Social Crafters
DESCRIPTION:
URL:https://kerrcountylead.com/event/social-crafters-25/
LOCATION:Butt-Holdsworth Memorial Library\, 505 Water St.\, Kerrville\, Texas\, 78028
CATEGORIES:Library event
END:VEVENT
BEGIN:VEVENT
DTSTART;TZID=America/Chicago:20250812T163000
DTEND;TZID=America/Chicago:20250812T173000
DTSTAMP:20260421T072029
CREATED:20250801T013547Z
LAST-MODIFIED:20250801T013547Z
UID:75123-1755016200-1755019800@kerrcountylead.com
SUMMARY:Becoming a Mother: Breastfeeding Class
DESCRIPTION:In Classroom B.
URL:https://kerrcountylead.com/event/becoming-a-mother-breastfeeding-class-3/
LOCATION:Peterson Health\, 551 Hill Country Dr\, Kerrville\, TX\, 78028
CATEGORIES:Outreach groups
END:VEVENT
END:VCALENDAR